Workbook

Sheet A22 textiles
A1: Table A22, 2023 edition (trade data for 2022)
A2: Top 10 exporters and importers of textiles, 2022
A3: (Billion dollars and percentage)
A5: Economy | B5: Value 2022 (US$ bn) | C5: Share 2000 (%) | D5: Share 2005 (%) | E5: Share 2010 (%) | F5: Share 2022 (%) | G5: Change 2010-22 (% p.a.) | H5: Change 2020 (%) | I5: Change 2021 (%) | J5: Change 2022 (%)
A6: Exporters
A7: China | B7: =IF('A22 data'!$AT$5="","...",'A22 data'!$AT$5/1000) | C7: =IFERROR(IF('A22 data'!$X$5="","...",'A22 data'!$X$5/'A22 data'!$X$4*100),"...") | D7: =IFERROR(IF('A22 data'!$AC$5="","...",'A22 data'!$AC$5/'A22 data'!$AC$4*100),"...") | E7: =IFERROR(IF('A22 data'!$AH$5="","...",'A22 data'!$AH$5/'A22 data'!$AH$4*100),"...") | F7: =IFERROR(IF('A22 data'!$AT$5="","...",'A22 data'!$AT$5/'A22 data'!$AT$4*100),"...") | G7: =IF(OR('A22 data'!$AT$5="",'A22 data'!$AH$5=""),"...",IFERROR((('A22 data'!$AT$5/'A22 data'!$AH$5)^(1/12)-1)*100,"...")) | H7: =IF(OR('A22 data'!$AR$5="",'A22 data'!$AQ$5=""),"...",IFERROR(('A22 data'!$AR$5/'A22 data'!$AQ$5-1)*100,"...")) | I7: =IF(OR('A22 data'!$AS$5="",'A22 data'!$AR$5=""),"...",IFERROR(('A22 data'!$AS$5/'A22 data'!$AR$5-1)*100,"...")) | J7: =IF(OR('A22 data'!$AT$5="",'A22 data'!$AS$5=""),"...",IFERROR(('A22 data'!$AT$5/'A22 data'!$AS$5-1)*100,"..."))
A8: European Union | B8: =IF('A22 data'!$AT$6="","...",'A22 data'!$AT$6/1000) | C8: =IFERROR(IF('A22 data'!$X$6="","...",'A22 data'!$X$6/'A22 data'!$X$4*100),"...") | D8: =IFERROR(IF('A22 data'!$AC$6="","...",'A22 data'!$AC$6/'A22 data'!$AC$4*100),"...") | E8: =IFERROR(IF('A22 data'!$AH$6="","...",'A22 data'!$AH$6/'A22 data'!$AH$4*100),"...") | F8: =IFERROR(IF('A22 data'!$AT$6="","...",'A22 data'!$AT$6/'A22 data'!$AT$4*100),"...") | G8: =IF(OR('A22 data'!$AT$6="",'A22 data'!$AH$6=""),"...",IFERROR((('A22 data'!$AT$6/'A22 data'!$AH$6)^(1/12)-1)*100,"...")) | H8: =IF(OR('A22 data'!$AR$6="",'A22 data'!$AQ$6=""),"...",IFERROR(('A22 data'!$AR$6/'A22 data'!$AQ$6-1)*100,"...")) | I8: =IF(OR('A22 data'!$AS$6="",'A22 data'!$AR$6=""),"...",IFERROR(('A22 data'!$AS$6/'A22 data'!$AR$6-1)*100,"...")) | J8: =IF(OR('A22 data'!$AT$6="",'A22 data'!$AS$6=""),"...",IFERROR(('A22 data'!$AT$6/'A22 data'!$AS$6-1)*100,"..."))
A9: Extra-EU | B9: =IF('A22 data'!$AT$7="","...",'A22 data'!$AT$7/1000) | C9: =IFERROR(IF('A22 data'!$X$7="","...",'A22 data'!$X$7/'A22 data'!$X$4*100),"...") | D9: =IFERROR(IF('A22 data'!$AC$7="","...",'A22 data'!$AC$7/'A22 data'!$AC$4*100),"...") | E9: =IFERROR(IF('A22 data'!$AH$7="","...",'A22 data'!$AH$7/'A22 data'!$AH$4*100),"...") | F9: =IFERROR(IF('A22 data'!$AT$7="","...",'A22 data'!$AT$7/'A22 data'!$AT$4*100),"...") | G9: =IF(OR('A22 data'!$AT$7="",'A22 data'!$AH$7=""),"...",IFERROR((('A22 data'!$AT$7/'A22 data'!$AH$7)^(1/12)-1)*100,"...")) | H9: =IF(OR('A22 data'!$AR$7="",'A22 data'!$AQ$7=""),"...",IFERROR(('A22 data'!$AR$7/'A22 data'!$AQ$7-1)*100,"...")) | I9: =IF(OR('A22 data'!$AS$7="",'A22 data'!$AR$7=""),"...",IFERROR(('A22 data'!$AS$7/'A22 data'!$AR$7-1)*100,"...")) | J9: =IF(OR('A22 data'!$AT$7="",'A22 data'!$AS$7=""),"...",IFERROR(('A22 data'!$AT$7/'A22 data'!$AS$7-1)*100,"..."))
A10: India | B10: =IF('A22 data'!$AT$8="","...",'A22 data'!$AT$8/1000) | C10: =IFERROR(IF('A22 data'!$X$8="","...",'A22 data'!$X$8/'A22 data'!$X$4*100),"...") | D10: =IFERROR(IF('A22 data'!$AC$8="","...",'A22 data'!$AC$8/'A22 data'!$AC$4*100),"...") | E10: =IFERROR(IF('A22 data'!$AH$8="","...",'A22 data'!$AH$8/'A22 data'!$AH$4*100),"...") | F10: =IFERROR(IF('A22 data'!$AT$8="","...",'A22 data'!$AT$8/'A22 data'!$AT$4*100),"...") | G10: =IF(OR('A22 data'!$AT$8="",'A22 data'!$AH$8=""),"...",IFERROR((('A22 data'!$AT$8/'A22 data'!$AH$8)^(1/12)-1)*100,"...")) | H10: =IF(OR('A22 data'!$AR$8="",'A22 data'!$AQ$8=""),"...",IFERROR(('A22 data'!$AR$8/'A22 data'!$AQ$8-1)*100,"...")) | I10: =IF(OR('A22 data'!$AS$8="",'A22 data'!$AR$8=""),"...",IFERROR(('A22 data'!$AS$8/'A22 data'!$AR$8-1)*100,"...")) | J10: =IF(OR('A22 data'!$AT$8="",'A22 data'!$AS$8=""),"...",IFERROR(('A22 data'!$AT$8/'A22 data'!$AS$8-1)*100,"..."))
A11: Türkiye | B11: =IF('A22 data'!$AT$9="","...",'A22 data'!$AT$9/1000) | C11: =IFERROR(IF('A22 data'!$X$9="","...",'A22 data'!$X$9/'A22 data'!$X$4*100),"...") | D11: =IFERROR(IF('A22 data'!$AC$9="","...",'A22 data'!$AC$9/'A22 data'!$AC$4*100),"...") | E11: =IFERROR(IF('A22 data'!$AH$9="","...",'A22 data'!$AH$9/'A22 data'!$AH$4*100),"...") | F11: =IFERROR(IF('A22 data'!$AT$9="","...",'A22 data'!$AT$9/'A22 data'!$AT$4*100),"...") | G11: =IF(OR('A22 data'!$AT$9="",'A22 data'!$AH$9=""),"...",IFERROR((('A22 data'!$AT$9/'A22 data'!$AH$9)^(1/12)-1)*100,"...")) | H11: =IF(OR('A22 data'!$AR$9="",'A22 data'!$AQ$9=""),"...",IFERROR(('A22 data'!$AR$9/'A22 data'!$AQ$9-1)*100,"...")) | I11: =IF(OR('A22 data'!$AS$9="",'A22 data'!$AR$9=""),"...",IFERROR(('A22 data'!$AS$9/'A22 data'!$AR$9-1)*100,"...")) | J11: =IF(OR('A22 data'!$AT$9="",'A22 data'!$AS$9=""),"...",IFERROR(('A22 data'!$AT$9/'A22 data'!$AS$9-1)*100,"..."))
A12: United States of America | B12: =IF('A22 data'!$AT$10="","...",'A22 data'!$AT$10/1000) | C12: =IFERROR(IF('A22 data'!$X$10="","...",'A22 data'!$X$10/'A22 data'!$X$4*100),"...") | D12: =IFERROR(IF('A22 data'!$AC$10="","...",'A22 data'!$AC$10/'A22 data'!$AC$4*100),"...") | E12: =IFERROR(IF('A22 data'!$AH$10="","...",'A22 data'!$AH$10/'A22 data'!$AH$4*100),"...") | F12: =IFERROR(IF('A22 data'!$AT$10="","...",'A22 data'!$AT$10/'A22 data'!$AT$4*100),"...") | G12: =IF(OR('A22 data'!$AT$10="",'A22 data'!$AH$10=""),"...",IFERROR((('A22 data'!$AT$10/'A22 data'!$AH$10)^(1/12)-1)*100,"...")) | H12: =IF(OR('A22 data'!$AR$10="",'A22 data'!$AQ$10=""),"...",IFERROR(('A22 data'!$AR$10/'A22 data'!$AQ$10-1)*100,"...")) | I12: =IF(OR('A22 data'!$AS$10="",'A22 data'!$AR$10=""),"...",IFERROR(('A22 data'!$AS$10/'A22 data'!$AR$10-1)*100,"...")) | J12: =IF(OR('A22 data'!$AT$10="",'A22 data'!$AS$10=""),"...",IFERROR(('A22 data'!$AT$10/'A22 data'!$AS$10-1)*100,"..."))
A13: Viet Nam | B13: =IF('A22 data'!$AT$11="","...",'A22 data'!$AT$11/1000) | C13: =IFERROR(IF('A22 data'!$X$11="","...",'A22 data'!$X$11/'A22 data'!$X$4*100),"...") | D13: =IFERROR(IF('A22 data'!$AC$11="","...",'A22 data'!$AC$11/'A22 data'!$AC$4*100),"...") | E13: =IFERROR(IF('A22 data'!$AH$11="","...",'A22 data'!$AH$11/'A22 data'!$AH$4*100),"...") | F13: =IFERROR(IF('A22 data'!$AT$11="","...",'A22 data'!$AT$11/'A22 data'!$AT$4*100),"...") | G13: =IF(OR('A22 data'!$AT$11="",'A22 data'!$AH$11=""),"...",IFERROR((('A22 data'!$AT$11/'A22 data'!$AH$11)^(1/12)-1)*100,"...")) | H13: =IF(OR('A22 data'!$AR$11="",'A22 data'!$AQ$11=""),"...",IFERROR(('A22 data'!$AR$11/'A22 data'!$AQ$11-1)*100,"...")) | I13: =IF(OR('A22 data'!$AS$11="",'A22 data'!$AR$11=""),"...",IFERROR(('A22 data'!$AS$11/'A22 data'!$AR$11-1)*100,"...")) | J13: =IF(OR('A22 data'!$AT$11="",'A22 data'!$AS$11=""),"...",IFERROR(('A22 data'!$AT$11/'A22 data'!$AS$11-1)*100,"..."))
A14: Pakistan | B14: =IF('A22 data'!$AT$12="","...",'A22 data'!$AT$12/1000) | C14: =IFERROR(IF('A22 data'!$X$12="","...",'A22 data'!$X$12/'A22 data'!$X$4*100),"...") | D14: =IFERROR(IF('A22 data'!$AC$12="","...",'A22 data'!$AC$12/'A22 data'!$AC$4*100),"...") | E14: =IFERROR(IF('A22 data'!$AH$12="","...",'A22 data'!$AH$12/'A22 data'!$AH$4*100),"...") | F14: =IFERROR(IF('A22 data'!$AT$12="","...",'A22 data'!$AT$12/'A22 data'!$AT$4*100),"...") | G14: =IF(OR('A22 data'!$AT$12="",'A22 data'!$AH$12=""),"...",IFERROR((('A22 data'!$AT$12/'A22 data'!$AH$12)^(1/12)-1)*100,"...")) | H14: =IF(OR('A22 data'!$AR$12="",'A22 data'!$AQ$12=""),"...",IFERROR(('A22 data'!$AR$12/'A22 data'!$AQ$12-1)*100,"...")) | I14: =IF(OR('A22 data'!$AS$12="",'A22 data'!$AR$12=""),"...",IFERROR(('A22 data'!$AS$12/'A22 data'!$AR$12-1)*100,"...")) | J14: =IF(OR('A22 data'!$AT$12="",'A22 data'!$AS$12=""),"...",IFERROR(('A22 data'!$AT$12/'A22 data'!$AS$12-1)*100,"..."))
A15: Chinese Taipei | B15: =IF('A22 data'!$AT$13="","...",'A22 data'!$AT$13/1000) | C15: =IFERROR(IF('A22 data'!$X$13="","...",'A22 data'!$X$13/'A22 data'!$X$4*100),"...") | D15: =IFERROR(IF('A22 data'!$AC$13="","...",'A22 data'!$AC$13/'A22 data'!$AC$4*100),"...") | E15: =IFERROR(IF('A22 data'!$AH$13="","...",'A22 data'!$AH$13/'A22 data'!$AH$4*100),"...") | F15: =IFERROR(IF('A22 data'!$AT$13="","...",'A22 data'!$AT$13/'A22 data'!$AT$4*100),"...") | G15: =IF(OR('A22 data'!$AT$13="",'A22 data'!$AH$13=""),"...",IFERROR((('A22 data'!$AT$13/'A22 data'!$AH$13)^(1/12)-1)*100,"...")) | H15: =IF(OR('A22 data'!$AR$13="",'A22 data'!$AQ$13=""),"...",IFERROR(('A22 data'!$AR$13/'A22 data'!$AQ$13-1)*100,"...")) | I15: =IF(OR('A22 data'!$AS$13="",'A22 data'!$AR$13=""),"...",IFERROR(('A22 data'!$AS$13/'A22 data'!$AR$13-1)*100,"...")) | J15: =IF(OR('A22 data'!$AT$13="",'A22 data'!$AS$13=""),"...",IFERROR(('A22 data'!$AT$13/'A22 data'!$AS$13-1)*100,"..."))
A16: Korea, Republic of | B16: =IF('A22 data'!$AT$14="","...",'A22 data'!$AT$14/1000) | C16: =IFERROR(IF('A22 data'!$X$14="","...",'A22 data'!$X$14/'A22 data'!$X$4*100),"...") | D16: =IFERROR(IF('A22 data'!$AC$14="","...",'A22 data'!$AC$14/'A22 data'!$AC$4*100),"...") | E16: =IFERROR(IF('A22 data'!$AH$14="","...",'A22 data'!$AH$14/'A22 data'!$AH$4*100),"...") | F16: =IFERROR(IF('A22 data'!$AT$14="","...",'A22 data'!$AT$14/'A22 data'!$AT$4*100),"...") | G16: =IF(OR('A22 data'!$AT$14="",'A22 data'!$AH$14=""),"...",IFERROR((('A22 data'!$AT$14/'A22 data'!$AH$14)^(1/12)-1)*100,"...")) | H16: =IF(OR('A22 data'!$AR$14="",'A22 data'!$AQ$14=""),"...",IFERROR(('A22 data'!$AR$14/'A22 data'!$AQ$14-1)*100,"...")) | I16: =IF(OR('A22 data'!$AS$14="",'A22 data'!$AR$14=""),"...",IFERROR(('A22 data'!$AS$14/'A22 data'!$AR$14-1)*100,"...")) | J16: =IF(OR('A22 data'!$AT$14="",'A22 data'!$AS$14=""),"...",IFERROR(('A22 data'!$AT$14/'A22 data'!$AS$14-1)*100,"..."))
A17: Japan | B17: =IF('A22 data'!$AT$15="","...",'A22 data'!$AT$15/1000) | C17: =IFERROR(IF('A22 data'!$X$15="","...",'A22 data'!$X$15/'A22 data'!$X$4*100),"...") | D17: =IFERROR(IF('A22 data'!$AC$15="","...",'A22 data'!$AC$15/'A22 data'!$AC$4*100),"...") | E17: =IFERROR(IF('A22 data'!$AH$15="","...",'A22 data'!$AH$15/'A22 data'!$AH$4*100),"...") | F17: =IFERROR(IF('A22 data'!$AT$15="","...",'A22 data'!$AT$15/'A22 data'!$AT$4*100),"...") | G17: =IF(OR('A22 data'!$AT$15="",'A22 data'!$AH$15=""),"...",IFERROR((('A22 data'!$AT$15/'A22 data'!$AH$15)^(1/12)-1)*100,"...")) | H17: =IF(OR('A22 data'!$AR$15="",'A22 data'!$AQ$15=""),"...",IFERROR(('A22 data'!$AR$15/'A22 data'!$AQ$15-1)*100,"...")) | I17: =IF(OR('A22 data'!$AS$15="",'A22 data'!$AR$15=""),"...",IFERROR(('A22 data'!$AS$15/'A22 data'!$AR$15-1)*100,"...")) | J17: =IF(OR('A22 data'!$AT$15="",'A22 data'!$AS$15=""),"...",IFERROR(('A22 data'!$AT$15/'A22 data'!$AS$15-1)*100,"..."))
A18: Above 10 | B18: =IFERROR(B7+B8+B10+B11+B12+B13+B14+B15+B16+B17,"...") | C18: =IFERROR(C7+C8+C10+C11+C12+C13+C14+C15+C16+C17,"...") | D18: =IFERROR(D7+D8+D10+D11+D12+D13+D14+D15+D16+D17,"...") | E18: =IFERROR(E7+E8+E10+E11+E12+E13+E14+E15+E16+E17,"...") | F18: =IFERROR(F7+F8+F10+F11+F12+F13+F14+F15+F16+F17,"...") | G18: - | H18: - | I18: - | J18: -
A19: Importers
A20: European Union | B20: =IF('A22 data'!$AT$17="","...",'A22 data'!$AT$17/1000) | C20: =IFERROR(IF('A22 data'!$X$17="","...",'A22 data'!$X$17/'A22 data'!$X$16*100),"...") | D20: =IFERROR(IF('A22 data'!$AC$17="","...",'A22 data'!$AC$17/'A22 data'!$AC$16*100),"...") | E20: =IFERROR(IF('A22 data'!$AH$17="","...",'A22 data'!$AH$17/'A22 data'!$AH$16*100),"...") | F20: =IFERROR(IF('A22 data'!$AT$17="","...",'A22 data'!$AT$17/'A22 data'!$AT$16*100),"...") | G20: =IF(OR('A22 data'!$AT$17="",'A22 data'!$AH$17=""),"...",IFERROR((('A22 data'!$AT$17/'A22 data'!$AH$17)^(1/12)-1)*100,"...")) | H20: =IF(OR('A22 data'!$AR$17="",'A22 data'!$AQ$17=""),"...",IFERROR(('A22 data'!$AR$17/'A22 data'!$AQ$17-1)*100,"...")) | I20: =IF(OR('A22 data'!$AS$17="",'A22 data'!$AR$17=""),"...",IFERROR(('A22 data'!$AS$17/'A22 data'!$AR$17-1)*100,"...")) | J20: =IF(OR('A22 data'!$AT$17="",'A22 data'!$AS$17=""),"...",IFERROR(('A22 data'!$AT$17/'A22 data'!$AS$17-1)*100,"..."))
A21: Extra-EU | B21: =IF('A22 data'!$AT$18="","...",'A22 data'!$AT$18/1000) | C21: =IFERROR(IF('A22 data'!$X$18="","...",'A22 data'!$X$18/'A22 data'!$X$16*100),"...") | D21: =IFERROR(IF('A22 data'!$AC$18="","...",'A22 data'!$AC$18/'A22 data'!$AC$16*100),"...") | E21: =IFERROR(IF('A22 data'!$AH$18="","...",'A22 data'!$AH$18/'A22 data'!$AH$16*100),"...") | F21: =IFERROR(IF('A22 data'!$AT$18="","...",'A22 data'!$AT$18/'A22 data'!$AT$16*100),"...") | G21: =IF(OR('A22 data'!$AT$18="",'A22 data'!$AH$18=""),"...",IFERROR((('A22 data'!$AT$18/'A22 data'!$AH$18)^(1/12)-1)*100,"...")) | H21: =IF(OR('A22 data'!$AR$18="",'A22 data'!$AQ$18=""),"...",IFERROR(('A22 data'!$AR$18/'A22 data'!$AQ$18-1)*100,"...")) | I21: =IF(OR('A22 data'!$AS$18="",'A22 data'!$AR$18=""),"...",IFERROR(('A22 data'!$AS$18/'A22 data'!$AR$18-1)*100,"...")) | J21: =IF(OR('A22 data'!$AT$18="",'A22 data'!$AS$18=""),"...",IFERROR(('A22 data'!$AT$18/'A22 data'!$AS$18-1)*100,"..."))
A22: United States of America | B22: =IF('A22 data'!$AT$19="","...",'A22 data'!$AT$19/1000) | C22: =IFERROR(IF('A22 data'!$X$19="","...",'A22 data'!$X$19/'A22 data'!$X$16*100),"...") | D22: =IFERROR(IF('A22 data'!$AC$19="","...",'A22 data'!$AC$19/'A22 data'!$AC$16*100),"...") | E22: =IFERROR(IF('A22 data'!$AH$19="","...",'A22 data'!$AH$19/'A22 data'!$AH$16*100),"...") | F22: =IFERROR(IF('A22 data'!$AT$19="","...",'A22 data'!$AT$19/'A22 data'!$AT$16*100),"...") | G22: =IF(OR('A22 data'!$AT$19="",'A22 data'!$AH$19=""),"...",IFERROR((('A22 data'!$AT$19/'A22 data'!$AH$19)^(1/12)-1)*100,"...")) | H22: =IF(OR('A22 data'!$AR$19="",'A22 data'!$AQ$19=""),"...",IFERROR(('A22 data'!$AR$19/'A22 data'!$AQ$19-1)*100,"...")) | I22: =IF(OR('A22 data'!$AS$19="",'A22 data'!$AR$19=""),"...",IFERROR(('A22 data'!$AS$19/'A22 data'!$AR$19-1)*100,"...")) | J22: =IF(OR('A22 data'!$AT$19="",'A22 data'!$AS$19=""),"...",IFERROR(('A22 data'!$AT$19/'A22 data'!$AS$19-1)*100,"..."))
A23: Viet Nam | B23: =IF('A22 data'!$AT$20="","...",'A22 data'!$AT$20/1000) | C23: =IFERROR(IF('A22 data'!$X$20="","...",'A22 data'!$X$20/'A22 data'!$X$16*100),"...") | D23: =IFERROR(IF('A22 data'!$AC$20="","...",'A22 data'!$AC$20/'A22 data'!$AC$16*100),"...") | E23: =IFERROR(IF('A22 data'!$AH$20="","...",'A22 data'!$AH$20/'A22 data'!$AH$16*100),"...") | F23: =IFERROR(IF('A22 data'!$AT$20="","...",'A22 data'!$AT$20/'A22 data'!$AT$16*100),"...") | G23: =IF(OR('A22 data'!$AT$20="",'A22 data'!$AH$20=""),"...",IFERROR((('A22 data'!$AT$20/'A22 data'!$AH$20)^(1/12)-1)*100,"...")) | H23: =IF(OR('A22 data'!$AR$20="",'A22 data'!$AQ$20=""),"...",IFERROR(('A22 data'!$AR$20/'A22 data'!$AQ$20-1)*100,"...")) | I23: =IF(OR('A22 data'!$AS$20="",'A22 data'!$AR$20=""),"...",IFERROR(('A22 data'!$AS$20/'A22 data'!$AR$20-1)*100,"...")) | J23: =IF(OR('A22 data'!$AT$20="",'A22 data'!$AS$20=""),"...",IFERROR(('A22 data'!$AT$20/'A22 data'!$AS$20-1)*100,"..."))
A24: Bangladesh (1) | B24: =IF('A22 data'!$AT$21="","...",'A22 data'!$AT$21/1000) | C24: =IFERROR(IF('A22 data'!$X$21="","...",'A22 data'!$X$21/'A22 data'!$X$16*100),"...") | D24: =IFERROR(IF('A22 data'!$AC$21="","...",'A22 data'!$AC$21/'A22 data'!$AC$16*100),"...") | E24: =IFERROR(IF('A22 data'!$AH$21="","...",'A22 data'!$AH$21/'A22 data'!$AH$16*100),"...") | F24: =IFERROR(IF('A22 data'!$AT$21="","...",'A22 data'!$AT$21/'A22 data'!$AT$16*100),"...") | G24: =IF(OR('A22 data'!$AT$21="",'A22 data'!$AH$21=""),"...",IFERROR((('A22 data'!$AT$21/'A22 data'!$AH$21)^(1/12)-1)*100,"...")) | H24: =IF(OR('A22 data'!$AR$21="",'A22 data'!$AQ$21=""),"...",IFERROR(('A22 data'!$AR$21/'A22 data'!$AQ$21-1)*100,"...")) | I24: =IF(OR('A22 data'!$AS$21="",'A22 data'!$AR$21=""),"...",IFERROR(('A22 data'!$AS$21/'A22 data'!$AR$21-1)*100,"...")) | J24: =IF(OR('A22 data'!$AT$21="",'A22 data'!$AS$21=""),"...",IFERROR(('A22 data'!$AT$21/'A22 data'!$AS$21-1)*100,"..."))
A25: China | B25: =IF('A22 data'!$AT$22="","...",'A22 data'!$AT$22/1000) | C25: =IFERROR(IF('A22 data'!$X$22="","...",'A22 data'!$X$22/'A22 data'!$X$16*100),"...") | D25: =IFERROR(IF('A22 data'!$AC$22="","...",'A22 data'!$AC$22/'A22 data'!$AC$16*100),"...") | E25: =IFERROR(IF('A22 data'!$AH$22="","...",'A22 data'!$AH$22/'A22 data'!$AH$16*100),"...") | F25: =IFERROR(IF('A22 data'!$AT$22="","...",'A22 data'!$AT$22/'A22 data'!$AT$16*100),"...") | G25: =IF(OR('A22 data'!$AT$22="",'A22 data'!$AH$22=""),"...",IFERROR((('A22 data'!$AT$22/'A22 data'!$AH$22)^(1/12)-1)*100,"...")) | H25: =IF(OR('A22 data'!$AR$22="",'A22 data'!$AQ$22=""),"...",IFERROR(('A22 data'!$AR$22/'A22 data'!$AQ$22-1)*100,"...")) | I25: =IF(OR('A22 data'!$AS$22="",'A22 data'!$AR$22=""),"...",IFERROR(('A22 data'!$AS$22/'A22 data'!$AR$22-1)*100,"...")) | J25: =IF(OR('A22 data'!$AT$22="",'A22 data'!$AS$22=""),"...",IFERROR(('A22 data'!$AT$22/'A22 data'!$AS$22-1)*100,"..."))
A26: Japan | B26: =IF('A22 data'!$AT$23="","...",'A22 data'!$AT$23/1000) | C26: =IFERROR(IF('A22 data'!$X$23="","...",'A22 data'!$X$23/'A22 data'!$X$16*100),"...") | D26: =IFERROR(IF('A22 data'!$AC$23="","...",'A22 data'!$AC$23/'A22 data'!$AC$16*100),"...") | E26: =IFERROR(IF('A22 data'!$AH$23="","...",'A22 data'!$AH$23/'A22 data'!$AH$16*100),"...") | F26: =IFERROR(IF('A22 data'!$AT$23="","...",'A22 data'!$AT$23/'A22 data'!$AT$16*100),"...") | G26: =IF(OR('A22 data'!$AT$23="",'A22 data'!$AH$23=""),"...",IFERROR((('A22 data'!$AT$23/'A22 data'!$AH$23)^(1/12)-1)*100,"...")) | H26: =IF(OR('A22 data'!$AR$23="",'A22 data'!$AQ$23=""),"...",IFERROR(('A22 data'!$AR$23/'A22 data'!$AQ$23-1)*100,"...")) | I26: =IF(OR('A22 data'!$AS$23="",'A22 data'!$AR$23=""),"...",IFERROR(('A22 data'!$AS$23/'A22 data'!$AR$23-1)*100,"...")) | J26: =IF(OR('A22 data'!$AT$23="",'A22 data'!$AS$23=""),"...",IFERROR(('A22 data'!$AT$23/'A22 data'!$AS$23-1)*100,"..."))
A27: Türkiye | B27: =IF('A22 data'!$AT$24="","...",'A22 data'!$AT$24/1000) | C27: =IFERROR(IF('A22 data'!$X$24="","...",'A22 data'!$X$24/'A22 data'!$X$16*100),"...") | D27: =IFERROR(IF('A22 data'!$AC$24="","...",'A22 data'!$AC$24/'A22 data'!$AC$16*100),"...") | E27: =IFERROR(IF('A22 data'!$AH$24="","...",'A22 data'!$AH$24/'A22 data'!$AH$16*100),"...") | F27: =IFERROR(IF('A22 data'!$AT$24="","...",'A22 data'!$AT$24/'A22 data'!$AT$16*100),"...") | G27: =IF(OR('A22 data'!$AT$24="",'A22 data'!$AH$24=""),"...",IFERROR((('A22 data'!$AT$24/'A22 data'!$AH$24)^(1/12)-1)*100,"...")) | H27: =IF(OR('A22 data'!$AR$24="",'A22 data'!$AQ$24=""),"...",IFERROR(('A22 data'!$AR$24/'A22 data'!$AQ$24-1)*100,"...")) | I27: =IF(OR('A22 data'!$AS$24="",'A22 data'!$AR$24=""),"...",IFERROR(('A22 data'!$AS$24/'A22 data'!$AR$24-1)*100,"...")) | J27: =IF(OR('A22 data'!$AT$24="",'A22 data'!$AS$24=""),"...",IFERROR(('A22 data'!$AT$24/'A22 data'!$AS$24-1)*100,"..."))
A28: United Kingdom | B28: =IF('A22 data'!$AT$25="","...",'A22 data'!$AT$25/1000) | C28: =IFERROR(IF('A22 data'!$X$25="","...",'A22 data'!$X$25/'A22 data'!$X$16*100),"...") | D28: =IFERROR(IF('A22 data'!$AC$25="","...",'A22 data'!$AC$25/'A22 data'!$AC$16*100),"...") | E28: =IFERROR(IF('A22 data'!$AH$25="","...",'A22 data'!$AH$25/'A22 data'!$AH$16*100),"...") | F28: =IFERROR(IF('A22 data'!$AT$25="","...",'A22 data'!$AT$25/'A22 data'!$AT$16*100),"...") | G28: =IF(OR('A22 data'!$AT$25="",'A22 data'!$AH$25=""),"...",IFERROR((('A22 data'!$AT$25/'A22 data'!$AH$25)^(1/12)-1)*100,"...")) | H28: =IF(OR('A22 data'!$AR$25="",'A22 data'!$AQ$25=""),"...",IFERROR(('A22 data'!$AR$25/'A22 data'!$AQ$25-1)*100,"...")) | I28: =IF(OR('A22 data'!$AS$25="",'A22 data'!$AR$25=""),"...",IFERROR(('A22 data'!$AS$25/'A22 data'!$AR$25-1)*100,"...")) | J28: =IF(OR('A22 data'!$AT$25="",'A22 data'!$AS$25=""),"...",IFERROR(('A22 data'!$AT$25/'A22 data'!$AS$25-1)*100,"..."))
A29: Indonesia | B29: =IF('A22 data'!$AT$26="","...",'A22 data'!$AT$26/1000) | C29: =IFERROR(IF('A22 data'!$X$26="","...",'A22 data'!$X$26/'A22 data'!$X$16*100),"...") | D29: =IFERROR(IF('A22 data'!$AC$26="","...",'A22 data'!$AC$26/'A22 data'!$AC$16*100),"...") | E29: =IFERROR(IF('A22 data'!$AH$26="","...",'A22 data'!$AH$26/'A22 data'!$AH$16*100),"...") | F29: =IFERROR(IF('A22 data'!$AT$26="","...",'A22 data'!$AT$26/'A22 data'!$AT$16*100),"...") | G29: =IF(OR('A22 data'!$AT$26="",'A22 data'!$AH$26=""),"...",IFERROR((('A22 data'!$AT$26/'A22 data'!$AH$26)^(1/12)-1)*100,"...")) | H29: =IF(OR('A22 data'!$AR$26="",'A22 data'!$AQ$26=""),"...",IFERROR(('A22 data'!$AR$26/'A22 data'!$AQ$26-1)*100,"...")) | I29: =IF(OR('A22 data'!$AS$26="",'A22 data'!$AR$26=""),"...",IFERROR(('A22 data'!$AS$26/'A22 data'!$AR$26-1)*100,"...")) | J29: =IF(OR('A22 data'!$AT$26="",'A22 data'!$AS$26=""),"...",IFERROR(('A22 data'!$AT$26/'A22 data'!$AS$26-1)*100,"..."))
A30: Mexico | B30: =IF('A22 data'!$AT$27="","...",'A22 data'!$AT$27/1000) | C30: =IFERROR(IF('A22 data'!$X$27="","...",'A22 data'!$X$27/'A22 data'!$X$16*100),"...") | D30: =IFERROR(IF('A22 data'!$AC$27="","...",'A22 data'!$AC$27/'A22 data'!$AC$16*100),"...") | E30: =IFERROR(IF('A22 data'!$AH$27="","...",'A22 data'!$AH$27/'A22 data'!$AH$16*100),"...") | F30: =IFERROR(IF('A22 data'!$AT$27="","...",'A22 data'!$AT$27/'A22 data'!$AT$16*100),"...") | G30: =IF(OR('A22 data'!$AT$27="",'A22 data'!$AH$27=""),"...",IFERROR((('A22 data'!$AT$27/'A22 data'!$AH$27)^(1/12)-1)*100,"...")) | H30: =IF(OR('A22 data'!$AR$27="",'A22 data'!$AQ$27=""),"...",IFERROR(('A22 data'!$AR$27/'A22 data'!$AQ$27-1)*100,"...")) | I30: =IF(OR('A22 data'!$AS$27="",'A22 data'!$AR$27=""),"...",IFERROR(('A22 data'!$AS$27/'A22 data'!$AR$27-1)*100,"...")) | J30: =IF(OR('A22 data'!$AT$27="",'A22 data'!$AS$27=""),"...",IFERROR(('A22 data'!$AT$27/'A22 data'!$AS$27-1)*100,"..."))
A31: Above 10 | B31: =IFERROR(B20+B22+B23+B24+B25+B26+B27+B28+B29+B30,"...") | C31: =IFERROR(C20+C22+C23+C24+C25+C26+C27+C28+C29+C30,"...") | D31: =IFERROR(D20+D22+D23+D24+D25+D26+D27+D28+D29+D30,"...") | E31: =IFERROR(E20+E22+E23+E24+E25+E26+E27+E28+E29+E30,"...") | F31: =IFERROR(F20+F22+F23+F24+F25+F26+F27+F28+F29+F30,"...") | G31: - | H31: - | I31: - | J31: -
A33: (1) Estimate (as flagged by WTO).
A35: Notes
A36: The EU is ranked as one economy; its member states are not ranked. Extra-EU (the EU's trade with non-members) is shown beneath it and is not ranked.
A37: From 2000 the EU figure is WTO's own series for today's 27 member states (EU-27), in every year, including years when the membership was different. The United Kingdom is ranked on its own.
A38: Economies ranked in 2022: 155 exporters, 158 importers.
A39: "Above 10" is the sum of the ten ranked economies. "..." means not available.
A40: Shares are of world textiles exports or imports. 2010-22 is the compound annual rate of change.
A41: Figures for every year are as WTO published them on 2026-09-29; WTO revises past figures, so they can differ from the printed review.
A42: Source: WTO Timeseries, indicators ITS_MTV_AX and ITS_MTV_AM, product MATE (SITC 65), via WTO Timeseries API v1 (api.wto.org).
A43: Blue figures on the data sheet are downloaded inputs; every figure on this sheet is a formula.

Sheet A23 clothing
A1: Table A23, 2023 edition (trade data for 2022)
A2: Top 10 exporters and importers of clothing, 2022
A3: (Billion dollars and percentage)
A5: Economy | B5: Value 2022 (US$ bn) | C5: Share 2000 (%) | D5: Share 2005 (%) | E5: Share 2010 (%) | F5: Share 2022 (%) | G5: Change 2010-22 (% p.a.) | H5: Change 2020 (%) | I5: Change 2021 (%) | J5: Change 2022 (%)
A6: Exporters
A7: China | B7: =IF('A23 data'!$AT$5="","...",'A23 data'!$AT$5/1000) | C7: =IFERROR(IF('A23 data'!$X$5="","...",'A23 data'!$X$5/'A23 data'!$X$4*100),"...") | D7: =IFERROR(IF('A23 data'!$AC$5="","...",'A23 data'!$AC$5/'A23 data'!$AC$4*100),"...") | E7: =IFERROR(IF('A23 data'!$AH$5="","...",'A23 data'!$AH$5/'A23 data'!$AH$4*100),"...") | F7: =IFERROR(IF('A23 data'!$AT$5="","...",'A23 data'!$AT$5/'A23 data'!$AT$4*100),"...") | G7: =IF(OR('A23 data'!$AT$5="",'A23 data'!$AH$5=""),"...",IFERROR((('A23 data'!$AT$5/'A23 data'!$AH$5)^(1/12)-1)*100,"...")) | H7: =IF(OR('A23 data'!$AR$5="",'A23 data'!$AQ$5=""),"...",IFERROR(('A23 data'!$AR$5/'A23 data'!$AQ$5-1)*100,"...")) | I7: =IF(OR('A23 data'!$AS$5="",'A23 data'!$AR$5=""),"...",IFERROR(('A23 data'!$AS$5/'A23 data'!$AR$5-1)*100,"...")) | J7: =IF(OR('A23 data'!$AT$5="",'A23 data'!$AS$5=""),"...",IFERROR(('A23 data'!$AT$5/'A23 data'!$AS$5-1)*100,"..."))
A8: European Union | B8: =IF('A23 data'!$AT$6="","...",'A23 data'!$AT$6/1000) | C8: =IFERROR(IF('A23 data'!$X$6="","...",'A23 data'!$X$6/'A23 data'!$X$4*100),"...") | D8: =IFERROR(IF('A23 data'!$AC$6="","...",'A23 data'!$AC$6/'A23 data'!$AC$4*100),"...") | E8: =IFERROR(IF('A23 data'!$AH$6="","...",'A23 data'!$AH$6/'A23 data'!$AH$4*100),"...") | F8: =IFERROR(IF('A23 data'!$AT$6="","...",'A23 data'!$AT$6/'A23 data'!$AT$4*100),"...") | G8: =IF(OR('A23 data'!$AT$6="",'A23 data'!$AH$6=""),"...",IFERROR((('A23 data'!$AT$6/'A23 data'!$AH$6)^(1/12)-1)*100,"...")) | H8: =IF(OR('A23 data'!$AR$6="",'A23 data'!$AQ$6=""),"...",IFERROR(('A23 data'!$AR$6/'A23 data'!$AQ$6-1)*100,"...")) | I8: =IF(OR('A23 data'!$AS$6="",'A23 data'!$AR$6=""),"...",IFERROR(('A23 data'!$AS$6/'A23 data'!$AR$6-1)*100,"...")) | J8: =IF(OR('A23 data'!$AT$6="",'A23 data'!$AS$6=""),"...",IFERROR(('A23 data'!$AT$6/'A23 data'!$AS$6-1)*100,"..."))
A9: Extra-EU | B9: =IF('A23 data'!$AT$7="","...",'A23 data'!$AT$7/1000) | C9: =IFERROR(IF('A23 data'!$X$7="","...",'A23 data'!$X$7/'A23 data'!$X$4*100),"...") | D9: =IFERROR(IF('A23 data'!$AC$7="","...",'A23 data'!$AC$7/'A23 data'!$AC$4*100),"...") | E9: =IFERROR(IF('A23 data'!$AH$7="","...",'A23 data'!$AH$7/'A23 data'!$AH$4*100),"...") | F9: =IFERROR(IF('A23 data'!$AT$7="","...",'A23 data'!$AT$7/'A23 data'!$AT$4*100),"...") | G9: =IF(OR('A23 data'!$AT$7="",'A23 data'!$AH$7=""),"...",IFERROR((('A23 data'!$AT$7/'A23 data'!$AH$7)^(1/12)-1)*100,"...")) | H9: =IF(OR('A23 data'!$AR$7="",'A23 data'!$AQ$7=""),"...",IFERROR(('A23 data'!$AR$7/'A23 data'!$AQ$7-1)*100,"...")) | I9: =IF(OR('A23 data'!$AS$7="",'A23 data'!$AR$7=""),"...",IFERROR(('A23 data'!$AS$7/'A23 data'!$AR$7-1)*100,"...")) | J9: =IF(OR('A23 data'!$AT$7="",'A23 data'!$AS$7=""),"...",IFERROR(('A23 data'!$AT$7/'A23 data'!$AS$7-1)*100,"..."))
A10: Bangladesh | B10: =IF('A23 data'!$AT$8="","...",'A23 data'!$AT$8/1000) | C10: =IFERROR(IF('A23 data'!$X$8="","...",'A23 data'!$X$8/'A23 data'!$X$4*100),"...") | D10: =IFERROR(IF('A23 data'!$AC$8="","...",'A23 data'!$AC$8/'A23 data'!$AC$4*100),"...") | E10: =IFERROR(IF('A23 data'!$AH$8="","...",'A23 data'!$AH$8/'A23 data'!$AH$4*100),"...") | F10: =IFERROR(IF('A23 data'!$AT$8="","...",'A23 data'!$AT$8/'A23 data'!$AT$4*100),"...") | G10: =IF(OR('A23 data'!$AT$8="",'A23 data'!$AH$8=""),"...",IFERROR((('A23 data'!$AT$8/'A23 data'!$AH$8)^(1/12)-1)*100,"...")) | H10: =IF(OR('A23 data'!$AR$8="",'A23 data'!$AQ$8=""),"...",IFERROR(('A23 data'!$AR$8/'A23 data'!$AQ$8-1)*100,"...")) | I10: =IF(OR('A23 data'!$AS$8="",'A23 data'!$AR$8=""),"...",IFERROR(('A23 data'!$AS$8/'A23 data'!$AR$8-1)*100,"...")) | J10: =IF(OR('A23 data'!$AT$8="",'A23 data'!$AS$8=""),"...",IFERROR(('A23 data'!$AT$8/'A23 data'!$AS$8-1)*100,"..."))
A11: Viet Nam | B11: =IF('A23 data'!$AT$9="","...",'A23 data'!$AT$9/1000) | C11: =IFERROR(IF('A23 data'!$X$9="","...",'A23 data'!$X$9/'A23 data'!$X$4*100),"...") | D11: =IFERROR(IF('A23 data'!$AC$9="","...",'A23 data'!$AC$9/'A23 data'!$AC$4*100),"...") | E11: =IFERROR(IF('A23 data'!$AH$9="","...",'A23 data'!$AH$9/'A23 data'!$AH$4*100),"...") | F11: =IFERROR(IF('A23 data'!$AT$9="","...",'A23 data'!$AT$9/'A23 data'!$AT$4*100),"...") | G11: =IF(OR('A23 data'!$AT$9="",'A23 data'!$AH$9=""),"...",IFERROR((('A23 data'!$AT$9/'A23 data'!$AH$9)^(1/12)-1)*100,"...")) | H11: =IF(OR('A23 data'!$AR$9="",'A23 data'!$AQ$9=""),"...",IFERROR(('A23 data'!$AR$9/'A23 data'!$AQ$9-1)*100,"...")) | I11: =IF(OR('A23 data'!$AS$9="",'A23 data'!$AR$9=""),"...",IFERROR(('A23 data'!$AS$9/'A23 data'!$AR$9-1)*100,"...")) | J11: =IF(OR('A23 data'!$AT$9="",'A23 data'!$AS$9=""),"...",IFERROR(('A23 data'!$AT$9/'A23 data'!$AS$9-1)*100,"..."))
A12: Türkiye | B12: =IF('A23 data'!$AT$10="","...",'A23 data'!$AT$10/1000) | C12: =IFERROR(IF('A23 data'!$X$10="","...",'A23 data'!$X$10/'A23 data'!$X$4*100),"...") | D12: =IFERROR(IF('A23 data'!$AC$10="","...",'A23 data'!$AC$10/'A23 data'!$AC$4*100),"...") | E12: =IFERROR(IF('A23 data'!$AH$10="","...",'A23 data'!$AH$10/'A23 data'!$AH$4*100),"...") | F12: =IFERROR(IF('A23 data'!$AT$10="","...",'A23 data'!$AT$10/'A23 data'!$AT$4*100),"...") | G12: =IF(OR('A23 data'!$AT$10="",'A23 data'!$AH$10=""),"...",IFERROR((('A23 data'!$AT$10/'A23 data'!$AH$10)^(1/12)-1)*100,"...")) | H12: =IF(OR('A23 data'!$AR$10="",'A23 data'!$AQ$10=""),"...",IFERROR(('A23 data'!$AR$10/'A23 data'!$AQ$10-1)*100,"...")) | I12: =IF(OR('A23 data'!$AS$10="",'A23 data'!$AR$10=""),"...",IFERROR(('A23 data'!$AS$10/'A23 data'!$AR$10-1)*100,"...")) | J12: =IF(OR('A23 data'!$AT$10="",'A23 data'!$AS$10=""),"...",IFERROR(('A23 data'!$AT$10/'A23 data'!$AS$10-1)*100,"..."))
A13: India | B13: =IF('A23 data'!$AT$11="","...",'A23 data'!$AT$11/1000) | C13: =IFERROR(IF('A23 data'!$X$11="","...",'A23 data'!$X$11/'A23 data'!$X$4*100),"...") | D13: =IFERROR(IF('A23 data'!$AC$11="","...",'A23 data'!$AC$11/'A23 data'!$AC$4*100),"...") | E13: =IFERROR(IF('A23 data'!$AH$11="","...",'A23 data'!$AH$11/'A23 data'!$AH$4*100),"...") | F13: =IFERROR(IF('A23 data'!$AT$11="","...",'A23 data'!$AT$11/'A23 data'!$AT$4*100),"...") | G13: =IF(OR('A23 data'!$AT$11="",'A23 data'!$AH$11=""),"...",IFERROR((('A23 data'!$AT$11/'A23 data'!$AH$11)^(1/12)-1)*100,"...")) | H13: =IF(OR('A23 data'!$AR$11="",'A23 data'!$AQ$11=""),"...",IFERROR(('A23 data'!$AR$11/'A23 data'!$AQ$11-1)*100,"...")) | I13: =IF(OR('A23 data'!$AS$11="",'A23 data'!$AR$11=""),"...",IFERROR(('A23 data'!$AS$11/'A23 data'!$AR$11-1)*100,"...")) | J13: =IF(OR('A23 data'!$AT$11="",'A23 data'!$AS$11=""),"...",IFERROR(('A23 data'!$AT$11/'A23 data'!$AS$11-1)*100,"..."))
A14: Indonesia | B14: =IF('A23 data'!$AT$12="","...",'A23 data'!$AT$12/1000) | C14: =IFERROR(IF('A23 data'!$X$12="","...",'A23 data'!$X$12/'A23 data'!$X$4*100),"...") | D14: =IFERROR(IF('A23 data'!$AC$12="","...",'A23 data'!$AC$12/'A23 data'!$AC$4*100),"...") | E14: =IFERROR(IF('A23 data'!$AH$12="","...",'A23 data'!$AH$12/'A23 data'!$AH$4*100),"...") | F14: =IFERROR(IF('A23 data'!$AT$12="","...",'A23 data'!$AT$12/'A23 data'!$AT$4*100),"...") | G14: =IF(OR('A23 data'!$AT$12="",'A23 data'!$AH$12=""),"...",IFERROR((('A23 data'!$AT$12/'A23 data'!$AH$12)^(1/12)-1)*100,"...")) | H14: =IF(OR('A23 data'!$AR$12="",'A23 data'!$AQ$12=""),"...",IFERROR(('A23 data'!$AR$12/'A23 data'!$AQ$12-1)*100,"...")) | I14: =IF(OR('A23 data'!$AS$12="",'A23 data'!$AR$12=""),"...",IFERROR(('A23 data'!$AS$12/'A23 data'!$AR$12-1)*100,"...")) | J14: =IF(OR('A23 data'!$AT$12="",'A23 data'!$AS$12=""),"...",IFERROR(('A23 data'!$AT$12/'A23 data'!$AS$12-1)*100,"..."))
A15: Pakistan | B15: =IF('A23 data'!$AT$13="","...",'A23 data'!$AT$13/1000) | C15: =IFERROR(IF('A23 data'!$X$13="","...",'A23 data'!$X$13/'A23 data'!$X$4*100),"...") | D15: =IFERROR(IF('A23 data'!$AC$13="","...",'A23 data'!$AC$13/'A23 data'!$AC$4*100),"...") | E15: =IFERROR(IF('A23 data'!$AH$13="","...",'A23 data'!$AH$13/'A23 data'!$AH$4*100),"...") | F15: =IFERROR(IF('A23 data'!$AT$13="","...",'A23 data'!$AT$13/'A23 data'!$AT$4*100),"...") | G15: =IF(OR('A23 data'!$AT$13="",'A23 data'!$AH$13=""),"...",IFERROR((('A23 data'!$AT$13/'A23 data'!$AH$13)^(1/12)-1)*100,"...")) | H15: =IF(OR('A23 data'!$AR$13="",'A23 data'!$AQ$13=""),"...",IFERROR(('A23 data'!$AR$13/'A23 data'!$AQ$13-1)*100,"...")) | I15: =IF(OR('A23 data'!$AS$13="",'A23 data'!$AR$13=""),"...",IFERROR(('A23 data'!$AS$13/'A23 data'!$AR$13-1)*100,"...")) | J15: =IF(OR('A23 data'!$AT$13="",'A23 data'!$AS$13=""),"...",IFERROR(('A23 data'!$AT$13/'A23 data'!$AS$13-1)*100,"..."))
A16: Cambodia | B16: =IF('A23 data'!$AT$14="","...",'A23 data'!$AT$14/1000) | C16: =IFERROR(IF('A23 data'!$X$14="","...",'A23 data'!$X$14/'A23 data'!$X$4*100),"...") | D16: =IFERROR(IF('A23 data'!$AC$14="","...",'A23 data'!$AC$14/'A23 data'!$AC$4*100),"...") | E16: =IFERROR(IF('A23 data'!$AH$14="","...",'A23 data'!$AH$14/'A23 data'!$AH$4*100),"...") | F16: =IFERROR(IF('A23 data'!$AT$14="","...",'A23 data'!$AT$14/'A23 data'!$AT$4*100),"...") | G16: =IF(OR('A23 data'!$AT$14="",'A23 data'!$AH$14=""),"...",IFERROR((('A23 data'!$AT$14/'A23 data'!$AH$14)^(1/12)-1)*100,"...")) | H16: =IF(OR('A23 data'!$AR$14="",'A23 data'!$AQ$14=""),"...",IFERROR(('A23 data'!$AR$14/'A23 data'!$AQ$14-1)*100,"...")) | I16: =IF(OR('A23 data'!$AS$14="",'A23 data'!$AR$14=""),"...",IFERROR(('A23 data'!$AS$14/'A23 data'!$AR$14-1)*100,"...")) | J16: =IF(OR('A23 data'!$AT$14="",'A23 data'!$AS$14=""),"...",IFERROR(('A23 data'!$AT$14/'A23 data'!$AS$14-1)*100,"..."))
A17: United States of America | B17: =IF('A23 data'!$AT$15="","...",'A23 data'!$AT$15/1000) | C17: =IFERROR(IF('A23 data'!$X$15="","...",'A23 data'!$X$15/'A23 data'!$X$4*100),"...") | D17: =IFERROR(IF('A23 data'!$AC$15="","...",'A23 data'!$AC$15/'A23 data'!$AC$4*100),"...") | E17: =IFERROR(IF('A23 data'!$AH$15="","...",'A23 data'!$AH$15/'A23 data'!$AH$4*100),"...") | F17: =IFERROR(IF('A23 data'!$AT$15="","...",'A23 data'!$AT$15/'A23 data'!$AT$4*100),"...") | G17: =IF(OR('A23 data'!$AT$15="",'A23 data'!$AH$15=""),"...",IFERROR((('A23 data'!$AT$15/'A23 data'!$AH$15)^(1/12)-1)*100,"...")) | H17: =IF(OR('A23 data'!$AR$15="",'A23 data'!$AQ$15=""),"...",IFERROR(('A23 data'!$AR$15/'A23 data'!$AQ$15-1)*100,"...")) | I17: =IF(OR('A23 data'!$AS$15="",'A23 data'!$AR$15=""),"...",IFERROR(('A23 data'!$AS$15/'A23 data'!$AR$15-1)*100,"...")) | J17: =IF(OR('A23 data'!$AT$15="",'A23 data'!$AS$15=""),"...",IFERROR(('A23 data'!$AT$15/'A23 data'!$AS$15-1)*100,"..."))
A18: Above 10 | B18: =IFERROR(B7+B8+B10+B11+B12+B13+B14+B15+B16+B17,"...") | C18: =IFERROR(C7+C8+C10+C11+C12+C13+C14+C15+C16+C17,"...") | D18: =IFERROR(D7+D8+D10+D11+D12+D13+D14+D15+D16+D17,"...") | E18: =IFERROR(E7+E8+E10+E11+E12+E13+E14+E15+E16+E17,"...") | F18: =IFERROR(F7+F8+F10+F11+F12+F13+F14+F15+F16+F17,"...") | G18: - | H18: - | I18: - | J18: -
A19: Importers
A20: European Union | B20: =IF('A23 data'!$AT$17="","...",'A23 data'!$AT$17/1000) | C20: =IFERROR(IF('A23 data'!$X$17="","...",'A23 data'!$X$17/'A23 data'!$X$16*100),"...") | D20: =IFERROR(IF('A23 data'!$AC$17="","...",'A23 data'!$AC$17/'A23 data'!$AC$16*100),"...") | E20: =IFERROR(IF('A23 data'!$AH$17="","...",'A23 data'!$AH$17/'A23 data'!$AH$16*100),"...") | F20: =IFERROR(IF('A23 data'!$AT$17="","...",'A23 data'!$AT$17/'A23 data'!$AT$16*100),"...") | G20: =IF(OR('A23 data'!$AT$17="",'A23 data'!$AH$17=""),"...",IFERROR((('A23 data'!$AT$17/'A23 data'!$AH$17)^(1/12)-1)*100,"...")) | H20: =IF(OR('A23 data'!$AR$17="",'A23 data'!$AQ$17=""),"...",IFERROR(('A23 data'!$AR$17/'A23 data'!$AQ$17-1)*100,"...")) | I20: =IF(OR('A23 data'!$AS$17="",'A23 data'!$AR$17=""),"...",IFERROR(('A23 data'!$AS$17/'A23 data'!$AR$17-1)*100,"...")) | J20: =IF(OR('A23 data'!$AT$17="",'A23 data'!$AS$17=""),"...",IFERROR(('A23 data'!$AT$17/'A23 data'!$AS$17-1)*100,"..."))
A21: Extra-EU | B21: =IF('A23 data'!$AT$18="","...",'A23 data'!$AT$18/1000) | C21: =IFERROR(IF('A23 data'!$X$18="","...",'A23 data'!$X$18/'A23 data'!$X$16*100),"...") | D21: =IFERROR(IF('A23 data'!$AC$18="","...",'A23 data'!$AC$18/'A23 data'!$AC$16*100),"...") | E21: =IFERROR(IF('A23 data'!$AH$18="","...",'A23 data'!$AH$18/'A23 data'!$AH$16*100),"...") | F21: =IFERROR(IF('A23 data'!$AT$18="","...",'A23 data'!$AT$18/'A23 data'!$AT$16*100),"...") | G21: =IF(OR('A23 data'!$AT$18="",'A23 data'!$AH$18=""),"...",IFERROR((('A23 data'!$AT$18/'A23 data'!$AH$18)^(1/12)-1)*100,"...")) | H21: =IF(OR('A23 data'!$AR$18="",'A23 data'!$AQ$18=""),"...",IFERROR(('A23 data'!$AR$18/'A23 data'!$AQ$18-1)*100,"...")) | I21: =IF(OR('A23 data'!$AS$18="",'A23 data'!$AR$18=""),"...",IFERROR(('A23 data'!$AS$18/'A23 data'!$AR$18-1)*100,"...")) | J21: =IF(OR('A23 data'!$AT$18="",'A23 data'!$AS$18=""),"...",IFERROR(('A23 data'!$AT$18/'A23 data'!$AS$18-1)*100,"..."))
A22: United States of America | B22: =IF('A23 data'!$AT$19="","...",'A23 data'!$AT$19/1000) | C22: =IFERROR(IF('A23 data'!$X$19="","...",'A23 data'!$X$19/'A23 data'!$X$16*100),"...") | D22: =IFERROR(IF('A23 data'!$AC$19="","...",'A23 data'!$AC$19/'A23 data'!$AC$16*100),"...") | E22: =IFERROR(IF('A23 data'!$AH$19="","...",'A23 data'!$AH$19/'A23 data'!$AH$16*100),"...") | F22: =IFERROR(IF('A23 data'!$AT$19="","...",'A23 data'!$AT$19/'A23 data'!$AT$16*100),"...") | G22: =IF(OR('A23 data'!$AT$19="",'A23 data'!$AH$19=""),"...",IFERROR((('A23 data'!$AT$19/'A23 data'!$AH$19)^(1/12)-1)*100,"...")) | H22: =IF(OR('A23 data'!$AR$19="",'A23 data'!$AQ$19=""),"...",IFERROR(('A23 data'!$AR$19/'A23 data'!$AQ$19-1)*100,"...")) | I22: =IF(OR('A23 data'!$AS$19="",'A23 data'!$AR$19=""),"...",IFERROR(('A23 data'!$AS$19/'A23 data'!$AR$19-1)*100,"...")) | J22: =IF(OR('A23 data'!$AT$19="",'A23 data'!$AS$19=""),"...",IFERROR(('A23 data'!$AT$19/'A23 data'!$AS$19-1)*100,"..."))
A23: Japan | B23: =IF('A23 data'!$AT$20="","...",'A23 data'!$AT$20/1000) | C23: =IFERROR(IF('A23 data'!$X$20="","...",'A23 data'!$X$20/'A23 data'!$X$16*100),"...") | D23: =IFERROR(IF('A23 data'!$AC$20="","...",'A23 data'!$AC$20/'A23 data'!$AC$16*100),"...") | E23: =IFERROR(IF('A23 data'!$AH$20="","...",'A23 data'!$AH$20/'A23 data'!$AH$16*100),"...") | F23: =IFERROR(IF('A23 data'!$AT$20="","...",'A23 data'!$AT$20/'A23 data'!$AT$16*100),"...") | G23: =IF(OR('A23 data'!$AT$20="",'A23 data'!$AH$20=""),"...",IFERROR((('A23 data'!$AT$20/'A23 data'!$AH$20)^(1/12)-1)*100,"...")) | H23: =IF(OR('A23 data'!$AR$20="",'A23 data'!$AQ$20=""),"...",IFERROR(('A23 data'!$AR$20/'A23 data'!$AQ$20-1)*100,"...")) | I23: =IF(OR('A23 data'!$AS$20="",'A23 data'!$AR$20=""),"...",IFERROR(('A23 data'!$AS$20/'A23 data'!$AR$20-1)*100,"...")) | J23: =IF(OR('A23 data'!$AT$20="",'A23 data'!$AS$20=""),"...",IFERROR(('A23 data'!$AT$20/'A23 data'!$AS$20-1)*100,"..."))
A24: United Kingdom | B24: =IF('A23 data'!$AT$21="","...",'A23 data'!$AT$21/1000) | C24: =IFERROR(IF('A23 data'!$X$21="","...",'A23 data'!$X$21/'A23 data'!$X$16*100),"...") | D24: =IFERROR(IF('A23 data'!$AC$21="","...",'A23 data'!$AC$21/'A23 data'!$AC$16*100),"...") | E24: =IFERROR(IF('A23 data'!$AH$21="","...",'A23 data'!$AH$21/'A23 data'!$AH$16*100),"...") | F24: =IFERROR(IF('A23 data'!$AT$21="","...",'A23 data'!$AT$21/'A23 data'!$AT$16*100),"...") | G24: =IF(OR('A23 data'!$AT$21="",'A23 data'!$AH$21=""),"...",IFERROR((('A23 data'!$AT$21/'A23 data'!$AH$21)^(1/12)-1)*100,"...")) | H24: =IF(OR('A23 data'!$AR$21="",'A23 data'!$AQ$21=""),"...",IFERROR(('A23 data'!$AR$21/'A23 data'!$AQ$21-1)*100,"...")) | I24: =IF(OR('A23 data'!$AS$21="",'A23 data'!$AR$21=""),"...",IFERROR(('A23 data'!$AS$21/'A23 data'!$AR$21-1)*100,"...")) | J24: =IF(OR('A23 data'!$AT$21="",'A23 data'!$AS$21=""),"...",IFERROR(('A23 data'!$AT$21/'A23 data'!$AS$21-1)*100,"..."))
A25: Canada | B25: =IF('A23 data'!$AT$22="","...",'A23 data'!$AT$22/1000) | C25: =IFERROR(IF('A23 data'!$X$22="","...",'A23 data'!$X$22/'A23 data'!$X$16*100),"...") | D25: =IFERROR(IF('A23 data'!$AC$22="","...",'A23 data'!$AC$22/'A23 data'!$AC$16*100),"...") | E25: =IFERROR(IF('A23 data'!$AH$22="","...",'A23 data'!$AH$22/'A23 data'!$AH$16*100),"...") | F25: =IFERROR(IF('A23 data'!$AT$22="","...",'A23 data'!$AT$22/'A23 data'!$AT$16*100),"...") | G25: =IF(OR('A23 data'!$AT$22="",'A23 data'!$AH$22=""),"...",IFERROR((('A23 data'!$AT$22/'A23 data'!$AH$22)^(1/12)-1)*100,"...")) | H25: =IF(OR('A23 data'!$AR$22="",'A23 data'!$AQ$22=""),"...",IFERROR(('A23 data'!$AR$22/'A23 data'!$AQ$22-1)*100,"...")) | I25: =IF(OR('A23 data'!$AS$22="",'A23 data'!$AR$22=""),"...",IFERROR(('A23 data'!$AS$22/'A23 data'!$AR$22-1)*100,"...")) | J25: =IF(OR('A23 data'!$AT$22="",'A23 data'!$AS$22=""),"...",IFERROR(('A23 data'!$AT$22/'A23 data'!$AS$22-1)*100,"..."))
A26: Korea, Republic of | B26: =IF('A23 data'!$AT$23="","...",'A23 data'!$AT$23/1000) | C26: =IFERROR(IF('A23 data'!$X$23="","...",'A23 data'!$X$23/'A23 data'!$X$16*100),"...") | D26: =IFERROR(IF('A23 data'!$AC$23="","...",'A23 data'!$AC$23/'A23 data'!$AC$16*100),"...") | E26: =IFERROR(IF('A23 data'!$AH$23="","...",'A23 data'!$AH$23/'A23 data'!$AH$16*100),"...") | F26: =IFERROR(IF('A23 data'!$AT$23="","...",'A23 data'!$AT$23/'A23 data'!$AT$16*100),"...") | G26: =IF(OR('A23 data'!$AT$23="",'A23 data'!$AH$23=""),"...",IFERROR((('A23 data'!$AT$23/'A23 data'!$AH$23)^(1/12)-1)*100,"...")) | H26: =IF(OR('A23 data'!$AR$23="",'A23 data'!$AQ$23=""),"...",IFERROR(('A23 data'!$AR$23/'A23 data'!$AQ$23-1)*100,"...")) | I26: =IF(OR('A23 data'!$AS$23="",'A23 data'!$AR$23=""),"...",IFERROR(('A23 data'!$AS$23/'A23 data'!$AR$23-1)*100,"...")) | J26: =IF(OR('A23 data'!$AT$23="",'A23 data'!$AS$23=""),"...",IFERROR(('A23 data'!$AT$23/'A23 data'!$AS$23-1)*100,"..."))
A27: China | B27: =IF('A23 data'!$AT$24="","...",'A23 data'!$AT$24/1000) | C27: =IFERROR(IF('A23 data'!$X$24="","...",'A23 data'!$X$24/'A23 data'!$X$16*100),"...") | D27: =IFERROR(IF('A23 data'!$AC$24="","...",'A23 data'!$AC$24/'A23 data'!$AC$16*100),"...") | E27: =IFERROR(IF('A23 data'!$AH$24="","...",'A23 data'!$AH$24/'A23 data'!$AH$16*100),"...") | F27: =IFERROR(IF('A23 data'!$AT$24="","...",'A23 data'!$AT$24/'A23 data'!$AT$16*100),"...") | G27: =IF(OR('A23 data'!$AT$24="",'A23 data'!$AH$24=""),"...",IFERROR((('A23 data'!$AT$24/'A23 data'!$AH$24)^(1/12)-1)*100,"...")) | H27: =IF(OR('A23 data'!$AR$24="",'A23 data'!$AQ$24=""),"...",IFERROR(('A23 data'!$AR$24/'A23 data'!$AQ$24-1)*100,"...")) | I27: =IF(OR('A23 data'!$AS$24="",'A23 data'!$AR$24=""),"...",IFERROR(('A23 data'!$AS$24/'A23 data'!$AR$24-1)*100,"...")) | J27: =IF(OR('A23 data'!$AT$24="",'A23 data'!$AS$24=""),"...",IFERROR(('A23 data'!$AT$24/'A23 data'!$AS$24-1)*100,"..."))
A28: Australia | B28: =IF('A23 data'!$AT$25="","...",'A23 data'!$AT$25/1000) | C28: =IFERROR(IF('A23 data'!$X$25="","...",'A23 data'!$X$25/'A23 data'!$X$16*100),"...") | D28: =IFERROR(IF('A23 data'!$AC$25="","...",'A23 data'!$AC$25/'A23 data'!$AC$16*100),"...") | E28: =IFERROR(IF('A23 data'!$AH$25="","...",'A23 data'!$AH$25/'A23 data'!$AH$16*100),"...") | F28: =IFERROR(IF('A23 data'!$AT$25="","...",'A23 data'!$AT$25/'A23 data'!$AT$16*100),"...") | G28: =IF(OR('A23 data'!$AT$25="",'A23 data'!$AH$25=""),"...",IFERROR((('A23 data'!$AT$25/'A23 data'!$AH$25)^(1/12)-1)*100,"...")) | H28: =IF(OR('A23 data'!$AR$25="",'A23 data'!$AQ$25=""),"...",IFERROR(('A23 data'!$AR$25/'A23 data'!$AQ$25-1)*100,"...")) | I28: =IF(OR('A23 data'!$AS$25="",'A23 data'!$AR$25=""),"...",IFERROR(('A23 data'!$AS$25/'A23 data'!$AR$25-1)*100,"...")) | J28: =IF(OR('A23 data'!$AT$25="",'A23 data'!$AS$25=""),"...",IFERROR(('A23 data'!$AT$25/'A23 data'!$AS$25-1)*100,"..."))
A29: Switzerland | B29: =IF('A23 data'!$AT$26="","...",'A23 data'!$AT$26/1000) | C29: =IFERROR(IF('A23 data'!$X$26="","...",'A23 data'!$X$26/'A23 data'!$X$16*100),"...") | D29: =IFERROR(IF('A23 data'!$AC$26="","...",'A23 data'!$AC$26/'A23 data'!$AC$16*100),"...") | E29: =IFERROR(IF('A23 data'!$AH$26="","...",'A23 data'!$AH$26/'A23 data'!$AH$16*100),"...") | F29: =IFERROR(IF('A23 data'!$AT$26="","...",'A23 data'!$AT$26/'A23 data'!$AT$16*100),"...") | G29: =IF(OR('A23 data'!$AT$26="",'A23 data'!$AH$26=""),"...",IFERROR((('A23 data'!$AT$26/'A23 data'!$AH$26)^(1/12)-1)*100,"...")) | H29: =IF(OR('A23 data'!$AR$26="",'A23 data'!$AQ$26=""),"...",IFERROR(('A23 data'!$AR$26/'A23 data'!$AQ$26-1)*100,"...")) | I29: =IF(OR('A23 data'!$AS$26="",'A23 data'!$AR$26=""),"...",IFERROR(('A23 data'!$AS$26/'A23 data'!$AR$26-1)*100,"...")) | J29: =IF(OR('A23 data'!$AT$26="",'A23 data'!$AS$26=""),"...",IFERROR(('A23 data'!$AT$26/'A23 data'!$AS$26-1)*100,"..."))
A30: Hong Kong, China | B30: =IF('A23 data'!$AT$27="","...",'A23 data'!$AT$27/1000) | C30: =IFERROR(IF('A23 data'!$X$27="","...",'A23 data'!$X$27/'A23 data'!$X$16*100),"...") | D30: =IFERROR(IF('A23 data'!$AC$27="","...",'A23 data'!$AC$27/'A23 data'!$AC$16*100),"...") | E30: =IFERROR(IF('A23 data'!$AH$27="","...",'A23 data'!$AH$27/'A23 data'!$AH$16*100),"...") | F30: =IFERROR(IF('A23 data'!$AT$27="","...",'A23 data'!$AT$27/'A23 data'!$AT$16*100),"...") | G30: =IF(OR('A23 data'!$AT$27="",'A23 data'!$AH$27=""),"...",IFERROR((('A23 data'!$AT$27/'A23 data'!$AH$27)^(1/12)-1)*100,"...")) | H30: =IF(OR('A23 data'!$AR$27="",'A23 data'!$AQ$27=""),"...",IFERROR(('A23 data'!$AR$27/'A23 data'!$AQ$27-1)*100,"...")) | I30: =IF(OR('A23 data'!$AS$27="",'A23 data'!$AR$27=""),"...",IFERROR(('A23 data'!$AS$27/'A23 data'!$AR$27-1)*100,"...")) | J30: =IF(OR('A23 data'!$AT$27="",'A23 data'!$AS$27=""),"...",IFERROR(('A23 data'!$AT$27/'A23 data'!$AS$27-1)*100,"..."))
A31: Above 10 | B31: =IFERROR(B20+B22+B23+B24+B25+B26+B27+B28+B29+B30,"...") | C31: =IFERROR(C20+C22+C23+C24+C25+C26+C27+C28+C29+C30,"...") | D31: =IFERROR(D20+D22+D23+D24+D25+D26+D27+D28+D29+D30,"...") | E31: =IFERROR(E20+E22+E23+E24+E25+E26+E27+E28+E29+E30,"...") | F31: =IFERROR(F20+F22+F23+F24+F25+F26+F27+F28+F29+F30,"...") | G31: - | H31: - | I31: - | J31: -
A33: Notes
A34: The EU is ranked as one economy; its member states are not ranked. Extra-EU (the EU's trade with non-members) is shown beneath it and is not ranked.
A35: From 2000 the EU figure is WTO's own series for today's 27 member states (EU-27), in every year, including years when the membership was different. The United Kingdom is ranked on its own.
A36: Economies ranked in 2022: 156 exporters, 158 importers.
A37: "Above 10" is the sum of the ten ranked economies. "..." means not available.
A38: Shares are of world clothing exports or imports. 2010-22 is the compound annual rate of change.
A39: Figures for every year are as WTO published them on 2026-09-29; WTO revises past figures, so they can differ from the printed review.
A40: Source: WTO Timeseries, indicators ITS_MTV_AX and ITS_MTV_AM, product MACL (SITC 84), via WTO Timeseries API v1 (api.wto.org).
A41: Blue figures on the data sheet are downloaded inputs; every figure on this sheet is a formula.

Sheet A22 data
A1: Raw data for table A22 (textiles), 2023 edition (trade data for 2022), US$ million. Source: WTO Timeseries via WTO Timeseries API v1 (api.wto.org).
A2: EU: WTO's EU-27 series from 2000; before 2000 added up from the member states of each year. Extra-EU from 2000 only.
A3: Flow | B3: Code | C3: Economy | D3: 1980 | E3: 1981 | F3: 1982 | G3: 1983 | H3: 1984 | I3: 1985 | J3: 1986 | K3: 1987 | L3: 1988 | M3: 1989 | N3: 1990 | O3: 1991 | P3: 1992 | Q3: 1993 | R3: 1994 | S3: 1995 | T3: 1996 | U3: 1997 | V3: 1998 | W3: 1999 | X3: 2000 | Y3: 2001 | Z3: 2002 | AA3: 2003 | AB3: 2004 | AC3: 2005 | AD3: 2006 | AE3: 2007 | AF3: 2008 | AG3: 2009 | AH3: 2010 | AI3: 2011 | AJ3: 2012 | AK3: 2013 | AL3: 2014 | AM3: 2015 | AN3: 2016 | AO3: 2017 | AP3: 2018 | AQ3: 2019 | AR3: 2020 | AS3: 2021 | AT3: 2022
A4: Exporters | B4: 000 | C4: World | D4: 54990 | M4: 95950 | N4: 104354 | O4: 108925 | P4: 117195 | Q4: 113452 | R4: 131673 | S4: 152319 | T4: 152744 | U4: 155739 | V4: 149831 | W4: 146255 | X4: 156257 | Y4: 148141 | Z4: 154385 | AA4: 173066 | AB4: 195034 | AC4: 203112 | AD4: 219196 | AE4: 239938 | AF4: 251269 | AG4: 212161 | AH4: 249168 | AI4: 290885 | AJ4: 281210 | AK4: 300956 | AL4: 310924 | AM4: 288228 | AN4: 281215 | AO4: 295369 | AP4: 312058 | AQ4: 305507 | AR4: 328635 | AS4: 353267 | AT4: 352375
A5: Exporters | B5: 156 | C5: China | D5: 2540 | E5: 3390 | F5: 2735 | G5: 3270 | H5: 3825 | I5: 3680 | J5: 5440 | K5: 6485 | L5: 6975 | M5: 7215 | N5: 7219 | O5: 8014 | P5: 8583 | Q5: 8699 | R5: 11818 | S5: 13918 | T5: 12112 | U5: 13828 | V5: 12817 | W5: 13043 | X5: 16135 | Y5: 16825 | Z5: 20562 | AA5: 26900 | AB5: 33428 | AC5: 41050 | AD5: 48678 | AE5: 56032 | AF5: 65367 | AG5: 59824 | AH5: 76871 | AI5: 94411 | AJ5: 95450 | AK5: 106578 | AL5: 111664 | AM5: 108934 | AN5: 104605 | AO5: 109595 | AP5: 118530 | AQ5: 119575 | AR5: 154091 | AS5: 144471 | AT5: 148256
A6: Exporters | B6: 918 | C6: European Union | D6: 23864 | E6: 21127 | F6: 19943 | G6: 19758 | H6: 20333 | I6: 21713 | J6: 29484 | K6: 35296 | L6: 37863 | M6: 39003 | N6: 47150 | O6: 46380 | P6: 48909 | Q6: 42475 | R6: 48079 | S6: 62200 | T6: 61480 | U6: 59178 | V6: 60365 | W6: 55395 | X6: 52129 | Y6: 51576 | Z6: 53324 | AA6: 60887 | AB6: 68041 | AC6: 65922 | AD6: 69181 | AE6: 77234 | AF6: 76844 | AG6: 59494 | AH6: 64057 | AI6: 72738 | AJ6: 65498 | AK6: 67976 | AL6: 70758 | AM6: 61078 | AN6: 62828 | AO6: 65877 | AP6: 70651 | AQ6: 66683 | AR6: 64777 | AS6: 73951 | AT6: 72810
A7: Exporters | B7: EUT | C7: Extra-EU | X7: 17896 | Y7: 17922 | Z7: 18702 | AA7: 20794 | AB7: 23706 | AC7: 22958 | AD7: 24223 | AE7: 26974 | AF7: 26953 | AG7: 20927 | AH7: 22720 | AI7: 25810 | AJ7: 24177 | AK7: 24987 | AL7: 25900 | AM7: 22312 | AN7: 22530 | AO7: 23556 | AP7: 25378 | AQ7: 23974 | AR7: 21830 | AS7: 25230 | AT7: 25521
A8: Exporters | B8: 356 | C8: India | D8: 1306 | E8: 1168 | F8: 1064 | G8: 889 | H8: 1175 | I8: 1054 | J8: 1062 | K8: 1573 | L8: 1585 | M8: 1810 | N8: 2180 | O8: 2530 | P8: 2932 | Q8: 2917 | R8: 3829 | S8: 4358 | T8: 4936 | U8: 5243 | V8: 4558 | W8: 5086 | X8: 5593 | Y8: 5523 | Z8: 5813 | AA8: 6435 | AB8: 7406 | AC8: 8331 | AD8: 8880 | AE8: 9617 | AF8: 10372 | AG8: 9111 | AH8: 12833 | AI8: 15340 | AJ8: 15274 | AK8: 18907 | AL8: 18266 | AM8: 17263 | AN8: 16121 | AO8: 17078 | AP8: 18115 | AQ8: 17189 | AR8: 15042 | AS8: 22233 | AT8: 19339
A9: Exporters | B9: 792 | C9: Türkiye | D9: 343 | E9: 569 | F9: 767 | G9: 853 | H9: 1006 | I9: 1045 | J9: 935 | K9: 1208 | L9: 1340 | M9: 1331 | N9: 1440 | O9: 1429 | P9: 1619 | Q9: 1592 | R9: 2194 | S9: 2527 | T9: 2722 | U9: 3352 | V9: 3549 | W9: 3478 | X9: 3672 | Y9: 3943 | Z9: 4244 | AA9: 5262 | AB9: 6428 | AC9: 7076 | AD9: 7585 | AE9: 8942 | AF9: 9399 | AG9: 7724 | AH9: 8964 | AI9: 10772 | AJ9: 11047 | AK9: 12308 | AL9: 12669 | AM9: 11120 | AN9: 11155 | AO9: 11648 | AP9: 11881 | AQ9: 11777 | AR9: 11697 | AS9: 15165 | AT9: 14592
A10: Exporters | B10: 840 | C10: United States of America | D10: 3757 | E10: 3742 | F10: 2890 | G10: 2500 | H10: 2535 | I10: 2541 | J10: 2812 | K10: 3127 | L10: 3890 | M10: 4371 | N10: 5039 | O10: 5610 | P10: 5889 | Q10: 6025 | R10: 6592 | S10: 7372 | T10: 8008 | U10: 9187 | V10: 9205 | W10: 9504 | X10: 10947 | Y10: 10467 | Z10: 10659 | AA10: 10887 | AB10: 12027 | AC10: 12398 | AD10: 12665 | AE10: 12386 | AF10: 12470 | AG10: 9915 | AH10: 12169 | AI10: 13852 | AJ10: 13480 | AK10: 13924 | AL10: 14373 | AM10: 13935 | AN10: 13194 | AO10: 13623 | AP10: 13822 | AQ10: 13359 | AR10: 11377 | AS10: 13122 | AT10: 13873
A11: Exporters | B11: 704 | C11: Viet Nam | U11: 144 | V11: 156 | W11: 370 | X11: 299 | Y11: 352 | Z11: 424 | AA11: 473 | AB11: 641 | AC11: 725 | AD11: 1058 | AE11: 1321 | AF11: 1563 | AG11: 2009 | AH11: 3061 | AI11: 3770 | AJ11: 3894 | AK11: 4612 | AL11: 5330 | AM11: 5628 | AN11: 6108 | AO11: 7199 | AP11: 8228 | AQ11: 9073 | AR11: 9798 | AS11: 11556 | AT11: 11024
A12: Exporters | B12: 586 | C12: Pakistan | D12: 876 | E12: 976 | F12: 928 | G12: 1312 | H12: 999 | I12: 970 | J12: 1264 | K12: 1854 | L12: 1803 | M12: 2018 | N12: 2663 | O12: 3200 | P12: 3590 | Q12: 3507 | R12: 3985 | S12: 4256 | T12: 4919 | U12: 4608 | V12: 4302 | W12: 4258 | X12: 4532 | Y12: 4525 | Z12: 4790 | AA12: 5811 | AB12: 6125 | AC12: 7087 | AD12: 7469 | AE12: 7371 | AF12: 7186 | AG12: 6510 | AH12: 7848 | AI12: 9082 | AJ12: 8705 | AK12: 9341 | AL12: 9077 | AM12: 8232 | AN12: 7680 | AO12: 7868 | AP12: 8004 | AQ12: 7696 | AR12: 7112 | AS12: 9188 | AT12: 9273
A13: Exporters | B13: 158 | C13: Chinese Taipei | D13: 1771 | E13: 2022 | F13: 1748 | G13: 1803 | H13: 2169 | I13: 2490 | J13: 3045 | K13: 4087 | L13: 4545 | M13: 5442 | N13: 6128 | O13: 7335 | P13: 7554 | Q13: 8160 | R13: 10242 | S13: 11861 | T13: 12024 | U13: 12750 | V13: 11123 | W13: 10863 | X13: 11891 | Y13: 9897 | Z13: 9531 | AA13: 9303 | AB13: 10038 | AC13: 9706 | AD13: 9780 | AE13: 9732 | AF13: 9253 | AG13: 7891 | AH13: 9719 | AI13: 11016 | AJ13: 10293 | AK13: 10217 | AL13: 10264 | AM13: 9678 | AN13: 8973 | AO13: 9236 | AP13: 9218 | AQ13: 8507 | AR13: 7051 | AS13: 8555 | AT13: 8329
A14: Exporters | B14: 410 | C14: Korea, Republic of | D14: 2209 | E14: 2460 | F14: 2251 | G14: 2423 | H14: 2615 | I14: 2534 | J14: 3215 | K14: 4080 | L14: 4848 | M14: 5371 | N14: 6076 | O14: 7300 | P14: 8208 | Q14: 8954 | R14: 10693 | S14: 12313 | T14: 12718 | U14: 13337 | V14: 11279 | W14: 11618 | X14: 12710 | Y14: 10941 | Z14: 10945 | AA14: 10779 | AB14: 10839 | AC14: 10391 | AD14: 10110 | AE14: 10373 | AF14: 10371 | AG14: 9155 | AH14: 10968 | AI14: 12369 | AJ14: 11970 | AK14: 12043 | AL14: 11909 | AM14: 10645 | AN14: 10039 | AO14: 9855 | AP14: 9814 | AQ14: 9135 | AR14: 7744 | AS14: 8678 | AT14: 8304
A15: Exporters | B15: 392 | C15: Japan | D15: 5123 | E15: 5869 | F15: 5102 | G15: 5345 | H15: 5358 | I15: 4943 | J15: 5488 | K15: 5597 | L15: 5527 | M15: 5534 | N15: 5871 | O15: 6527 | P15: 7078 | Q15: 6717 | R15: 6780 | S15: 7178 | T15: 6927 | U15: 6751 | V15: 5971 | W15: 6598 | X15: 7023 | Y15: 6197 | Z15: 6030 | AA15: 6431 | AB15: 7138 | AC15: 6905 | AD15: 6934 | AE15: 7108 | AF15: 7340 | AG15: 6109 | AH15: 7086 | AI15: 8035 | AJ15: 7820 | AK15: 6843 | AL15: 6680 | AM15: 6166 | AN15: 6420 | AO15: 6523 | AP15: 6699 | AQ15: 6585 | AR15: 5645 | AS15: 6242 | AT15: 6011
A16: Importers | B16: 000 | C16: World | D16: 56975 | I16: 55618 | N16: 107839 | O16: 114665 | P16: 123584 | Q16: 118287 | R16: 135585 | S16: 156515 | T16: 157848 | U16: 160869 | V16: 155336 | W16: 153303 | X16: 165331 | Y16: 156743 | Z16: 163350 | AA16: 183116 | AB16: 206359 | AC16: 214906 | AD16: 231924 | AE16: 253871 | AF16: 265860 | AG16: 224481 | AH16: 216583 | AI16: 251210 | AJ16: 239275 | AK16: 251197 | AL16: 260363 | AM16: 310065 | AN16: 303295 | AO16: 321595 | AP16: 343578 | AQ16: 335429 | AR16: 361498 | AS16: 388594 | AT16: 387613
A17: Importers | B17: 918 | C17: European Union | D17: 22886 | E17: 19199 | F17: 18414 | G17: 18191 | H17: 18605 | I17: 19758 | J17: 26864 | K17: 33081 | L17: 35975 | M17: 37346 | N17: 45999 | O17: 45443 | P17: 47101 | Q17: 36078 | R17: 41930 | S17: 53221 | T17: 52480 | U17: 51481 | V17: 54154 | W17: 48987 | X17: 49070 | Y17: 48471 | Z17: 49422 | AA17: 57318 | AB17: 63338 | AC17: 62681 | AD17: 66513 | AE17: 74639 | AF17: 74850 | AG17: 58067 | AH17: 63591 | AI17: 73300 | AJ17: 63576 | AK17: 67106 | AL17: 71240 | AM17: 62121 | AN17: 64263 | AO17: 67465 | AP17: 71066 | AQ17: 67526 | AR17: 87882 | AS17: 79786 | AT17: 79820
A18: Importers | B18: EUT | C18: Extra-EU | X18: 15934 | Y18: 15608 | Z18: 15778 | AA18: 18270 | AB18: 20632 | AC18: 21165 | AD18: 23289 | AE18: 26769 | AF18: 27347 | AG18: 21901 | AH18: 25651 | AI18: 30227 | AJ18: 25842 | AK18: 27694 | AL18: 30043 | AM18: 27082 | AN18: 27657 | AO18: 29038 | AP18: 30990 | AQ18: 29838 | AR18: 50487 | AS18: 37380 | AT18: 37867
A19: Importers | B19: 840 | C19: United States of America | D19: 2542 | E19: 3072 | F19: 2852 | G19: 3276 | H19: 4617 | I19: 4977 | J19: 5838 | K19: 6512 | L19: 6279 | M19: 6417 | N19: 6730 | O19: 7329 | P19: 8215 | Q19: 8855 | R19: 9658 | S19: 10441 | T19: 10692 | U19: 12449 | V19: 13444 | W19: 14277 | X19: 15191 | Y19: 14632 | Z19: 16952 | AA19: 18253 | AB19: 20662 | AC19: 22534 | AD19: 23498 | AE19: 24089 | AF19: 23128 | AG19: 19211 | AH19: 23379 | AI19: 25363 | AJ19: 25948 | AK19: 27022 | AL19: 28268 | AM19: 29543 | AN19: 28722 | AO19: 29621 | AP19: 31883 | AQ19: 31400 | AR19: 45165 | AS19: 39555 | AT19: 39397
A20: Importers | B20: 704 | C20: Viet Nam | U20: 711 | V20: 902 | W20: 1075 | X20: 1379 | Y20: 1291 | Z20: 2071 | AA20: 2441 | AB20: 2941 | AC20: 3435 | AD20: 3988 | AE20: 5139 | AF20: 5703 | AG20: 5469 | AH20: 7042 | AI20: 8702 | AJ20: 9075 | AK20: 10633 | AL20: 12069 | AM20: 12825 | AN20: 13322 | AO20: 14519 | AP20: 16543 | AQ20: 17284 | AR20: 15476 | AS20: 18607 | AT20: 18950
A21: Importers | B21: 050 | C21: Bangladesh | D21: 93 | E21: 105 | F21: 70 | G21: 73 | H21: 128 | I21: 142 | J21: 128 | K21: 256 | L21: 261 | M21: 297 | N21: 452 | O21: 490 | P21: 630 | Q21: 675 | S21: 1481 | T21: 1380 | U21: 998 | V21: 1522 | W21: 1342 | X21: 1350 | Y21: 1518 | Z21: 1343 | AA21: 1548 | AB21: 1985 | AC21: 2425 | AD21: 1738 | AE21: 2306 | AF21: 3024 | AG21: 2838 | AH21: 4471 | AI21: 6610 | AJ21: 5834 | AK21: 6167 | AL21: 6838 | AM21: 8269 | AN21: 8511 | AO21: 9744 | AP21: 11506 | AQ21: 10657 | AR21: 9083 | AS21: 14534 | AT21: 14498
A22: Importers | B22: 156 | C22: China | D22: 1100 | E22: 1670 | F22: 1170 | G22: 911 | H22: 1370 | I22: 2040 | J22: 3160 | K22: 3589 | L22: 4219 | M22: 4603 | N22: 5292 | O22: 6751 | P22: 7560 | Q22: 7645 | R22: 9347 | S22: 10914 | T22: 11980 | U22: 12267 | V22: 11082 | W22: 11079 | X22: 12832 | Y22: 12573 | Z22: 13060 | AA22: 14217 | AB22: 15304 | AC22: 15503 | AD22: 16358 | AE22: 16645 | AF22: 16289 | AG22: 14945 | AH22: 17679 | AI22: 18901 | AJ22: 19810 | AK22: 21563 | AL22: 20249 | AM22: 18970 | AN22: 16676 | AO22: 17284 | AP22: 17880 | AQ22: 15712 | AR22: 14108 | AS22: 16146 | AT22: 12207
A23: Importers | B23: 392 | C23: Japan | D23: 1722 | E23: 1639 | F23: 1612 | G23: 1496 | H23: 1934 | I23: 1900 | J23: 2185 | K23: 2994 | L23: 3934 | M23: 4347 | N23: 4133 | O23: 4331 | P23: 4175 | Q23: 3933 | R23: 5152 | S23: 5985 | T23: 6075 | U23: 5801 | V23: 4354 | W23: 4543 | X23: 4936 | Y23: 4753 | Z23: 4532 | AA23: 5031 | AB23: 5599 | AC23: 5812 | AD23: 6179 | AE23: 6302 | AF23: 6925 | AG23: 6742 | AH23: 7197 | AI23: 9195 | AJ23: 9011 | AK23: 8766 | AL23: 8890 | AM23: 8178 | AN23: 8180 | AO23: 8387 | AP23: 8893 | AQ23: 8830 | AR23: 11806 | AS23: 9289 | AT23: 9632
A24: Importers | B24: 792 | C24: Türkiye | D24: 80 | E24: 78 | F24: 103 | G24: 98 | H24: 117 | I24: 145 | J24: 159 | K24: 202 | L24: 257 | M24: 293 | N24: 567 | O24: 537 | P24: 707 | Q24: 1011 | R24: 1110 | S24: 1811 | T24: 1933 | U24: 2324 | V24: 2317 | W24: 1907 | X24: 2124 | Y24: 1921 | Z24: 2839 | AA24: 3441 | AB24: 4170 | AC24: 4441 | AD24: 4686 | AE24: 6009 | AF24: 5646 | AG24: 4718 | AH24: 6540 | AI24: 7557 | AJ24: 6441 | AK24: 7010 | AL24: 7336 | AM24: 6266 | AN24: 6185 | AO24: 6885 | AP24: 6388 | AQ24: 6230 | AR24: 5265 | AS24: 6448 | AT24: 8076
A25: Importers | B25: 826 | C25: United Kingdom | D25: 3560 | E25: 3508 | F25: 3343 | G25: 3483 | H25: 3589 | I25: 3869 | J25: 4602 | K25: 5703 | L25: 6473 | M25: 6171 | N25: 7018 | O25: 6604 | P25: 6939 | Q25: 5569 | R25: 6645 | S25: 7262 | T25: 7808 | U25: 8376 | V25: 8341 | W25: 7476 | X25: 7265 | Y25: 6782 | Z25: 6870 | AA25: 7275 | AB25: 8195 | AC25: 7614 | AD25: 7946 | AE25: 8672 | AF25: 8112 | AG25: 6357 | AH25: 7164 | AI25: 7967 | AJ25: 6952 | AK25: 7503 | AL25: 8277 | AM25: 7766 | AN25: 7210 | AO25: 7289 | AP25: 7420 | AQ25: 7198 | AR25: 11050 | AS25: 7981 | AT25: 7741
A26: Importers | B26: 360 | C26: Indonesia | D26: 217 | E26: 250 | F26: 204 | G26: 149 | H26: 125 | I26: 126 | J26: 193 | K26: 213 | L26: 303 | M26: 511 | N26: 785 | O26: 886 | P26: 1100 | Q26: 1124 | R26: 1170 | S26: 1308 | T26: 1266 | U26: 1152 | V26: 1021 | W26: 866 | X26: 1251 | Y26: 1088 | Z26: 866 | AA26: 623 | AB26: 712 | AC26: 756 | AD26: 730 | AE26: 785 | AF26: 3262 | AG26: 2802 | AH26: 4216 | AI26: 5654 | AJ26: 5570 | AK26: 5788 | AL26: 5814 | AM26: 5709 | AN26: 5891 | AO26: 6127 | AP26: 6876 | AQ26: 6731 | AR26: 5325 | AS26: 7094 | AT26: 7571
A27: Importers | B27: 484 | C27: Mexico | D27: 133 | N27: 992 | O27: 1230 | P27: 1532 | Q27: 1900 | R27: 2147 | S27: 1768 | T27: 2220 | U27: 2868 | V27: 3433 | W27: 4837 | X27: 5822 | Y27: 5383 | Z27: 5571 | AA27: 5457 | AB27: 5752 | AC27: 6043 | AD27: 5951 | AE27: 5640 | AF27: 5366 | AG27: 4197 | AH27: 5150 | AI27: 5859 | AJ27: 6003 | AK27: 6180 | AL27: 6377 | AM27: 6484 | AN27: 6197 | AO27: 6270 | AP27: 6555 | AQ27: 6179 | AR27: 5290 | AS27: 6223 | AT27: 6735

Sheet A23 data
A1: Raw data for table A23 (clothing), 2023 edition (trade data for 2022), US$ million. Source: WTO Timeseries via WTO Timeseries API v1 (api.wto.org).
A2: EU: WTO's EU-27 series from 2000; before 2000 added up from the member states of each year. Extra-EU from 2000 only.
