Workbook

Sheet A22 textiles
A1: Table A22, 2020 edition (trade data for 2019)
A2: Top 10 exporters and importers of textiles, 2019
A3: (Billion dollars and percentage)
A5: Economy | B5: Value 2019 (US$ bn) | C5: Share 2000 (%) | D5: Share 2005 (%) | E5: Share 2010 (%) | F5: Share 2019 (%) | G5: Change 2010-19 (% p.a.) | H5: Change 2017 (%) | I5: Change 2018 (%) | J5: Change 2019 (%)
A6: Exporters
A7: China | B7: =IF('A22 data'!$AQ$5="","...",'A22 data'!$AQ$5/1000) | C7: =IFERROR(IF('A22 data'!$X$5="","...",'A22 data'!$X$5/'A22 data'!$X$4*100),"...") | D7: =IFERROR(IF('A22 data'!$AC$5="","...",'A22 data'!$AC$5/'A22 data'!$AC$4*100),"...") | E7: =IFERROR(IF('A22 data'!$AH$5="","...",'A22 data'!$AH$5/'A22 data'!$AH$4*100),"...") | F7: =IFERROR(IF('A22 data'!$AQ$5="","...",'A22 data'!$AQ$5/'A22 data'!$AQ$4*100),"...") | G7: =IF(OR('A22 data'!$AQ$5="",'A22 data'!$AH$5=""),"...",IFERROR((('A22 data'!$AQ$5/'A22 data'!$AH$5)^(1/9)-1)*100,"...")) | H7: =IF(OR('A22 data'!$AO$5="",'A22 data'!$AN$5=""),"...",IFERROR(('A22 data'!$AO$5/'A22 data'!$AN$5-1)*100,"...")) | I7: =IF(OR('A22 data'!$AP$5="",'A22 data'!$AO$5=""),"...",IFERROR(('A22 data'!$AP$5/'A22 data'!$AO$5-1)*100,"...")) | J7: =IF(OR('A22 data'!$AQ$5="",'A22 data'!$AP$5=""),"...",IFERROR(('A22 data'!$AQ$5/'A22 data'!$AP$5-1)*100,"..."))
A8: European Union | B8: =IF('A22 data'!$AQ$6="","...",'A22 data'!$AQ$6/1000) | C8: =IFERROR(IF('A22 data'!$X$6="","...",'A22 data'!$X$6/'A22 data'!$X$4*100),"...") | D8: =IFERROR(IF('A22 data'!$AC$6="","...",'A22 data'!$AC$6/'A22 data'!$AC$4*100),"...") | E8: =IFERROR(IF('A22 data'!$AH$6="","...",'A22 data'!$AH$6/'A22 data'!$AH$4*100),"...") | F8: =IFERROR(IF('A22 data'!$AQ$6="","...",'A22 data'!$AQ$6/'A22 data'!$AQ$4*100),"...") | G8: =IF(OR('A22 data'!$AQ$6="",'A22 data'!$AH$6=""),"...",IFERROR((('A22 data'!$AQ$6/'A22 data'!$AH$6)^(1/9)-1)*100,"...")) | H8: =IF(OR('A22 data'!$AO$6="",'A22 data'!$AN$6=""),"...",IFERROR(('A22 data'!$AO$6/'A22 data'!$AN$6-1)*100,"...")) | I8: =IF(OR('A22 data'!$AP$6="",'A22 data'!$AO$6=""),"...",IFERROR(('A22 data'!$AP$6/'A22 data'!$AO$6-1)*100,"...")) | J8: =IF(OR('A22 data'!$AQ$6="",'A22 data'!$AP$6=""),"...",IFERROR(('A22 data'!$AQ$6/'A22 data'!$AP$6-1)*100,"..."))
A9: Extra-EU | B9: =IF('A22 data'!$AQ$7="","...",'A22 data'!$AQ$7/1000) | C9: =IFERROR(IF('A22 data'!$X$7="","...",'A22 data'!$X$7/'A22 data'!$X$4*100),"...") | D9: =IFERROR(IF('A22 data'!$AC$7="","...",'A22 data'!$AC$7/'A22 data'!$AC$4*100),"...") | E9: =IFERROR(IF('A22 data'!$AH$7="","...",'A22 data'!$AH$7/'A22 data'!$AH$4*100),"...") | F9: =IFERROR(IF('A22 data'!$AQ$7="","...",'A22 data'!$AQ$7/'A22 data'!$AQ$4*100),"...") | G9: =IF(OR('A22 data'!$AQ$7="",'A22 data'!$AH$7=""),"...",IFERROR((('A22 data'!$AQ$7/'A22 data'!$AH$7)^(1/9)-1)*100,"...")) | H9: =IF(OR('A22 data'!$AO$7="",'A22 data'!$AN$7=""),"...",IFERROR(('A22 data'!$AO$7/'A22 data'!$AN$7-1)*100,"...")) | I9: =IF(OR('A22 data'!$AP$7="",'A22 data'!$AO$7=""),"...",IFERROR(('A22 data'!$AP$7/'A22 data'!$AO$7-1)*100,"...")) | J9: =IF(OR('A22 data'!$AQ$7="",'A22 data'!$AP$7=""),"...",IFERROR(('A22 data'!$AQ$7/'A22 data'!$AP$7-1)*100,"..."))
A10: India | B10: =IF('A22 data'!$AQ$8="","...",'A22 data'!$AQ$8/1000) | C10: =IFERROR(IF('A22 data'!$X$8="","...",'A22 data'!$X$8/'A22 data'!$X$4*100),"...") | D10: =IFERROR(IF('A22 data'!$AC$8="","...",'A22 data'!$AC$8/'A22 data'!$AC$4*100),"...") | E10: =IFERROR(IF('A22 data'!$AH$8="","...",'A22 data'!$AH$8/'A22 data'!$AH$4*100),"...") | F10: =IFERROR(IF('A22 data'!$AQ$8="","...",'A22 data'!$AQ$8/'A22 data'!$AQ$4*100),"...") | G10: =IF(OR('A22 data'!$AQ$8="",'A22 data'!$AH$8=""),"...",IFERROR((('A22 data'!$AQ$8/'A22 data'!$AH$8)^(1/9)-1)*100,"...")) | H10: =IF(OR('A22 data'!$AO$8="",'A22 data'!$AN$8=""),"...",IFERROR(('A22 data'!$AO$8/'A22 data'!$AN$8-1)*100,"...")) | I10: =IF(OR('A22 data'!$AP$8="",'A22 data'!$AO$8=""),"...",IFERROR(('A22 data'!$AP$8/'A22 data'!$AO$8-1)*100,"...")) | J10: =IF(OR('A22 data'!$AQ$8="",'A22 data'!$AP$8=""),"...",IFERROR(('A22 data'!$AQ$8/'A22 data'!$AP$8-1)*100,"..."))
A11: United States of America | B11: =IF('A22 data'!$AQ$9="","...",'A22 data'!$AQ$9/1000) | C11: =IFERROR(IF('A22 data'!$X$9="","...",'A22 data'!$X$9/'A22 data'!$X$4*100),"...") | D11: =IFERROR(IF('A22 data'!$AC$9="","...",'A22 data'!$AC$9/'A22 data'!$AC$4*100),"...") | E11: =IFERROR(IF('A22 data'!$AH$9="","...",'A22 data'!$AH$9/'A22 data'!$AH$4*100),"...") | F11: =IFERROR(IF('A22 data'!$AQ$9="","...",'A22 data'!$AQ$9/'A22 data'!$AQ$4*100),"...") | G11: =IF(OR('A22 data'!$AQ$9="",'A22 data'!$AH$9=""),"...",IFERROR((('A22 data'!$AQ$9/'A22 data'!$AH$9)^(1/9)-1)*100,"...")) | H11: =IF(OR('A22 data'!$AO$9="",'A22 data'!$AN$9=""),"...",IFERROR(('A22 data'!$AO$9/'A22 data'!$AN$9-1)*100,"...")) | I11: =IF(OR('A22 data'!$AP$9="",'A22 data'!$AO$9=""),"...",IFERROR(('A22 data'!$AP$9/'A22 data'!$AO$9-1)*100,"...")) | J11: =IF(OR('A22 data'!$AQ$9="",'A22 data'!$AP$9=""),"...",IFERROR(('A22 data'!$AQ$9/'A22 data'!$AP$9-1)*100,"..."))
A12: Türkiye | B12: =IF('A22 data'!$AQ$10="","...",'A22 data'!$AQ$10/1000) | C12: =IFERROR(IF('A22 data'!$X$10="","...",'A22 data'!$X$10/'A22 data'!$X$4*100),"...") | D12: =IFERROR(IF('A22 data'!$AC$10="","...",'A22 data'!$AC$10/'A22 data'!$AC$4*100),"...") | E12: =IFERROR(IF('A22 data'!$AH$10="","...",'A22 data'!$AH$10/'A22 data'!$AH$4*100),"...") | F12: =IFERROR(IF('A22 data'!$AQ$10="","...",'A22 data'!$AQ$10/'A22 data'!$AQ$4*100),"...") | G12: =IF(OR('A22 data'!$AQ$10="",'A22 data'!$AH$10=""),"...",IFERROR((('A22 data'!$AQ$10/'A22 data'!$AH$10)^(1/9)-1)*100,"...")) | H12: =IF(OR('A22 data'!$AO$10="",'A22 data'!$AN$10=""),"...",IFERROR(('A22 data'!$AO$10/'A22 data'!$AN$10-1)*100,"...")) | I12: =IF(OR('A22 data'!$AP$10="",'A22 data'!$AO$10=""),"...",IFERROR(('A22 data'!$AP$10/'A22 data'!$AO$10-1)*100,"...")) | J12: =IF(OR('A22 data'!$AQ$10="",'A22 data'!$AP$10=""),"...",IFERROR(('A22 data'!$AQ$10/'A22 data'!$AP$10-1)*100,"..."))
A13: Korea, Republic of | B13: =IF('A22 data'!$AQ$11="","...",'A22 data'!$AQ$11/1000) | C13: =IFERROR(IF('A22 data'!$X$11="","...",'A22 data'!$X$11/'A22 data'!$X$4*100),"...") | D13: =IFERROR(IF('A22 data'!$AC$11="","...",'A22 data'!$AC$11/'A22 data'!$AC$4*100),"...") | E13: =IFERROR(IF('A22 data'!$AH$11="","...",'A22 data'!$AH$11/'A22 data'!$AH$4*100),"...") | F13: =IFERROR(IF('A22 data'!$AQ$11="","...",'A22 data'!$AQ$11/'A22 data'!$AQ$4*100),"...") | G13: =IF(OR('A22 data'!$AQ$11="",'A22 data'!$AH$11=""),"...",IFERROR((('A22 data'!$AQ$11/'A22 data'!$AH$11)^(1/9)-1)*100,"...")) | H13: =IF(OR('A22 data'!$AO$11="",'A22 data'!$AN$11=""),"...",IFERROR(('A22 data'!$AO$11/'A22 data'!$AN$11-1)*100,"...")) | I13: =IF(OR('A22 data'!$AP$11="",'A22 data'!$AO$11=""),"...",IFERROR(('A22 data'!$AP$11/'A22 data'!$AO$11-1)*100,"...")) | J13: =IF(OR('A22 data'!$AQ$11="",'A22 data'!$AP$11=""),"...",IFERROR(('A22 data'!$AQ$11/'A22 data'!$AP$11-1)*100,"..."))
A14: Viet Nam | B14: =IF('A22 data'!$AQ$12="","...",'A22 data'!$AQ$12/1000) | C14: =IFERROR(IF('A22 data'!$X$12="","...",'A22 data'!$X$12/'A22 data'!$X$4*100),"...") | D14: =IFERROR(IF('A22 data'!$AC$12="","...",'A22 data'!$AC$12/'A22 data'!$AC$4*100),"...") | E14: =IFERROR(IF('A22 data'!$AH$12="","...",'A22 data'!$AH$12/'A22 data'!$AH$4*100),"...") | F14: =IFERROR(IF('A22 data'!$AQ$12="","...",'A22 data'!$AQ$12/'A22 data'!$AQ$4*100),"...") | G14: =IF(OR('A22 data'!$AQ$12="",'A22 data'!$AH$12=""),"...",IFERROR((('A22 data'!$AQ$12/'A22 data'!$AH$12)^(1/9)-1)*100,"...")) | H14: =IF(OR('A22 data'!$AO$12="",'A22 data'!$AN$12=""),"...",IFERROR(('A22 data'!$AO$12/'A22 data'!$AN$12-1)*100,"...")) | I14: =IF(OR('A22 data'!$AP$12="",'A22 data'!$AO$12=""),"...",IFERROR(('A22 data'!$AP$12/'A22 data'!$AO$12-1)*100,"...")) | J14: =IF(OR('A22 data'!$AQ$12="",'A22 data'!$AP$12=""),"...",IFERROR(('A22 data'!$AQ$12/'A22 data'!$AP$12-1)*100,"..."))
A15: Chinese Taipei | B15: =IF('A22 data'!$AQ$13="","...",'A22 data'!$AQ$13/1000) | C15: =IFERROR(IF('A22 data'!$X$13="","...",'A22 data'!$X$13/'A22 data'!$X$4*100),"...") | D15: =IFERROR(IF('A22 data'!$AC$13="","...",'A22 data'!$AC$13/'A22 data'!$AC$4*100),"...") | E15: =IFERROR(IF('A22 data'!$AH$13="","...",'A22 data'!$AH$13/'A22 data'!$AH$4*100),"...") | F15: =IFERROR(IF('A22 data'!$AQ$13="","...",'A22 data'!$AQ$13/'A22 data'!$AQ$4*100),"...") | G15: =IF(OR('A22 data'!$AQ$13="",'A22 data'!$AH$13=""),"...",IFERROR((('A22 data'!$AQ$13/'A22 data'!$AH$13)^(1/9)-1)*100,"...")) | H15: =IF(OR('A22 data'!$AO$13="",'A22 data'!$AN$13=""),"...",IFERROR(('A22 data'!$AO$13/'A22 data'!$AN$13-1)*100,"...")) | I15: =IF(OR('A22 data'!$AP$13="",'A22 data'!$AO$13=""),"...",IFERROR(('A22 data'!$AP$13/'A22 data'!$AO$13-1)*100,"...")) | J15: =IF(OR('A22 data'!$AQ$13="",'A22 data'!$AP$13=""),"...",IFERROR(('A22 data'!$AQ$13/'A22 data'!$AP$13-1)*100,"..."))
A16: Pakistan | B16: =IF('A22 data'!$AQ$14="","...",'A22 data'!$AQ$14/1000) | C16: =IFERROR(IF('A22 data'!$X$14="","...",'A22 data'!$X$14/'A22 data'!$X$4*100),"...") | D16: =IFERROR(IF('A22 data'!$AC$14="","...",'A22 data'!$AC$14/'A22 data'!$AC$4*100),"...") | E16: =IFERROR(IF('A22 data'!$AH$14="","...",'A22 data'!$AH$14/'A22 data'!$AH$4*100),"...") | F16: =IFERROR(IF('A22 data'!$AQ$14="","...",'A22 data'!$AQ$14/'A22 data'!$AQ$4*100),"...") | G16: =IF(OR('A22 data'!$AQ$14="",'A22 data'!$AH$14=""),"...",IFERROR((('A22 data'!$AQ$14/'A22 data'!$AH$14)^(1/9)-1)*100,"...")) | H16: =IF(OR('A22 data'!$AO$14="",'A22 data'!$AN$14=""),"...",IFERROR(('A22 data'!$AO$14/'A22 data'!$AN$14-1)*100,"...")) | I16: =IF(OR('A22 data'!$AP$14="",'A22 data'!$AO$14=""),"...",IFERROR(('A22 data'!$AP$14/'A22 data'!$AO$14-1)*100,"...")) | J16: =IF(OR('A22 data'!$AQ$14="",'A22 data'!$AP$14=""),"...",IFERROR(('A22 data'!$AQ$14/'A22 data'!$AP$14-1)*100,"..."))
A17: Japan | B17: =IF('A22 data'!$AQ$15="","...",'A22 data'!$AQ$15/1000) | C17: =IFERROR(IF('A22 data'!$X$15="","...",'A22 data'!$X$15/'A22 data'!$X$4*100),"...") | D17: =IFERROR(IF('A22 data'!$AC$15="","...",'A22 data'!$AC$15/'A22 data'!$AC$4*100),"...") | E17: =IFERROR(IF('A22 data'!$AH$15="","...",'A22 data'!$AH$15/'A22 data'!$AH$4*100),"...") | F17: =IFERROR(IF('A22 data'!$AQ$15="","...",'A22 data'!$AQ$15/'A22 data'!$AQ$4*100),"...") | G17: =IF(OR('A22 data'!$AQ$15="",'A22 data'!$AH$15=""),"...",IFERROR((('A22 data'!$AQ$15/'A22 data'!$AH$15)^(1/9)-1)*100,"...")) | H17: =IF(OR('A22 data'!$AO$15="",'A22 data'!$AN$15=""),"...",IFERROR(('A22 data'!$AO$15/'A22 data'!$AN$15-1)*100,"...")) | I17: =IF(OR('A22 data'!$AP$15="",'A22 data'!$AO$15=""),"...",IFERROR(('A22 data'!$AP$15/'A22 data'!$AO$15-1)*100,"...")) | J17: =IF(OR('A22 data'!$AQ$15="",'A22 data'!$AP$15=""),"...",IFERROR(('A22 data'!$AQ$15/'A22 data'!$AP$15-1)*100,"..."))
A18: Above 10 | B18: =IFERROR(B7+B8+B10+B11+B12+B13+B14+B15+B16+B17,"...") | C18: =IFERROR(C7+C8+C10+C11+C12+C13+C14+C15+C16+C17,"...") | D18: =IFERROR(D7+D8+D10+D11+D12+D13+D14+D15+D16+D17,"...") | E18: =IFERROR(E7+E8+E10+E11+E12+E13+E14+E15+E16+E17,"...") | F18: =IFERROR(F7+F8+F10+F11+F12+F13+F14+F15+F16+F17,"...") | G18: - | H18: - | I18: - | J18: -
A19: Importers
A20: European Union | B20: =IF('A22 data'!$AQ$17="","...",'A22 data'!$AQ$17/1000) | C20: =IFERROR(IF('A22 data'!$X$17="","...",'A22 data'!$X$17/'A22 data'!$X$16*100),"...") | D20: =IFERROR(IF('A22 data'!$AC$17="","...",'A22 data'!$AC$17/'A22 data'!$AC$16*100),"...") | E20: =IFERROR(IF('A22 data'!$AH$17="","...",'A22 data'!$AH$17/'A22 data'!$AH$16*100),"...") | F20: =IFERROR(IF('A22 data'!$AQ$17="","...",'A22 data'!$AQ$17/'A22 data'!$AQ$16*100),"...") | G20: =IF(OR('A22 data'!$AQ$17="",'A22 data'!$AH$17=""),"...",IFERROR((('A22 data'!$AQ$17/'A22 data'!$AH$17)^(1/9)-1)*100,"...")) | H20: =IF(OR('A22 data'!$AO$17="",'A22 data'!$AN$17=""),"...",IFERROR(('A22 data'!$AO$17/'A22 data'!$AN$17-1)*100,"...")) | I20: =IF(OR('A22 data'!$AP$17="",'A22 data'!$AO$17=""),"...",IFERROR(('A22 data'!$AP$17/'A22 data'!$AO$17-1)*100,"...")) | J20: =IF(OR('A22 data'!$AQ$17="",'A22 data'!$AP$17=""),"...",IFERROR(('A22 data'!$AQ$17/'A22 data'!$AP$17-1)*100,"..."))
A21: Extra-EU | B21: =IF('A22 data'!$AQ$18="","...",'A22 data'!$AQ$18/1000) | C21: =IFERROR(IF('A22 data'!$X$18="","...",'A22 data'!$X$18/'A22 data'!$X$16*100),"...") | D21: =IFERROR(IF('A22 data'!$AC$18="","...",'A22 data'!$AC$18/'A22 data'!$AC$16*100),"...") | E21: =IFERROR(IF('A22 data'!$AH$18="","...",'A22 data'!$AH$18/'A22 data'!$AH$16*100),"...") | F21: =IFERROR(IF('A22 data'!$AQ$18="","...",'A22 data'!$AQ$18/'A22 data'!$AQ$16*100),"...") | G21: =IF(OR('A22 data'!$AQ$18="",'A22 data'!$AH$18=""),"...",IFERROR((('A22 data'!$AQ$18/'A22 data'!$AH$18)^(1/9)-1)*100,"...")) | H21: =IF(OR('A22 data'!$AO$18="",'A22 data'!$AN$18=""),"...",IFERROR(('A22 data'!$AO$18/'A22 data'!$AN$18-1)*100,"...")) | I21: =IF(OR('A22 data'!$AP$18="",'A22 data'!$AO$18=""),"...",IFERROR(('A22 data'!$AP$18/'A22 data'!$AO$18-1)*100,"...")) | J21: =IF(OR('A22 data'!$AQ$18="",'A22 data'!$AP$18=""),"...",IFERROR(('A22 data'!$AQ$18/'A22 data'!$AP$18-1)*100,"..."))
A22: United States of America | B22: =IF('A22 data'!$AQ$19="","...",'A22 data'!$AQ$19/1000) | C22: =IFERROR(IF('A22 data'!$X$19="","...",'A22 data'!$X$19/'A22 data'!$X$16*100),"...") | D22: =IFERROR(IF('A22 data'!$AC$19="","...",'A22 data'!$AC$19/'A22 data'!$AC$16*100),"...") | E22: =IFERROR(IF('A22 data'!$AH$19="","...",'A22 data'!$AH$19/'A22 data'!$AH$16*100),"...") | F22: =IFERROR(IF('A22 data'!$AQ$19="","...",'A22 data'!$AQ$19/'A22 data'!$AQ$16*100),"...") | G22: =IF(OR('A22 data'!$AQ$19="",'A22 data'!$AH$19=""),"...",IFERROR((('A22 data'!$AQ$19/'A22 data'!$AH$19)^(1/9)-1)*100,"...")) | H22: =IF(OR('A22 data'!$AO$19="",'A22 data'!$AN$19=""),"...",IFERROR(('A22 data'!$AO$19/'A22 data'!$AN$19-1)*100,"...")) | I22: =IF(OR('A22 data'!$AP$19="",'A22 data'!$AO$19=""),"...",IFERROR(('A22 data'!$AP$19/'A22 data'!$AO$19-1)*100,"...")) | J22: =IF(OR('A22 data'!$AQ$19="",'A22 data'!$AP$19=""),"...",IFERROR(('A22 data'!$AQ$19/'A22 data'!$AP$19-1)*100,"..."))
A23: Viet Nam | B23: =IF('A22 data'!$AQ$20="","...",'A22 data'!$AQ$20/1000) | C23: =IFERROR(IF('A22 data'!$X$20="","...",'A22 data'!$X$20/'A22 data'!$X$16*100),"...") | D23: =IFERROR(IF('A22 data'!$AC$20="","...",'A22 data'!$AC$20/'A22 data'!$AC$16*100),"...") | E23: =IFERROR(IF('A22 data'!$AH$20="","...",'A22 data'!$AH$20/'A22 data'!$AH$16*100),"...") | F23: =IFERROR(IF('A22 data'!$AQ$20="","...",'A22 data'!$AQ$20/'A22 data'!$AQ$16*100),"...") | G23: =IF(OR('A22 data'!$AQ$20="",'A22 data'!$AH$20=""),"...",IFERROR((('A22 data'!$AQ$20/'A22 data'!$AH$20)^(1/9)-1)*100,"...")) | H23: =IF(OR('A22 data'!$AO$20="",'A22 data'!$AN$20=""),"...",IFERROR(('A22 data'!$AO$20/'A22 data'!$AN$20-1)*100,"...")) | I23: =IF(OR('A22 data'!$AP$20="",'A22 data'!$AO$20=""),"...",IFERROR(('A22 data'!$AP$20/'A22 data'!$AO$20-1)*100,"...")) | J23: =IF(OR('A22 data'!$AQ$20="",'A22 data'!$AP$20=""),"...",IFERROR(('A22 data'!$AQ$20/'A22 data'!$AP$20-1)*100,"..."))
A24: China | B24: =IF('A22 data'!$AQ$21="","...",'A22 data'!$AQ$21/1000) | C24: =IFERROR(IF('A22 data'!$X$21="","...",'A22 data'!$X$21/'A22 data'!$X$16*100),"...") | D24: =IFERROR(IF('A22 data'!$AC$21="","...",'A22 data'!$AC$21/'A22 data'!$AC$16*100),"...") | E24: =IFERROR(IF('A22 data'!$AH$21="","...",'A22 data'!$AH$21/'A22 data'!$AH$16*100),"...") | F24: =IFERROR(IF('A22 data'!$AQ$21="","...",'A22 data'!$AQ$21/'A22 data'!$AQ$16*100),"...") | G24: =IF(OR('A22 data'!$AQ$21="",'A22 data'!$AH$21=""),"...",IFERROR((('A22 data'!$AQ$21/'A22 data'!$AH$21)^(1/9)-1)*100,"...")) | H24: =IF(OR('A22 data'!$AO$21="",'A22 data'!$AN$21=""),"...",IFERROR(('A22 data'!$AO$21/'A22 data'!$AN$21-1)*100,"...")) | I24: =IF(OR('A22 data'!$AP$21="",'A22 data'!$AO$21=""),"...",IFERROR(('A22 data'!$AP$21/'A22 data'!$AO$21-1)*100,"...")) | J24: =IF(OR('A22 data'!$AQ$21="",'A22 data'!$AP$21=""),"...",IFERROR(('A22 data'!$AQ$21/'A22 data'!$AP$21-1)*100,"..."))
A25: Bangladesh (1) | B25: =IF('A22 data'!$AQ$22="","...",'A22 data'!$AQ$22/1000) | C25: =IFERROR(IF('A22 data'!$X$22="","...",'A22 data'!$X$22/'A22 data'!$X$16*100),"...") | D25: =IFERROR(IF('A22 data'!$AC$22="","...",'A22 data'!$AC$22/'A22 data'!$AC$16*100),"...") | E25: =IFERROR(IF('A22 data'!$AH$22="","...",'A22 data'!$AH$22/'A22 data'!$AH$16*100),"...") | F25: =IFERROR(IF('A22 data'!$AQ$22="","...",'A22 data'!$AQ$22/'A22 data'!$AQ$16*100),"...") | G25: =IF(OR('A22 data'!$AQ$22="",'A22 data'!$AH$22=""),"...",IFERROR((('A22 data'!$AQ$22/'A22 data'!$AH$22)^(1/9)-1)*100,"...")) | H25: =IF(OR('A22 data'!$AO$22="",'A22 data'!$AN$22=""),"...",IFERROR(('A22 data'!$AO$22/'A22 data'!$AN$22-1)*100,"...")) | I25: =IF(OR('A22 data'!$AP$22="",'A22 data'!$AO$22=""),"...",IFERROR(('A22 data'!$AP$22/'A22 data'!$AO$22-1)*100,"...")) | J25: =IF(OR('A22 data'!$AQ$22="",'A22 data'!$AP$22=""),"...",IFERROR(('A22 data'!$AQ$22/'A22 data'!$AP$22-1)*100,"..."))
A26: Japan | B26: =IF('A22 data'!$AQ$23="","...",'A22 data'!$AQ$23/1000) | C26: =IFERROR(IF('A22 data'!$X$23="","...",'A22 data'!$X$23/'A22 data'!$X$16*100),"...") | D26: =IFERROR(IF('A22 data'!$AC$23="","...",'A22 data'!$AC$23/'A22 data'!$AC$16*100),"...") | E26: =IFERROR(IF('A22 data'!$AH$23="","...",'A22 data'!$AH$23/'A22 data'!$AH$16*100),"...") | F26: =IFERROR(IF('A22 data'!$AQ$23="","...",'A22 data'!$AQ$23/'A22 data'!$AQ$16*100),"...") | G26: =IF(OR('A22 data'!$AQ$23="",'A22 data'!$AH$23=""),"...",IFERROR((('A22 data'!$AQ$23/'A22 data'!$AH$23)^(1/9)-1)*100,"...")) | H26: =IF(OR('A22 data'!$AO$23="",'A22 data'!$AN$23=""),"...",IFERROR(('A22 data'!$AO$23/'A22 data'!$AN$23-1)*100,"...")) | I26: =IF(OR('A22 data'!$AP$23="",'A22 data'!$AO$23=""),"...",IFERROR(('A22 data'!$AP$23/'A22 data'!$AO$23-1)*100,"...")) | J26: =IF(OR('A22 data'!$AQ$23="",'A22 data'!$AP$23=""),"...",IFERROR(('A22 data'!$AQ$23/'A22 data'!$AP$23-1)*100,"..."))
A27: United Kingdom | B27: =IF('A22 data'!$AQ$24="","...",'A22 data'!$AQ$24/1000) | C27: =IFERROR(IF('A22 data'!$X$24="","...",'A22 data'!$X$24/'A22 data'!$X$16*100),"...") | D27: =IFERROR(IF('A22 data'!$AC$24="","...",'A22 data'!$AC$24/'A22 data'!$AC$16*100),"...") | E27: =IFERROR(IF('A22 data'!$AH$24="","...",'A22 data'!$AH$24/'A22 data'!$AH$16*100),"...") | F27: =IFERROR(IF('A22 data'!$AQ$24="","...",'A22 data'!$AQ$24/'A22 data'!$AQ$16*100),"...") | G27: =IF(OR('A22 data'!$AQ$24="",'A22 data'!$AH$24=""),"...",IFERROR((('A22 data'!$AQ$24/'A22 data'!$AH$24)^(1/9)-1)*100,"...")) | H27: =IF(OR('A22 data'!$AO$24="",'A22 data'!$AN$24=""),"...",IFERROR(('A22 data'!$AO$24/'A22 data'!$AN$24-1)*100,"...")) | I27: =IF(OR('A22 data'!$AP$24="",'A22 data'!$AO$24=""),"...",IFERROR(('A22 data'!$AP$24/'A22 data'!$AO$24-1)*100,"...")) | J27: =IF(OR('A22 data'!$AQ$24="",'A22 data'!$AP$24=""),"...",IFERROR(('A22 data'!$AQ$24/'A22 data'!$AP$24-1)*100,"..."))
A28: Indonesia | B28: =IF('A22 data'!$AQ$25="","...",'A22 data'!$AQ$25/1000) | C28: =IFERROR(IF('A22 data'!$X$25="","...",'A22 data'!$X$25/'A22 data'!$X$16*100),"...") | D28: =IFERROR(IF('A22 data'!$AC$25="","...",'A22 data'!$AC$25/'A22 data'!$AC$16*100),"...") | E28: =IFERROR(IF('A22 data'!$AH$25="","...",'A22 data'!$AH$25/'A22 data'!$AH$16*100),"...") | F28: =IFERROR(IF('A22 data'!$AQ$25="","...",'A22 data'!$AQ$25/'A22 data'!$AQ$16*100),"...") | G28: =IF(OR('A22 data'!$AQ$25="",'A22 data'!$AH$25=""),"...",IFERROR((('A22 data'!$AQ$25/'A22 data'!$AH$25)^(1/9)-1)*100,"...")) | H28: =IF(OR('A22 data'!$AO$25="",'A22 data'!$AN$25=""),"...",IFERROR(('A22 data'!$AO$25/'A22 data'!$AN$25-1)*100,"...")) | I28: =IF(OR('A22 data'!$AP$25="",'A22 data'!$AO$25=""),"...",IFERROR(('A22 data'!$AP$25/'A22 data'!$AO$25-1)*100,"...")) | J28: =IF(OR('A22 data'!$AQ$25="",'A22 data'!$AP$25=""),"...",IFERROR(('A22 data'!$AQ$25/'A22 data'!$AP$25-1)*100,"..."))
A29: Türkiye | B29: =IF('A22 data'!$AQ$26="","...",'A22 data'!$AQ$26/1000) | C29: =IFERROR(IF('A22 data'!$X$26="","...",'A22 data'!$X$26/'A22 data'!$X$16*100),"...") | D29: =IFERROR(IF('A22 data'!$AC$26="","...",'A22 data'!$AC$26/'A22 data'!$AC$16*100),"...") | E29: =IFERROR(IF('A22 data'!$AH$26="","...",'A22 data'!$AH$26/'A22 data'!$AH$16*100),"...") | F29: =IFERROR(IF('A22 data'!$AQ$26="","...",'A22 data'!$AQ$26/'A22 data'!$AQ$16*100),"...") | G29: =IF(OR('A22 data'!$AQ$26="",'A22 data'!$AH$26=""),"...",IFERROR((('A22 data'!$AQ$26/'A22 data'!$AH$26)^(1/9)-1)*100,"...")) | H29: =IF(OR('A22 data'!$AO$26="",'A22 data'!$AN$26=""),"...",IFERROR(('A22 data'!$AO$26/'A22 data'!$AN$26-1)*100,"...")) | I29: =IF(OR('A22 data'!$AP$26="",'A22 data'!$AO$26=""),"...",IFERROR(('A22 data'!$AP$26/'A22 data'!$AO$26-1)*100,"...")) | J29: =IF(OR('A22 data'!$AQ$26="",'A22 data'!$AP$26=""),"...",IFERROR(('A22 data'!$AQ$26/'A22 data'!$AP$26-1)*100,"..."))
A30: Mexico | B30: =IF('A22 data'!$AQ$27="","...",'A22 data'!$AQ$27/1000) | C30: =IFERROR(IF('A22 data'!$X$27="","...",'A22 data'!$X$27/'A22 data'!$X$16*100),"...") | D30: =IFERROR(IF('A22 data'!$AC$27="","...",'A22 data'!$AC$27/'A22 data'!$AC$16*100),"...") | E30: =IFERROR(IF('A22 data'!$AH$27="","...",'A22 data'!$AH$27/'A22 data'!$AH$16*100),"...") | F30: =IFERROR(IF('A22 data'!$AQ$27="","...",'A22 data'!$AQ$27/'A22 data'!$AQ$16*100),"...") | G30: =IF(OR('A22 data'!$AQ$27="",'A22 data'!$AH$27=""),"...",IFERROR((('A22 data'!$AQ$27/'A22 data'!$AH$27)^(1/9)-1)*100,"...")) | H30: =IF(OR('A22 data'!$AO$27="",'A22 data'!$AN$27=""),"...",IFERROR(('A22 data'!$AO$27/'A22 data'!$AN$27-1)*100,"...")) | I30: =IF(OR('A22 data'!$AP$27="",'A22 data'!$AO$27=""),"...",IFERROR(('A22 data'!$AP$27/'A22 data'!$AO$27-1)*100,"...")) | J30: =IF(OR('A22 data'!$AQ$27="",'A22 data'!$AP$27=""),"...",IFERROR(('A22 data'!$AQ$27/'A22 data'!$AP$27-1)*100,"..."))
A31: Above 10 | B31: =IFERROR(B20+B22+B23+B24+B25+B26+B27+B28+B29+B30,"...") | C31: =IFERROR(C20+C22+C23+C24+C25+C26+C27+C28+C29+C30,"...") | D31: =IFERROR(D20+D22+D23+D24+D25+D26+D27+D28+D29+D30,"...") | E31: =IFERROR(E20+E22+E23+E24+E25+E26+E27+E28+E29+E30,"...") | F31: =IFERROR(F20+F22+F23+F24+F25+F26+F27+F28+F29+F30,"...") | G31: - | H31: - | I31: - | J31: -
A33: (1) Estimate (as flagged by WTO).
A35: Notes
A36: The EU is ranked as one economy; its member states are not ranked. Extra-EU (the EU's trade with non-members) is shown beneath it and is not ranked.
A37: From 2000 the EU figure is WTO's own series for today's 27 member states (EU-27), in every year, including years when the membership was different. The United Kingdom is ranked on its own.
A38: Economies ranked in 2019: 153 exporters, 155 importers.
A39: "Above 10" is the sum of the ten ranked economies. "..." means not available.
A40: Shares are of world textiles exports or imports. 2010-19 is the compound annual rate of change.
A41: Figures for every year are as WTO published them on 2026-09-29; WTO revises past figures, so they can differ from the printed review.
A42: Source: WTO Timeseries, indicators ITS_MTV_AX and ITS_MTV_AM, product MATE (SITC 65), via WTO Timeseries API v1 (api.wto.org).
A43: Blue figures on the data sheet are downloaded inputs; every figure on this sheet is a formula.

Sheet A23 clothing
A1: Table A23, 2020 edition (trade data for 2019)
A2: Top 10 exporters and importers of clothing, 2019
A3: (Billion dollars and percentage)
A5: Economy | B5: Value 2019 (US$ bn) | C5: Share 2000 (%) | D5: Share 2005 (%) | E5: Share 2010 (%) | F5: Share 2019 (%) | G5: Change 2010-19 (% p.a.) | H5: Change 2017 (%) | I5: Change 2018 (%) | J5: Change 2019 (%)
A6: Exporters
A7: China | B7: =IF('A23 data'!$AQ$5="","...",'A23 data'!$AQ$5/1000) | C7: =IFERROR(IF('A23 data'!$X$5="","...",'A23 data'!$X$5/'A23 data'!$X$4*100),"...") | D7: =IFERROR(IF('A23 data'!$AC$5="","...",'A23 data'!$AC$5/'A23 data'!$AC$4*100),"...") | E7: =IFERROR(IF('A23 data'!$AH$5="","...",'A23 data'!$AH$5/'A23 data'!$AH$4*100),"...") | F7: =IFERROR(IF('A23 data'!$AQ$5="","...",'A23 data'!$AQ$5/'A23 data'!$AQ$4*100),"...") | G7: =IF(OR('A23 data'!$AQ$5="",'A23 data'!$AH$5=""),"...",IFERROR((('A23 data'!$AQ$5/'A23 data'!$AH$5)^(1/9)-1)*100,"...")) | H7: =IF(OR('A23 data'!$AO$5="",'A23 data'!$AN$5=""),"...",IFERROR(('A23 data'!$AO$5/'A23 data'!$AN$5-1)*100,"...")) | I7: =IF(OR('A23 data'!$AP$5="",'A23 data'!$AO$5=""),"...",IFERROR(('A23 data'!$AP$5/'A23 data'!$AO$5-1)*100,"...")) | J7: =IF(OR('A23 data'!$AQ$5="",'A23 data'!$AP$5=""),"...",IFERROR(('A23 data'!$AQ$5/'A23 data'!$AP$5-1)*100,"..."))
A8: European Union | B8: =IF('A23 data'!$AQ$6="","...",'A23 data'!$AQ$6/1000) | C8: =IFERROR(IF('A23 data'!$X$6="","...",'A23 data'!$X$6/'A23 data'!$X$4*100),"...") | D8: =IFERROR(IF('A23 data'!$AC$6="","...",'A23 data'!$AC$6/'A23 data'!$AC$4*100),"...") | E8: =IFERROR(IF('A23 data'!$AH$6="","...",'A23 data'!$AH$6/'A23 data'!$AH$4*100),"...") | F8: =IFERROR(IF('A23 data'!$AQ$6="","...",'A23 data'!$AQ$6/'A23 data'!$AQ$4*100),"...") | G8: =IF(OR('A23 data'!$AQ$6="",'A23 data'!$AH$6=""),"...",IFERROR((('A23 data'!$AQ$6/'A23 data'!$AH$6)^(1/9)-1)*100,"...")) | H8: =IF(OR('A23 data'!$AO$6="",'A23 data'!$AN$6=""),"...",IFERROR(('A23 data'!$AO$6/'A23 data'!$AN$6-1)*100,"...")) | I8: =IF(OR('A23 data'!$AP$6="",'A23 data'!$AO$6=""),"...",IFERROR(('A23 data'!$AP$6/'A23 data'!$AO$6-1)*100,"...")) | J8: =IF(OR('A23 data'!$AQ$6="",'A23 data'!$AP$6=""),"...",IFERROR(('A23 data'!$AQ$6/'A23 data'!$AP$6-1)*100,"..."))
A9: Extra-EU | B9: =IF('A23 data'!$AQ$7="","...",'A23 data'!$AQ$7/1000) | C9: =IFERROR(IF('A23 data'!$X$7="","...",'A23 data'!$X$7/'A23 data'!$X$4*100),"...") | D9: =IFERROR(IF('A23 data'!$AC$7="","...",'A23 data'!$AC$7/'A23 data'!$AC$4*100),"...") | E9: =IFERROR(IF('A23 data'!$AH$7="","...",'A23 data'!$AH$7/'A23 data'!$AH$4*100),"...") | F9: =IFERROR(IF('A23 data'!$AQ$7="","...",'A23 data'!$AQ$7/'A23 data'!$AQ$4*100),"...") | G9: =IF(OR('A23 data'!$AQ$7="",'A23 data'!$AH$7=""),"...",IFERROR((('A23 data'!$AQ$7/'A23 data'!$AH$7)^(1/9)-1)*100,"...")) | H9: =IF(OR('A23 data'!$AO$7="",'A23 data'!$AN$7=""),"...",IFERROR(('A23 data'!$AO$7/'A23 data'!$AN$7-1)*100,"...")) | I9: =IF(OR('A23 data'!$AP$7="",'A23 data'!$AO$7=""),"...",IFERROR(('A23 data'!$AP$7/'A23 data'!$AO$7-1)*100,"...")) | J9: =IF(OR('A23 data'!$AQ$7="",'A23 data'!$AP$7=""),"...",IFERROR(('A23 data'!$AQ$7/'A23 data'!$AP$7-1)*100,"..."))
A10: Bangladesh | B10: =IF('A23 data'!$AQ$8="","...",'A23 data'!$AQ$8/1000) | C10: =IFERROR(IF('A23 data'!$X$8="","...",'A23 data'!$X$8/'A23 data'!$X$4*100),"...") | D10: =IFERROR(IF('A23 data'!$AC$8="","...",'A23 data'!$AC$8/'A23 data'!$AC$4*100),"...") | E10: =IFERROR(IF('A23 data'!$AH$8="","...",'A23 data'!$AH$8/'A23 data'!$AH$4*100),"...") | F10: =IFERROR(IF('A23 data'!$AQ$8="","...",'A23 data'!$AQ$8/'A23 data'!$AQ$4*100),"...") | G10: =IF(OR('A23 data'!$AQ$8="",'A23 data'!$AH$8=""),"...",IFERROR((('A23 data'!$AQ$8/'A23 data'!$AH$8)^(1/9)-1)*100,"...")) | H10: =IF(OR('A23 data'!$AO$8="",'A23 data'!$AN$8=""),"...",IFERROR(('A23 data'!$AO$8/'A23 data'!$AN$8-1)*100,"...")) | I10: =IF(OR('A23 data'!$AP$8="",'A23 data'!$AO$8=""),"...",IFERROR(('A23 data'!$AP$8/'A23 data'!$AO$8-1)*100,"...")) | J10: =IF(OR('A23 data'!$AQ$8="",'A23 data'!$AP$8=""),"...",IFERROR(('A23 data'!$AQ$8/'A23 data'!$AP$8-1)*100,"..."))
A11: Viet Nam | B11: =IF('A23 data'!$AQ$9="","...",'A23 data'!$AQ$9/1000) | C11: =IFERROR(IF('A23 data'!$X$9="","...",'A23 data'!$X$9/'A23 data'!$X$4*100),"...") | D11: =IFERROR(IF('A23 data'!$AC$9="","...",'A23 data'!$AC$9/'A23 data'!$AC$4*100),"...") | E11: =IFERROR(IF('A23 data'!$AH$9="","...",'A23 data'!$AH$9/'A23 data'!$AH$4*100),"...") | F11: =IFERROR(IF('A23 data'!$AQ$9="","...",'A23 data'!$AQ$9/'A23 data'!$AQ$4*100),"...") | G11: =IF(OR('A23 data'!$AQ$9="",'A23 data'!$AH$9=""),"...",IFERROR((('A23 data'!$AQ$9/'A23 data'!$AH$9)^(1/9)-1)*100,"...")) | H11: =IF(OR('A23 data'!$AO$9="",'A23 data'!$AN$9=""),"...",IFERROR(('A23 data'!$AO$9/'A23 data'!$AN$9-1)*100,"...")) | I11: =IF(OR('A23 data'!$AP$9="",'A23 data'!$AO$9=""),"...",IFERROR(('A23 data'!$AP$9/'A23 data'!$AO$9-1)*100,"...")) | J11: =IF(OR('A23 data'!$AQ$9="",'A23 data'!$AP$9=""),"...",IFERROR(('A23 data'!$AQ$9/'A23 data'!$AP$9-1)*100,"..."))
A12: India | B12: =IF('A23 data'!$AQ$10="","...",'A23 data'!$AQ$10/1000) | C12: =IFERROR(IF('A23 data'!$X$10="","...",'A23 data'!$X$10/'A23 data'!$X$4*100),"...") | D12: =IFERROR(IF('A23 data'!$AC$10="","...",'A23 data'!$AC$10/'A23 data'!$AC$4*100),"...") | E12: =IFERROR(IF('A23 data'!$AH$10="","...",'A23 data'!$AH$10/'A23 data'!$AH$4*100),"...") | F12: =IFERROR(IF('A23 data'!$AQ$10="","...",'A23 data'!$AQ$10/'A23 data'!$AQ$4*100),"...") | G12: =IF(OR('A23 data'!$AQ$10="",'A23 data'!$AH$10=""),"...",IFERROR((('A23 data'!$AQ$10/'A23 data'!$AH$10)^(1/9)-1)*100,"...")) | H12: =IF(OR('A23 data'!$AO$10="",'A23 data'!$AN$10=""),"...",IFERROR(('A23 data'!$AO$10/'A23 data'!$AN$10-1)*100,"...")) | I12: =IF(OR('A23 data'!$AP$10="",'A23 data'!$AO$10=""),"...",IFERROR(('A23 data'!$AP$10/'A23 data'!$AO$10-1)*100,"...")) | J12: =IF(OR('A23 data'!$AQ$10="",'A23 data'!$AP$10=""),"...",IFERROR(('A23 data'!$AQ$10/'A23 data'!$AP$10-1)*100,"..."))
A13: Türkiye | B13: =IF('A23 data'!$AQ$11="","...",'A23 data'!$AQ$11/1000) | C13: =IFERROR(IF('A23 data'!$X$11="","...",'A23 data'!$X$11/'A23 data'!$X$4*100),"...") | D13: =IFERROR(IF('A23 data'!$AC$11="","...",'A23 data'!$AC$11/'A23 data'!$AC$4*100),"...") | E13: =IFERROR(IF('A23 data'!$AH$11="","...",'A23 data'!$AH$11/'A23 data'!$AH$4*100),"...") | F13: =IFERROR(IF('A23 data'!$AQ$11="","...",'A23 data'!$AQ$11/'A23 data'!$AQ$4*100),"...") | G13: =IF(OR('A23 data'!$AQ$11="",'A23 data'!$AH$11=""),"...",IFERROR((('A23 data'!$AQ$11/'A23 data'!$AH$11)^(1/9)-1)*100,"...")) | H13: =IF(OR('A23 data'!$AO$11="",'A23 data'!$AN$11=""),"...",IFERROR(('A23 data'!$AO$11/'A23 data'!$AN$11-1)*100,"...")) | I13: =IF(OR('A23 data'!$AP$11="",'A23 data'!$AO$11=""),"...",IFERROR(('A23 data'!$AP$11/'A23 data'!$AO$11-1)*100,"...")) | J13: =IF(OR('A23 data'!$AQ$11="",'A23 data'!$AP$11=""),"...",IFERROR(('A23 data'!$AQ$11/'A23 data'!$AP$11-1)*100,"..."))
A14: Hong Kong, China | B14: =IF('A23 data'!$AQ$12="","...",'A23 data'!$AQ$12/1000) | C14: =IFERROR(IF('A23 data'!$X$12="","...",'A23 data'!$X$12/'A23 data'!$X$4*100),"...") | D14: =IFERROR(IF('A23 data'!$AC$12="","...",'A23 data'!$AC$12/'A23 data'!$AC$4*100),"...") | E14: =IFERROR(IF('A23 data'!$AH$12="","...",'A23 data'!$AH$12/'A23 data'!$AH$4*100),"...") | F14: =IFERROR(IF('A23 data'!$AQ$12="","...",'A23 data'!$AQ$12/'A23 data'!$AQ$4*100),"...") | G14: =IF(OR('A23 data'!$AQ$12="",'A23 data'!$AH$12=""),"...",IFERROR((('A23 data'!$AQ$12/'A23 data'!$AH$12)^(1/9)-1)*100,"...")) | H14: =IF(OR('A23 data'!$AO$12="",'A23 data'!$AN$12=""),"...",IFERROR(('A23 data'!$AO$12/'A23 data'!$AN$12-1)*100,"...")) | I14: =IF(OR('A23 data'!$AP$12="",'A23 data'!$AO$12=""),"...",IFERROR(('A23 data'!$AP$12/'A23 data'!$AO$12-1)*100,"...")) | J14: =IF(OR('A23 data'!$AQ$12="",'A23 data'!$AP$12=""),"...",IFERROR(('A23 data'!$AQ$12/'A23 data'!$AP$12-1)*100,"..."))
A15: United Kingdom | B15: =IF('A23 data'!$AQ$13="","...",'A23 data'!$AQ$13/1000) | C15: =IFERROR(IF('A23 data'!$X$13="","...",'A23 data'!$X$13/'A23 data'!$X$4*100),"...") | D15: =IFERROR(IF('A23 data'!$AC$13="","...",'A23 data'!$AC$13/'A23 data'!$AC$4*100),"...") | E15: =IFERROR(IF('A23 data'!$AH$13="","...",'A23 data'!$AH$13/'A23 data'!$AH$4*100),"...") | F15: =IFERROR(IF('A23 data'!$AQ$13="","...",'A23 data'!$AQ$13/'A23 data'!$AQ$4*100),"...") | G15: =IF(OR('A23 data'!$AQ$13="",'A23 data'!$AH$13=""),"...",IFERROR((('A23 data'!$AQ$13/'A23 data'!$AH$13)^(1/9)-1)*100,"...")) | H15: =IF(OR('A23 data'!$AO$13="",'A23 data'!$AN$13=""),"...",IFERROR(('A23 data'!$AO$13/'A23 data'!$AN$13-1)*100,"...")) | I15: =IF(OR('A23 data'!$AP$13="",'A23 data'!$AO$13=""),"...",IFERROR(('A23 data'!$AP$13/'A23 data'!$AO$13-1)*100,"...")) | J15: =IF(OR('A23 data'!$AQ$13="",'A23 data'!$AP$13=""),"...",IFERROR(('A23 data'!$AQ$13/'A23 data'!$AP$13-1)*100,"..."))
A16: Indonesia | B16: =IF('A23 data'!$AQ$14="","...",'A23 data'!$AQ$14/1000) | C16: =IFERROR(IF('A23 data'!$X$14="","...",'A23 data'!$X$14/'A23 data'!$X$4*100),"...") | D16: =IFERROR(IF('A23 data'!$AC$14="","...",'A23 data'!$AC$14/'A23 data'!$AC$4*100),"...") | E16: =IFERROR(IF('A23 data'!$AH$14="","...",'A23 data'!$AH$14/'A23 data'!$AH$4*100),"...") | F16: =IFERROR(IF('A23 data'!$AQ$14="","...",'A23 data'!$AQ$14/'A23 data'!$AQ$4*100),"...") | G16: =IF(OR('A23 data'!$AQ$14="",'A23 data'!$AH$14=""),"...",IFERROR((('A23 data'!$AQ$14/'A23 data'!$AH$14)^(1/9)-1)*100,"...")) | H16: =IF(OR('A23 data'!$AO$14="",'A23 data'!$AN$14=""),"...",IFERROR(('A23 data'!$AO$14/'A23 data'!$AN$14-1)*100,"...")) | I16: =IF(OR('A23 data'!$AP$14="",'A23 data'!$AO$14=""),"...",IFERROR(('A23 data'!$AP$14/'A23 data'!$AO$14-1)*100,"...")) | J16: =IF(OR('A23 data'!$AQ$14="",'A23 data'!$AP$14=""),"...",IFERROR(('A23 data'!$AQ$14/'A23 data'!$AP$14-1)*100,"..."))
A17: Cambodia | B17: =IF('A23 data'!$AQ$15="","...",'A23 data'!$AQ$15/1000) | C17: =IFERROR(IF('A23 data'!$X$15="","...",'A23 data'!$X$15/'A23 data'!$X$4*100),"...") | D17: =IFERROR(IF('A23 data'!$AC$15="","...",'A23 data'!$AC$15/'A23 data'!$AC$4*100),"...") | E17: =IFERROR(IF('A23 data'!$AH$15="","...",'A23 data'!$AH$15/'A23 data'!$AH$4*100),"...") | F17: =IFERROR(IF('A23 data'!$AQ$15="","...",'A23 data'!$AQ$15/'A23 data'!$AQ$4*100),"...") | G17: =IF(OR('A23 data'!$AQ$15="",'A23 data'!$AH$15=""),"...",IFERROR((('A23 data'!$AQ$15/'A23 data'!$AH$15)^(1/9)-1)*100,"...")) | H17: =IF(OR('A23 data'!$AO$15="",'A23 data'!$AN$15=""),"...",IFERROR(('A23 data'!$AO$15/'A23 data'!$AN$15-1)*100,"...")) | I17: =IF(OR('A23 data'!$AP$15="",'A23 data'!$AO$15=""),"...",IFERROR(('A23 data'!$AP$15/'A23 data'!$AO$15-1)*100,"...")) | J17: =IF(OR('A23 data'!$AQ$15="",'A23 data'!$AP$15=""),"...",IFERROR(('A23 data'!$AQ$15/'A23 data'!$AP$15-1)*100,"..."))
A18: Above 10 | B18: =IFERROR(B7+B8+B10+B11+B12+B13+B14+B15+B16+B17,"...") | C18: =IFERROR(C7+C8+C10+C11+C12+C13+C14+C15+C16+C17,"...") | D18: =IFERROR(D7+D8+D10+D11+D12+D13+D14+D15+D16+D17,"...") | E18: =IFERROR(E7+E8+E10+E11+E12+E13+E14+E15+E16+E17,"...") | F18: =IFERROR(F7+F8+F10+F11+F12+F13+F14+F15+F16+F17,"...") | G18: - | H18: - | I18: - | J18: -
A19: Importers
A20: European Union | B20: =IF('A23 data'!$AQ$17="","...",'A23 data'!$AQ$17/1000) | C20: =IFERROR(IF('A23 data'!$X$17="","...",'A23 data'!$X$17/'A23 data'!$X$16*100),"...") | D20: =IFERROR(IF('A23 data'!$AC$17="","...",'A23 data'!$AC$17/'A23 data'!$AC$16*100),"...") | E20: =IFERROR(IF('A23 data'!$AH$17="","...",'A23 data'!$AH$17/'A23 data'!$AH$16*100),"...") | F20: =IFERROR(IF('A23 data'!$AQ$17="","...",'A23 data'!$AQ$17/'A23 data'!$AQ$16*100),"...") | G20: =IF(OR('A23 data'!$AQ$17="",'A23 data'!$AH$17=""),"...",IFERROR((('A23 data'!$AQ$17/'A23 data'!$AH$17)^(1/9)-1)*100,"...")) | H20: =IF(OR('A23 data'!$AO$17="",'A23 data'!$AN$17=""),"...",IFERROR(('A23 data'!$AO$17/'A23 data'!$AN$17-1)*100,"...")) | I20: =IF(OR('A23 data'!$AP$17="",'A23 data'!$AO$17=""),"...",IFERROR(('A23 data'!$AP$17/'A23 data'!$AO$17-1)*100,"...")) | J20: =IF(OR('A23 data'!$AQ$17="",'A23 data'!$AP$17=""),"...",IFERROR(('A23 data'!$AQ$17/'A23 data'!$AP$17-1)*100,"..."))
A21: Extra-EU | B21: =IF('A23 data'!$AQ$18="","...",'A23 data'!$AQ$18/1000) | C21: =IFERROR(IF('A23 data'!$X$18="","...",'A23 data'!$X$18/'A23 data'!$X$16*100),"...") | D21: =IFERROR(IF('A23 data'!$AC$18="","...",'A23 data'!$AC$18/'A23 data'!$AC$16*100),"...") | E21: =IFERROR(IF('A23 data'!$AH$18="","...",'A23 data'!$AH$18/'A23 data'!$AH$16*100),"...") | F21: =IFERROR(IF('A23 data'!$AQ$18="","...",'A23 data'!$AQ$18/'A23 data'!$AQ$16*100),"...") | G21: =IF(OR('A23 data'!$AQ$18="",'A23 data'!$AH$18=""),"...",IFERROR((('A23 data'!$AQ$18/'A23 data'!$AH$18)^(1/9)-1)*100,"...")) | H21: =IF(OR('A23 data'!$AO$18="",'A23 data'!$AN$18=""),"...",IFERROR(('A23 data'!$AO$18/'A23 data'!$AN$18-1)*100,"...")) | I21: =IF(OR('A23 data'!$AP$18="",'A23 data'!$AO$18=""),"...",IFERROR(('A23 data'!$AP$18/'A23 data'!$AO$18-1)*100,"...")) | J21: =IF(OR('A23 data'!$AQ$18="",'A23 data'!$AP$18=""),"...",IFERROR(('A23 data'!$AQ$18/'A23 data'!$AP$18-1)*100,"..."))
A22: United States of America | B22: =IF('A23 data'!$AQ$19="","...",'A23 data'!$AQ$19/1000) | C22: =IFERROR(IF('A23 data'!$X$19="","...",'A23 data'!$X$19/'A23 data'!$X$16*100),"...") | D22: =IFERROR(IF('A23 data'!$AC$19="","...",'A23 data'!$AC$19/'A23 data'!$AC$16*100),"...") | E22: =IFERROR(IF('A23 data'!$AH$19="","...",'A23 data'!$AH$19/'A23 data'!$AH$16*100),"...") | F22: =IFERROR(IF('A23 data'!$AQ$19="","...",'A23 data'!$AQ$19/'A23 data'!$AQ$16*100),"...") | G22: =IF(OR('A23 data'!$AQ$19="",'A23 data'!$AH$19=""),"...",IFERROR((('A23 data'!$AQ$19/'A23 data'!$AH$19)^(1/9)-1)*100,"...")) | H22: =IF(OR('A23 data'!$AO$19="",'A23 data'!$AN$19=""),"...",IFERROR(('A23 data'!$AO$19/'A23 data'!$AN$19-1)*100,"...")) | I22: =IF(OR('A23 data'!$AP$19="",'A23 data'!$AO$19=""),"...",IFERROR(('A23 data'!$AP$19/'A23 data'!$AO$19-1)*100,"...")) | J22: =IF(OR('A23 data'!$AQ$19="",'A23 data'!$AP$19=""),"...",IFERROR(('A23 data'!$AQ$19/'A23 data'!$AP$19-1)*100,"..."))
A23: Japan | B23: =IF('A23 data'!$AQ$20="","...",'A23 data'!$AQ$20/1000) | C23: =IFERROR(IF('A23 data'!$X$20="","...",'A23 data'!$X$20/'A23 data'!$X$16*100),"...") | D23: =IFERROR(IF('A23 data'!$AC$20="","...",'A23 data'!$AC$20/'A23 data'!$AC$16*100),"...") | E23: =IFERROR(IF('A23 data'!$AH$20="","...",'A23 data'!$AH$20/'A23 data'!$AH$16*100),"...") | F23: =IFERROR(IF('A23 data'!$AQ$20="","...",'A23 data'!$AQ$20/'A23 data'!$AQ$16*100),"...") | G23: =IF(OR('A23 data'!$AQ$20="",'A23 data'!$AH$20=""),"...",IFERROR((('A23 data'!$AQ$20/'A23 data'!$AH$20)^(1/9)-1)*100,"...")) | H23: =IF(OR('A23 data'!$AO$20="",'A23 data'!$AN$20=""),"...",IFERROR(('A23 data'!$AO$20/'A23 data'!$AN$20-1)*100,"...")) | I23: =IF(OR('A23 data'!$AP$20="",'A23 data'!$AO$20=""),"...",IFERROR(('A23 data'!$AP$20/'A23 data'!$AO$20-1)*100,"...")) | J23: =IF(OR('A23 data'!$AQ$20="",'A23 data'!$AP$20=""),"...",IFERROR(('A23 data'!$AQ$20/'A23 data'!$AP$20-1)*100,"..."))
A24: United Kingdom | B24: =IF('A23 data'!$AQ$21="","...",'A23 data'!$AQ$21/1000) | C24: =IFERROR(IF('A23 data'!$X$21="","...",'A23 data'!$X$21/'A23 data'!$X$16*100),"...") | D24: =IFERROR(IF('A23 data'!$AC$21="","...",'A23 data'!$AC$21/'A23 data'!$AC$16*100),"...") | E24: =IFERROR(IF('A23 data'!$AH$21="","...",'A23 data'!$AH$21/'A23 data'!$AH$16*100),"...") | F24: =IFERROR(IF('A23 data'!$AQ$21="","...",'A23 data'!$AQ$21/'A23 data'!$AQ$16*100),"...") | G24: =IF(OR('A23 data'!$AQ$21="",'A23 data'!$AH$21=""),"...",IFERROR((('A23 data'!$AQ$21/'A23 data'!$AH$21)^(1/9)-1)*100,"...")) | H24: =IF(OR('A23 data'!$AO$21="",'A23 data'!$AN$21=""),"...",IFERROR(('A23 data'!$AO$21/'A23 data'!$AN$21-1)*100,"...")) | I24: =IF(OR('A23 data'!$AP$21="",'A23 data'!$AO$21=""),"...",IFERROR(('A23 data'!$AP$21/'A23 data'!$AO$21-1)*100,"...")) | J24: =IF(OR('A23 data'!$AQ$21="",'A23 data'!$AP$21=""),"...",IFERROR(('A23 data'!$AQ$21/'A23 data'!$AP$21-1)*100,"..."))
A25: Hong Kong, China | B25: =IF('A23 data'!$AQ$22="","...",'A23 data'!$AQ$22/1000) | C25: =IFERROR(IF('A23 data'!$X$22="","...",'A23 data'!$X$22/'A23 data'!$X$16*100),"...") | D25: =IFERROR(IF('A23 data'!$AC$22="","...",'A23 data'!$AC$22/'A23 data'!$AC$16*100),"...") | E25: =IFERROR(IF('A23 data'!$AH$22="","...",'A23 data'!$AH$22/'A23 data'!$AH$16*100),"...") | F25: =IFERROR(IF('A23 data'!$AQ$22="","...",'A23 data'!$AQ$22/'A23 data'!$AQ$16*100),"...") | G25: =IF(OR('A23 data'!$AQ$22="",'A23 data'!$AH$22=""),"...",IFERROR((('A23 data'!$AQ$22/'A23 data'!$AH$22)^(1/9)-1)*100,"...")) | H25: =IF(OR('A23 data'!$AO$22="",'A23 data'!$AN$22=""),"...",IFERROR(('A23 data'!$AO$22/'A23 data'!$AN$22-1)*100,"...")) | I25: =IF(OR('A23 data'!$AP$22="",'A23 data'!$AO$22=""),"...",IFERROR(('A23 data'!$AP$22/'A23 data'!$AO$22-1)*100,"...")) | J25: =IF(OR('A23 data'!$AQ$22="",'A23 data'!$AP$22=""),"...",IFERROR(('A23 data'!$AQ$22/'A23 data'!$AP$22-1)*100,"..."))
A26: Canada | B26: =IF('A23 data'!$AQ$23="","...",'A23 data'!$AQ$23/1000) | C26: =IFERROR(IF('A23 data'!$X$23="","...",'A23 data'!$X$23/'A23 data'!$X$16*100),"...") | D26: =IFERROR(IF('A23 data'!$AC$23="","...",'A23 data'!$AC$23/'A23 data'!$AC$16*100),"...") | E26: =IFERROR(IF('A23 data'!$AH$23="","...",'A23 data'!$AH$23/'A23 data'!$AH$16*100),"...") | F26: =IFERROR(IF('A23 data'!$AQ$23="","...",'A23 data'!$AQ$23/'A23 data'!$AQ$16*100),"...") | G26: =IF(OR('A23 data'!$AQ$23="",'A23 data'!$AH$23=""),"...",IFERROR((('A23 data'!$AQ$23/'A23 data'!$AH$23)^(1/9)-1)*100,"...")) | H26: =IF(OR('A23 data'!$AO$23="",'A23 data'!$AN$23=""),"...",IFERROR(('A23 data'!$AO$23/'A23 data'!$AN$23-1)*100,"...")) | I26: =IF(OR('A23 data'!$AP$23="",'A23 data'!$AO$23=""),"...",IFERROR(('A23 data'!$AP$23/'A23 data'!$AO$23-1)*100,"...")) | J26: =IF(OR('A23 data'!$AQ$23="",'A23 data'!$AP$23=""),"...",IFERROR(('A23 data'!$AQ$23/'A23 data'!$AP$23-1)*100,"..."))
A27: Korea, Republic of | B27: =IF('A23 data'!$AQ$24="","...",'A23 data'!$AQ$24/1000) | C27: =IFERROR(IF('A23 data'!$X$24="","...",'A23 data'!$X$24/'A23 data'!$X$16*100),"...") | D27: =IFERROR(IF('A23 data'!$AC$24="","...",'A23 data'!$AC$24/'A23 data'!$AC$16*100),"...") | E27: =IFERROR(IF('A23 data'!$AH$24="","...",'A23 data'!$AH$24/'A23 data'!$AH$16*100),"...") | F27: =IFERROR(IF('A23 data'!$AQ$24="","...",'A23 data'!$AQ$24/'A23 data'!$AQ$16*100),"...") | G27: =IF(OR('A23 data'!$AQ$24="",'A23 data'!$AH$24=""),"...",IFERROR((('A23 data'!$AQ$24/'A23 data'!$AH$24)^(1/9)-1)*100,"...")) | H27: =IF(OR('A23 data'!$AO$24="",'A23 data'!$AN$24=""),"...",IFERROR(('A23 data'!$AO$24/'A23 data'!$AN$24-1)*100,"...")) | I27: =IF(OR('A23 data'!$AP$24="",'A23 data'!$AO$24=""),"...",IFERROR(('A23 data'!$AP$24/'A23 data'!$AO$24-1)*100,"...")) | J27: =IF(OR('A23 data'!$AQ$24="",'A23 data'!$AP$24=""),"...",IFERROR(('A23 data'!$AQ$24/'A23 data'!$AP$24-1)*100,"..."))
A28: China | B28: =IF('A23 data'!$AQ$25="","...",'A23 data'!$AQ$25/1000) | C28: =IFERROR(IF('A23 data'!$X$25="","...",'A23 data'!$X$25/'A23 data'!$X$16*100),"...") | D28: =IFERROR(IF('A23 data'!$AC$25="","...",'A23 data'!$AC$25/'A23 data'!$AC$16*100),"...") | E28: =IFERROR(IF('A23 data'!$AH$25="","...",'A23 data'!$AH$25/'A23 data'!$AH$16*100),"...") | F28: =IFERROR(IF('A23 data'!$AQ$25="","...",'A23 data'!$AQ$25/'A23 data'!$AQ$16*100),"...") | G28: =IF(OR('A23 data'!$AQ$25="",'A23 data'!$AH$25=""),"...",IFERROR((('A23 data'!$AQ$25/'A23 data'!$AH$25)^(1/9)-1)*100,"...")) | H28: =IF(OR('A23 data'!$AO$25="",'A23 data'!$AN$25=""),"...",IFERROR(('A23 data'!$AO$25/'A23 data'!$AN$25-1)*100,"...")) | I28: =IF(OR('A23 data'!$AP$25="",'A23 data'!$AO$25=""),"...",IFERROR(('A23 data'!$AP$25/'A23 data'!$AO$25-1)*100,"...")) | J28: =IF(OR('A23 data'!$AQ$25="",'A23 data'!$AP$25=""),"...",IFERROR(('A23 data'!$AQ$25/'A23 data'!$AP$25-1)*100,"..."))
A29: Russian Federation | B29: =IF('A23 data'!$AQ$26="","...",'A23 data'!$AQ$26/1000) | C29: =IFERROR(IF('A23 data'!$X$26="","...",'A23 data'!$X$26/'A23 data'!$X$16*100),"...") | D29: =IFERROR(IF('A23 data'!$AC$26="","...",'A23 data'!$AC$26/'A23 data'!$AC$16*100),"...") | E29: =IFERROR(IF('A23 data'!$AH$26="","...",'A23 data'!$AH$26/'A23 data'!$AH$16*100),"...") | F29: =IFERROR(IF('A23 data'!$AQ$26="","...",'A23 data'!$AQ$26/'A23 data'!$AQ$16*100),"...") | G29: =IF(OR('A23 data'!$AQ$26="",'A23 data'!$AH$26=""),"...",IFERROR((('A23 data'!$AQ$26/'A23 data'!$AH$26)^(1/9)-1)*100,"...")) | H29: =IF(OR('A23 data'!$AO$26="",'A23 data'!$AN$26=""),"...",IFERROR(('A23 data'!$AO$26/'A23 data'!$AN$26-1)*100,"...")) | I29: =IF(OR('A23 data'!$AP$26="",'A23 data'!$AO$26=""),"...",IFERROR(('A23 data'!$AP$26/'A23 data'!$AO$26-1)*100,"...")) | J29: =IF(OR('A23 data'!$AQ$26="",'A23 data'!$AP$26=""),"...",IFERROR(('A23 data'!$AQ$26/'A23 data'!$AP$26-1)*100,"..."))
A30: Switzerland | B30: =IF('A23 data'!$AQ$27="","...",'A23 data'!$AQ$27/1000) | C30: =IFERROR(IF('A23 data'!$X$27="","...",'A23 data'!$X$27/'A23 data'!$X$16*100),"...") | D30: =IFERROR(IF('A23 data'!$AC$27="","...",'A23 data'!$AC$27/'A23 data'!$AC$16*100),"...") | E30: =IFERROR(IF('A23 data'!$AH$27="","...",'A23 data'!$AH$27/'A23 data'!$AH$16*100),"...") | F30: =IFERROR(IF('A23 data'!$AQ$27="","...",'A23 data'!$AQ$27/'A23 data'!$AQ$16*100),"...") | G30: =IF(OR('A23 data'!$AQ$27="",'A23 data'!$AH$27=""),"...",IFERROR((('A23 data'!$AQ$27/'A23 data'!$AH$27)^(1/9)-1)*100,"...")) | H30: =IF(OR('A23 data'!$AO$27="",'A23 data'!$AN$27=""),"...",IFERROR(('A23 data'!$AO$27/'A23 data'!$AN$27-1)*100,"...")) | I30: =IF(OR('A23 data'!$AP$27="",'A23 data'!$AO$27=""),"...",IFERROR(('A23 data'!$AP$27/'A23 data'!$AO$27-1)*100,"...")) | J30: =IF(OR('A23 data'!$AQ$27="",'A23 data'!$AP$27=""),"...",IFERROR(('A23 data'!$AQ$27/'A23 data'!$AP$27-1)*100,"..."))
A31: Above 10 | B31: =IFERROR(B20+B22+B23+B24+B25+B26+B27+B28+B29+B30,"...") | C31: =IFERROR(C20+C22+C23+C24+C25+C26+C27+C28+C29+C30,"...") | D31: =IFERROR(D20+D22+D23+D24+D25+D26+D27+D28+D29+D30,"...") | E31: =IFERROR(E20+E22+E23+E24+E25+E26+E27+E28+E29+E30,"...") | F31: =IFERROR(F20+F22+F23+F24+F25+F26+F27+F28+F29+F30,"...") | G31: - | H31: - | I31: - | J31: -
A33: Notes
A34: The EU is ranked as one economy; its member states are not ranked. Extra-EU (the EU's trade with non-members) is shown beneath it and is not ranked.
A35: From 2000 the EU figure is WTO's own series for today's 27 member states (EU-27), in every year, including years when the membership was different. The United Kingdom is ranked on its own.
A36: Economies ranked in 2019: 154 exporters, 155 importers.
A37: "Above 10" is the sum of the ten ranked economies. "..." means not available.
A38: Shares are of world clothing exports or imports. 2010-19 is the compound annual rate of change.
A39: Figures for every year are as WTO published them on 2026-09-29; WTO revises past figures, so they can differ from the printed review.
A40: Source: WTO Timeseries, indicators ITS_MTV_AX and ITS_MTV_AM, product MACL (SITC 84), via WTO Timeseries API v1 (api.wto.org).
A41: Blue figures on the data sheet are downloaded inputs; every figure on this sheet is a formula.

Sheet A22 data
A1: Raw data for table A22 (textiles), 2020 edition (trade data for 2019), US$ million. Source: WTO Timeseries via WTO Timeseries API v1 (api.wto.org).
A2: EU: WTO's EU-27 series from 2000; before 2000 added up from the member states of each year. Extra-EU from 2000 only.
A3: Flow | B3: Code | C3: Economy | D3: 1980 | E3: 1981 | F3: 1982 | G3: 1983 | H3: 1984 | I3: 1985 | J3: 1986 | K3: 1987 | L3: 1988 | M3: 1989 | N3: 1990 | O3: 1991 | P3: 1992 | Q3: 1993 | R3: 1994 | S3: 1995 | T3: 1996 | U3: 1997 | V3: 1998 | W3: 1999 | X3: 2000 | Y3: 2001 | Z3: 2002 | AA3: 2003 | AB3: 2004 | AC3: 2005 | AD3: 2006 | AE3: 2007 | AF3: 2008 | AG3: 2009 | AH3: 2010 | AI3: 2011 | AJ3: 2012 | AK3: 2013 | AL3: 2014 | AM3: 2015 | AN3: 2016 | AO3: 2017 | AP3: 2018 | AQ3: 2019
A4: Exporters | B4: 000 | C4: World | D4: 54990 | M4: 95950 | N4: 104354 | O4: 108925 | P4: 117195 | Q4: 113452 | R4: 131673 | S4: 152319 | T4: 152744 | U4: 155739 | V4: 149831 | W4: 146255 | X4: 156257 | Y4: 148141 | Z4: 154385 | AA4: 173066 | AB4: 195034 | AC4: 203112 | AD4: 219196 | AE4: 239938 | AF4: 251269 | AG4: 212161 | AH4: 249168 | AI4: 290885 | AJ4: 281210 | AK4: 300956 | AL4: 310924 | AM4: 288228 | AN4: 281215 | AO4: 295369 | AP4: 312058 | AQ4: 305507
A5: Exporters | B5: 156 | C5: China | D5: 2540 | E5: 3390 | F5: 2735 | G5: 3270 | H5: 3825 | I5: 3680 | J5: 5440 | K5: 6485 | L5: 6975 | M5: 7215 | N5: 7219 | O5: 8014 | P5: 8583 | Q5: 8699 | R5: 11818 | S5: 13918 | T5: 12112 | U5: 13828 | V5: 12817 | W5: 13043 | X5: 16135 | Y5: 16825 | Z5: 20562 | AA5: 26900 | AB5: 33428 | AC5: 41050 | AD5: 48678 | AE5: 56032 | AF5: 65367 | AG5: 59824 | AH5: 76871 | AI5: 94411 | AJ5: 95450 | AK5: 106578 | AL5: 111664 | AM5: 108934 | AN5: 104605 | AO5: 109595 | AP5: 118530 | AQ5: 119575
A6: Exporters | B6: 918 | C6: European Union | D6: 23864 | E6: 21127 | F6: 19943 | G6: 19758 | H6: 20333 | I6: 21713 | J6: 29484 | K6: 35296 | L6: 37863 | M6: 39003 | N6: 47150 | O6: 46380 | P6: 48909 | Q6: 42475 | R6: 48079 | S6: 62200 | T6: 61480 | U6: 59178 | V6: 60365 | W6: 55395 | X6: 52129 | Y6: 51576 | Z6: 53324 | AA6: 60887 | AB6: 68041 | AC6: 65922 | AD6: 69181 | AE6: 77234 | AF6: 76844 | AG6: 59494 | AH6: 64057 | AI6: 72738 | AJ6: 65498 | AK6: 67976 | AL6: 70758 | AM6: 61078 | AN6: 62828 | AO6: 65877 | AP6: 70651 | AQ6: 66683
A7: Exporters | B7: EUT | C7: Extra-EU | X7: 17896 | Y7: 17922 | Z7: 18702 | AA7: 20794 | AB7: 23706 | AC7: 22958 | AD7: 24223 | AE7: 26974 | AF7: 26953 | AG7: 20927 | AH7: 22720 | AI7: 25810 | AJ7: 24177 | AK7: 24987 | AL7: 25900 | AM7: 22312 | AN7: 22530 | AO7: 23556 | AP7: 25378 | AQ7: 23974
A8: Exporters | B8: 356 | C8: India | D8: 1306 | E8: 1168 | F8: 1064 | G8: 889 | H8: 1175 | I8: 1054 | J8: 1062 | K8: 1573 | L8: 1585 | M8: 1810 | N8: 2180 | O8: 2530 | P8: 2932 | Q8: 2917 | R8: 3829 | S8: 4358 | T8: 4936 | U8: 5243 | V8: 4558 | W8: 5086 | X8: 5593 | Y8: 5523 | Z8: 5813 | AA8: 6435 | AB8: 7406 | AC8: 8331 | AD8: 8880 | AE8: 9617 | AF8: 10372 | AG8: 9111 | AH8: 12833 | AI8: 15340 | AJ8: 15274 | AK8: 18907 | AL8: 18266 | AM8: 17263 | AN8: 16121 | AO8: 17078 | AP8: 18115 | AQ8: 17189
A9: Exporters | B9: 840 | C9: United States of America | D9: 3757 | E9: 3742 | F9: 2890 | G9: 2500 | H9: 2535 | I9: 2541 | J9: 2812 | K9: 3127 | L9: 3890 | M9: 4371 | N9: 5039 | O9: 5610 | P9: 5889 | Q9: 6025 | R9: 6592 | S9: 7372 | T9: 8008 | U9: 9187 | V9: 9205 | W9: 9504 | X9: 10947 | Y9: 10467 | Z9: 10659 | AA9: 10887 | AB9: 12027 | AC9: 12398 | AD9: 12665 | AE9: 12386 | AF9: 12470 | AG9: 9915 | AH9: 12169 | AI9: 13852 | AJ9: 13480 | AK9: 13924 | AL9: 14373 | AM9: 13935 | AN9: 13194 | AO9: 13623 | AP9: 13822 | AQ9: 13359
A10: Exporters | B10: 792 | C10: Türkiye | D10: 343 | E10: 569 | F10: 767 | G10: 853 | H10: 1006 | I10: 1045 | J10: 935 | K10: 1208 | L10: 1340 | M10: 1331 | N10: 1440 | O10: 1429 | P10: 1619 | Q10: 1592 | R10: 2194 | S10: 2527 | T10: 2722 | U10: 3352 | V10: 3549 | W10: 3478 | X10: 3672 | Y10: 3943 | Z10: 4244 | AA10: 5262 | AB10: 6428 | AC10: 7076 | AD10: 7585 | AE10: 8942 | AF10: 9399 | AG10: 7724 | AH10: 8964 | AI10: 10772 | AJ10: 11047 | AK10: 12308 | AL10: 12669 | AM10: 11120 | AN10: 11155 | AO10: 11648 | AP10: 11881 | AQ10: 11777
A11: Exporters | B11: 410 | C11: Korea, Republic of | D11: 2209 | E11: 2460 | F11: 2251 | G11: 2423 | H11: 2615 | I11: 2534 | J11: 3215 | K11: 4080 | L11: 4848 | M11: 5371 | N11: 6076 | O11: 7300 | P11: 8208 | Q11: 8954 | R11: 10693 | S11: 12313 | T11: 12718 | U11: 13337 | V11: 11279 | W11: 11618 | X11: 12710 | Y11: 10941 | Z11: 10945 | AA11: 10779 | AB11: 10839 | AC11: 10391 | AD11: 10110 | AE11: 10373 | AF11: 10371 | AG11: 9155 | AH11: 10968 | AI11: 12369 | AJ11: 11970 | AK11: 12043 | AL11: 11909 | AM11: 10645 | AN11: 10039 | AO11: 9855 | AP11: 9814 | AQ11: 9135
A12: Exporters | B12: 704 | C12: Viet Nam | U12: 144 | V12: 156 | W12: 370 | X12: 299 | Y12: 352 | Z12: 424 | AA12: 473 | AB12: 641 | AC12: 725 | AD12: 1058 | AE12: 1321 | AF12: 1563 | AG12: 2009 | AH12: 3061 | AI12: 3770 | AJ12: 3894 | AK12: 4612 | AL12: 5330 | AM12: 5628 | AN12: 6108 | AO12: 7199 | AP12: 8228 | AQ12: 9073
A13: Exporters | B13: 158 | C13: Chinese Taipei | D13: 1771 | E13: 2022 | F13: 1748 | G13: 1803 | H13: 2169 | I13: 2490 | J13: 3045 | K13: 4087 | L13: 4545 | M13: 5442 | N13: 6128 | O13: 7335 | P13: 7554 | Q13: 8160 | R13: 10242 | S13: 11861 | T13: 12024 | U13: 12750 | V13: 11123 | W13: 10863 | X13: 11891 | Y13: 9897 | Z13: 9531 | AA13: 9303 | AB13: 10038 | AC13: 9706 | AD13: 9780 | AE13: 9732 | AF13: 9253 | AG13: 7891 | AH13: 9719 | AI13: 11016 | AJ13: 10293 | AK13: 10217 | AL13: 10264 | AM13: 9678 | AN13: 8973 | AO13: 9236 | AP13: 9218 | AQ13: 8507
A14: Exporters | B14: 586 | C14: Pakistan | D14: 876 | E14: 976 | F14: 928 | G14: 1312 | H14: 999 | I14: 970 | J14: 1264 | K14: 1854 | L14: 1803 | M14: 2018 | N14: 2663 | O14: 3200 | P14: 3590 | Q14: 3507 | R14: 3985 | S14: 4256 | T14: 4919 | U14: 4608 | V14: 4302 | W14: 4258 | X14: 4532 | Y14: 4525 | Z14: 4790 | AA14: 5811 | AB14: 6125 | AC14: 7087 | AD14: 7469 | AE14: 7371 | AF14: 7186 | AG14: 6510 | AH14: 7848 | AI14: 9082 | AJ14: 8705 | AK14: 9341 | AL14: 9077 | AM14: 8232 | AN14: 7680 | AO14: 7868 | AP14: 8004 | AQ14: 7696
A15: Exporters | B15: 392 | C15: Japan | D15: 5123 | E15: 5869 | F15: 5102 | G15: 5345 | H15: 5358 | I15: 4943 | J15: 5488 | K15: 5597 | L15: 5527 | M15: 5534 | N15: 5871 | O15: 6527 | P15: 7078 | Q15: 6717 | R15: 6780 | S15: 7178 | T15: 6927 | U15: 6751 | V15: 5971 | W15: 6598 | X15: 7023 | Y15: 6197 | Z15: 6030 | AA15: 6431 | AB15: 7138 | AC15: 6905 | AD15: 6934 | AE15: 7108 | AF15: 7340 | AG15: 6109 | AH15: 7086 | AI15: 8035 | AJ15: 7820 | AK15: 6843 | AL15: 6680 | AM15: 6166 | AN15: 6420 | AO15: 6523 | AP15: 6699 | AQ15: 6585
A16: Importers | B16: 000 | C16: World | D16: 56975 | I16: 55618 | N16: 107839 | O16: 114665 | P16: 123584 | Q16: 118287 | R16: 135585 | S16: 156515 | T16: 157848 | U16: 160869 | V16: 155336 | W16: 153303 | X16: 165331 | Y16: 156743 | Z16: 163350 | AA16: 183116 | AB16: 206359 | AC16: 214906 | AD16: 231924 | AE16: 253871 | AF16: 265860 | AG16: 224481 | AH16: 216583 | AI16: 251210 | AJ16: 239275 | AK16: 251197 | AL16: 260363 | AM16: 310065 | AN16: 303295 | AO16: 321595 | AP16: 343578 | AQ16: 335429
A17: Importers | B17: 918 | C17: European Union | D17: 22886 | E17: 19199 | F17: 18414 | G17: 18191 | H17: 18605 | I17: 19758 | J17: 26864 | K17: 33081 | L17: 35975 | M17: 37346 | N17: 45999 | O17: 45443 | P17: 47101 | Q17: 36078 | R17: 41930 | S17: 53221 | T17: 52480 | U17: 51481 | V17: 54154 | W17: 48987 | X17: 49070 | Y17: 48471 | Z17: 49422 | AA17: 57318 | AB17: 63338 | AC17: 62681 | AD17: 66513 | AE17: 74639 | AF17: 74850 | AG17: 58067 | AH17: 63591 | AI17: 73300 | AJ17: 63576 | AK17: 67106 | AL17: 71240 | AM17: 62121 | AN17: 64263 | AO17: 67465 | AP17: 71066 | AQ17: 67526
A18: Importers | B18: EUT | C18: Extra-EU | X18: 15934 | Y18: 15608 | Z18: 15778 | AA18: 18270 | AB18: 20632 | AC18: 21165 | AD18: 23289 | AE18: 26769 | AF18: 27347 | AG18: 21901 | AH18: 25651 | AI18: 30227 | AJ18: 25842 | AK18: 27694 | AL18: 30043 | AM18: 27082 | AN18: 27657 | AO18: 29038 | AP18: 30990 | AQ18: 29838
A19: Importers | B19: 840 | C19: United States of America | D19: 2542 | E19: 3072 | F19: 2852 | G19: 3276 | H19: 4617 | I19: 4977 | J19: 5838 | K19: 6512 | L19: 6279 | M19: 6417 | N19: 6730 | O19: 7329 | P19: 8215 | Q19: 8855 | R19: 9658 | S19: 10441 | T19: 10692 | U19: 12449 | V19: 13444 | W19: 14277 | X19: 15191 | Y19: 14632 | Z19: 16952 | AA19: 18253 | AB19: 20662 | AC19: 22534 | AD19: 23498 | AE19: 24089 | AF19: 23128 | AG19: 19211 | AH19: 23379 | AI19: 25363 | AJ19: 25948 | AK19: 27022 | AL19: 28268 | AM19: 29543 | AN19: 28722 | AO19: 29621 | AP19: 31883 | AQ19: 31400
A20: Importers | B20: 704 | C20: Viet Nam | U20: 711 | V20: 902 | W20: 1075 | X20: 1379 | Y20: 1291 | Z20: 2071 | AA20: 2441 | AB20: 2941 | AC20: 3435 | AD20: 3988 | AE20: 5139 | AF20: 5703 | AG20: 5469 | AH20: 7042 | AI20: 8702 | AJ20: 9075 | AK20: 10633 | AL20: 12069 | AM20: 12825 | AN20: 13322 | AO20: 14519 | AP20: 16543 | AQ20: 17284
A21: Importers | B21: 156 | C21: China | D21: 1100 | E21: 1670 | F21: 1170 | G21: 911 | H21: 1370 | I21: 2040 | J21: 3160 | K21: 3589 | L21: 4219 | M21: 4603 | N21: 5292 | O21: 6751 | P21: 7560 | Q21: 7645 | R21: 9347 | S21: 10914 | T21: 11980 | U21: 12267 | V21: 11082 | W21: 11079 | X21: 12832 | Y21: 12573 | Z21: 13060 | AA21: 14217 | AB21: 15304 | AC21: 15503 | AD21: 16358 | AE21: 16645 | AF21: 16289 | AG21: 14945 | AH21: 17679 | AI21: 18901 | AJ21: 19810 | AK21: 21563 | AL21: 20249 | AM21: 18970 | AN21: 16676 | AO21: 17284 | AP21: 17880 | AQ21: 15712
A22: Importers | B22: 050 | C22: Bangladesh | D22: 93 | E22: 105 | F22: 70 | G22: 73 | H22: 128 | I22: 142 | J22: 128 | K22: 256 | L22: 261 | M22: 297 | N22: 452 | O22: 490 | P22: 630 | Q22: 675 | S22: 1481 | T22: 1380 | U22: 998 | V22: 1522 | W22: 1342 | X22: 1350 | Y22: 1518 | Z22: 1343 | AA22: 1548 | AB22: 1985 | AC22: 2425 | AD22: 1738 | AE22: 2306 | AF22: 3024 | AG22: 2838 | AH22: 4471 | AI22: 6610 | AJ22: 5834 | AK22: 6167 | AL22: 6838 | AM22: 8269 | AN22: 8511 | AO22: 9744 | AP22: 11506 | AQ22: 10657
A23: Importers | B23: 392 | C23: Japan | D23: 1722 | E23: 1639 | F23: 1612 | G23: 1496 | H23: 1934 | I23: 1900 | J23: 2185 | K23: 2994 | L23: 3934 | M23: 4347 | N23: 4133 | O23: 4331 | P23: 4175 | Q23: 3933 | R23: 5152 | S23: 5985 | T23: 6075 | U23: 5801 | V23: 4354 | W23: 4543 | X23: 4936 | Y23: 4753 | Z23: 4532 | AA23: 5031 | AB23: 5599 | AC23: 5812 | AD23: 6179 | AE23: 6302 | AF23: 6925 | AG23: 6742 | AH23: 7197 | AI23: 9195 | AJ23: 9011 | AK23: 8766 | AL23: 8890 | AM23: 8178 | AN23: 8180 | AO23: 8387 | AP23: 8893 | AQ23: 8830
A24: Importers | B24: 826 | C24: United Kingdom | D24: 3560 | E24: 3508 | F24: 3343 | G24: 3483 | H24: 3589 | I24: 3869 | J24: 4602 | K24: 5703 | L24: 6473 | M24: 6171 | N24: 7018 | O24: 6604 | P24: 6939 | Q24: 5569 | R24: 6645 | S24: 7262 | T24: 7808 | U24: 8376 | V24: 8341 | W24: 7476 | X24: 7265 | Y24: 6782 | Z24: 6870 | AA24: 7275 | AB24: 8195 | AC24: 7614 | AD24: 7946 | AE24: 8672 | AF24: 8112 | AG24: 6357 | AH24: 7164 | AI24: 7967 | AJ24: 6952 | AK24: 7503 | AL24: 8277 | AM24: 7766 | AN24: 7210 | AO24: 7289 | AP24: 7420 | AQ24: 7198
A25: Importers | B25: 360 | C25: Indonesia | D25: 217 | E25: 250 | F25: 204 | G25: 149 | H25: 125 | I25: 126 | J25: 193 | K25: 213 | L25: 303 | M25: 511 | N25: 785 | O25: 886 | P25: 1100 | Q25: 1124 | R25: 1170 | S25: 1308 | T25: 1266 | U25: 1152 | V25: 1021 | W25: 866 | X25: 1251 | Y25: 1088 | Z25: 866 | AA25: 623 | AB25: 712 | AC25: 756 | AD25: 730 | AE25: 785 | AF25: 3262 | AG25: 2802 | AH25: 4216 | AI25: 5654 | AJ25: 5570 | AK25: 5788 | AL25: 5814 | AM25: 5709 | AN25: 5891 | AO25: 6127 | AP25: 6876 | AQ25: 6731
A26: Importers | B26: 792 | C26: Türkiye | D26: 80 | E26: 78 | F26: 103 | G26: 98 | H26: 117 | I26: 145 | J26: 159 | K26: 202 | L26: 257 | M26: 293 | N26: 567 | O26: 537 | P26: 707 | Q26: 1011 | R26: 1110 | S26: 1811 | T26: 1933 | U26: 2324 | V26: 2317 | W26: 1907 | X26: 2124 | Y26: 1921 | Z26: 2839 | AA26: 3441 | AB26: 4170 | AC26: 4441 | AD26: 4686 | AE26: 6009 | AF26: 5646 | AG26: 4718 | AH26: 6540 | AI26: 7557 | AJ26: 6441 | AK26: 7010 | AL26: 7336 | AM26: 6266 | AN26: 6185 | AO26: 6885 | AP26: 6388 | AQ26: 6230
A27: Importers | B27: 484 | C27: Mexico | D27: 133 | N27: 992 | O27: 1230 | P27: 1532 | Q27: 1900 | R27: 2147 | S27: 1768 | T27: 2220 | U27: 2868 | V27: 3433 | W27: 4837 | X27: 5822 | Y27: 5383 | Z27: 5571 | AA27: 5457 | AB27: 5752 | AC27: 6043 | AD27: 5951 | AE27: 5640 | AF27: 5366 | AG27: 4197 | AH27: 5150 | AI27: 5859 | AJ27: 6003 | AK27: 6180 | AL27: 6377 | AM27: 6484 | AN27: 6197 | AO27: 6270 | AP27: 6555 | AQ27: 6179

Sheet A23 data
A1: Raw data for table A23 (clothing), 2020 edition (trade data for 2019), US$ million. Source: WTO Timeseries via WTO Timeseries API v1 (api.wto.org).
A2: EU: WTO's EU-27 series from 2000; before 2000 added up from the member states of each year. Extra-EU from 2000 only.
A3: Flow | B3: Code | C3: Economy | D3: 1980 | E3: 1981 | F3: 1982 | G3: 1983 | H3: 1984 | I3: 1985 | J3: 1986 | K3: 1987 | L3: 1988 | M3: 1989 | N3: 1990 | O3: 1991 | P3: 1992 | Q3: 1993 | R3: 1994 | S3: 1995 | T3: 1996 | U3: 1997 | V3: 1998 | W3: 1999 | X3: 2000 | Y3: 2001 | Z3: 2002 | AA3: 2003 | AB3: 2004 | AC3: 2005 | AD3: 2006 | AE3: 2007 | AF3: 2008 | AG3: 2009 | AH3: 2010 | AI3: 2011 | AJ3: 2012 | AK3: 2013 | AL3: 2014 | AM3: 2015 | AN3: 2016 | AO3: 2017 | AP3: 2018 | AQ3: 2019
A4: Exporters | B4: 000 | C4: World | D4: 40590 | M4: 97450 | N4: 108129 | O4: 117160 | P4: 132106 | Q4: 128792 | R4: 140757 | S4: 158353 | T4: 166077 | U4: 177616 | V4: 185963 | W4: 184587 | X4: 197723 | Y4: 194364 | Z4: 203726 | AA4: 233281 | AB4: 260436 | AC4: 278465 | AD4: 310876 | AE4: 349061 | AF4: 365091 | AG4: 318214 | AH4: 351640 | AI4: 414156 | AJ4: 412664 | AK4: 452526 | AL4: 480198 | AM4: 453622 | AN4: 445250 | AO4: 465686 | AP4: 494365 | AQ4: 495661
