Workbook

Sheet A22 textiles
A1: Table A22, 2016 edition (trade data for 2015)
A2: Top 10 exporters and importers of textiles, 2015
A3: (Billion dollars and percentage)
A5: Economy | B5: Value 2015 (US$ bn) | C5: Share 2000 (%) | D5: Share 2005 (%) | E5: Share 2010 (%) | F5: Share 2015 (%) | G5: Change 2010-15 (% p.a.) | H5: Change 2013 (%) | I5: Change 2014 (%) | J5: Change 2015 (%)
A6: Exporters
A7: China | B7: =IF('A22 data'!$AM$5="","...",'A22 data'!$AM$5/1000) | C7: =IFERROR(IF('A22 data'!$X$5="","...",'A22 data'!$X$5/'A22 data'!$X$4*100),"...") | D7: =IFERROR(IF('A22 data'!$AC$5="","...",'A22 data'!$AC$5/'A22 data'!$AC$4*100),"...") | E7: =IFERROR(IF('A22 data'!$AH$5="","...",'A22 data'!$AH$5/'A22 data'!$AH$4*100),"...") | F7: =IFERROR(IF('A22 data'!$AM$5="","...",'A22 data'!$AM$5/'A22 data'!$AM$4*100),"...") | G7: =IF(OR('A22 data'!$AM$5="",'A22 data'!$AH$5=""),"...",IFERROR((('A22 data'!$AM$5/'A22 data'!$AH$5)^(1/5)-1)*100,"...")) | H7: =IF(OR('A22 data'!$AK$5="",'A22 data'!$AJ$5=""),"...",IFERROR(('A22 data'!$AK$5/'A22 data'!$AJ$5-1)*100,"...")) | I7: =IF(OR('A22 data'!$AL$5="",'A22 data'!$AK$5=""),"...",IFERROR(('A22 data'!$AL$5/'A22 data'!$AK$5-1)*100,"...")) | J7: =IF(OR('A22 data'!$AM$5="",'A22 data'!$AL$5=""),"...",IFERROR(('A22 data'!$AM$5/'A22 data'!$AL$5-1)*100,"..."))
A8: European Union | B8: =IF('A22 data'!$AM$6="","...",'A22 data'!$AM$6/1000) | C8: =IFERROR(IF('A22 data'!$X$6="","...",'A22 data'!$X$6/'A22 data'!$X$4*100),"...") | D8: =IFERROR(IF('A22 data'!$AC$6="","...",'A22 data'!$AC$6/'A22 data'!$AC$4*100),"...") | E8: =IFERROR(IF('A22 data'!$AH$6="","...",'A22 data'!$AH$6/'A22 data'!$AH$4*100),"...") | F8: =IFERROR(IF('A22 data'!$AM$6="","...",'A22 data'!$AM$6/'A22 data'!$AM$4*100),"...") | G8: =IF(OR('A22 data'!$AM$6="",'A22 data'!$AH$6=""),"...",IFERROR((('A22 data'!$AM$6/'A22 data'!$AH$6)^(1/5)-1)*100,"...")) | H8: =IF(OR('A22 data'!$AK$6="",'A22 data'!$AJ$6=""),"...",IFERROR(('A22 data'!$AK$6/'A22 data'!$AJ$6-1)*100,"...")) | I8: =IF(OR('A22 data'!$AL$6="",'A22 data'!$AK$6=""),"...",IFERROR(('A22 data'!$AL$6/'A22 data'!$AK$6-1)*100,"...")) | J8: =IF(OR('A22 data'!$AM$6="",'A22 data'!$AL$6=""),"...",IFERROR(('A22 data'!$AM$6/'A22 data'!$AL$6-1)*100,"..."))
A9: Extra-EU | B9: =IF('A22 data'!$AM$7="","...",'A22 data'!$AM$7/1000) | C9: =IFERROR(IF('A22 data'!$X$7="","...",'A22 data'!$X$7/'A22 data'!$X$4*100),"...") | D9: =IFERROR(IF('A22 data'!$AC$7="","...",'A22 data'!$AC$7/'A22 data'!$AC$4*100),"...") | E9: =IFERROR(IF('A22 data'!$AH$7="","...",'A22 data'!$AH$7/'A22 data'!$AH$4*100),"...") | F9: =IFERROR(IF('A22 data'!$AM$7="","...",'A22 data'!$AM$7/'A22 data'!$AM$4*100),"...") | G9: =IF(OR('A22 data'!$AM$7="",'A22 data'!$AH$7=""),"...",IFERROR((('A22 data'!$AM$7/'A22 data'!$AH$7)^(1/5)-1)*100,"...")) | H9: =IF(OR('A22 data'!$AK$7="",'A22 data'!$AJ$7=""),"...",IFERROR(('A22 data'!$AK$7/'A22 data'!$AJ$7-1)*100,"...")) | I9: =IF(OR('A22 data'!$AL$7="",'A22 data'!$AK$7=""),"...",IFERROR(('A22 data'!$AL$7/'A22 data'!$AK$7-1)*100,"...")) | J9: =IF(OR('A22 data'!$AM$7="",'A22 data'!$AL$7=""),"...",IFERROR(('A22 data'!$AM$7/'A22 data'!$AL$7-1)*100,"..."))
A10: India | B10: =IF('A22 data'!$AM$8="","...",'A22 data'!$AM$8/1000) | C10: =IFERROR(IF('A22 data'!$X$8="","...",'A22 data'!$X$8/'A22 data'!$X$4*100),"...") | D10: =IFERROR(IF('A22 data'!$AC$8="","...",'A22 data'!$AC$8/'A22 data'!$AC$4*100),"...") | E10: =IFERROR(IF('A22 data'!$AH$8="","...",'A22 data'!$AH$8/'A22 data'!$AH$4*100),"...") | F10: =IFERROR(IF('A22 data'!$AM$8="","...",'A22 data'!$AM$8/'A22 data'!$AM$4*100),"...") | G10: =IF(OR('A22 data'!$AM$8="",'A22 data'!$AH$8=""),"...",IFERROR((('A22 data'!$AM$8/'A22 data'!$AH$8)^(1/5)-1)*100,"...")) | H10: =IF(OR('A22 data'!$AK$8="",'A22 data'!$AJ$8=""),"...",IFERROR(('A22 data'!$AK$8/'A22 data'!$AJ$8-1)*100,"...")) | I10: =IF(OR('A22 data'!$AL$8="",'A22 data'!$AK$8=""),"...",IFERROR(('A22 data'!$AL$8/'A22 data'!$AK$8-1)*100,"...")) | J10: =IF(OR('A22 data'!$AM$8="",'A22 data'!$AL$8=""),"...",IFERROR(('A22 data'!$AM$8/'A22 data'!$AL$8-1)*100,"..."))
A11: United States of America | B11: =IF('A22 data'!$AM$9="","...",'A22 data'!$AM$9/1000) | C11: =IFERROR(IF('A22 data'!$X$9="","...",'A22 data'!$X$9/'A22 data'!$X$4*100),"...") | D11: =IFERROR(IF('A22 data'!$AC$9="","...",'A22 data'!$AC$9/'A22 data'!$AC$4*100),"...") | E11: =IFERROR(IF('A22 data'!$AH$9="","...",'A22 data'!$AH$9/'A22 data'!$AH$4*100),"...") | F11: =IFERROR(IF('A22 data'!$AM$9="","...",'A22 data'!$AM$9/'A22 data'!$AM$4*100),"...") | G11: =IF(OR('A22 data'!$AM$9="",'A22 data'!$AH$9=""),"...",IFERROR((('A22 data'!$AM$9/'A22 data'!$AH$9)^(1/5)-1)*100,"...")) | H11: =IF(OR('A22 data'!$AK$9="",'A22 data'!$AJ$9=""),"...",IFERROR(('A22 data'!$AK$9/'A22 data'!$AJ$9-1)*100,"...")) | I11: =IF(OR('A22 data'!$AL$9="",'A22 data'!$AK$9=""),"...",IFERROR(('A22 data'!$AL$9/'A22 data'!$AK$9-1)*100,"...")) | J11: =IF(OR('A22 data'!$AM$9="",'A22 data'!$AL$9=""),"...",IFERROR(('A22 data'!$AM$9/'A22 data'!$AL$9-1)*100,"..."))
A12: Türkiye | B12: =IF('A22 data'!$AM$10="","...",'A22 data'!$AM$10/1000) | C12: =IFERROR(IF('A22 data'!$X$10="","...",'A22 data'!$X$10/'A22 data'!$X$4*100),"...") | D12: =IFERROR(IF('A22 data'!$AC$10="","...",'A22 data'!$AC$10/'A22 data'!$AC$4*100),"...") | E12: =IFERROR(IF('A22 data'!$AH$10="","...",'A22 data'!$AH$10/'A22 data'!$AH$4*100),"...") | F12: =IFERROR(IF('A22 data'!$AM$10="","...",'A22 data'!$AM$10/'A22 data'!$AM$4*100),"...") | G12: =IF(OR('A22 data'!$AM$10="",'A22 data'!$AH$10=""),"...",IFERROR((('A22 data'!$AM$10/'A22 data'!$AH$10)^(1/5)-1)*100,"...")) | H12: =IF(OR('A22 data'!$AK$10="",'A22 data'!$AJ$10=""),"...",IFERROR(('A22 data'!$AK$10/'A22 data'!$AJ$10-1)*100,"...")) | I12: =IF(OR('A22 data'!$AL$10="",'A22 data'!$AK$10=""),"...",IFERROR(('A22 data'!$AL$10/'A22 data'!$AK$10-1)*100,"...")) | J12: =IF(OR('A22 data'!$AM$10="",'A22 data'!$AL$10=""),"...",IFERROR(('A22 data'!$AM$10/'A22 data'!$AL$10-1)*100,"..."))
A13: Korea, Republic of | B13: =IF('A22 data'!$AM$11="","...",'A22 data'!$AM$11/1000) | C13: =IFERROR(IF('A22 data'!$X$11="","...",'A22 data'!$X$11/'A22 data'!$X$4*100),"...") | D13: =IFERROR(IF('A22 data'!$AC$11="","...",'A22 data'!$AC$11/'A22 data'!$AC$4*100),"...") | E13: =IFERROR(IF('A22 data'!$AH$11="","...",'A22 data'!$AH$11/'A22 data'!$AH$4*100),"...") | F13: =IFERROR(IF('A22 data'!$AM$11="","...",'A22 data'!$AM$11/'A22 data'!$AM$4*100),"...") | G13: =IF(OR('A22 data'!$AM$11="",'A22 data'!$AH$11=""),"...",IFERROR((('A22 data'!$AM$11/'A22 data'!$AH$11)^(1/5)-1)*100,"...")) | H13: =IF(OR('A22 data'!$AK$11="",'A22 data'!$AJ$11=""),"...",IFERROR(('A22 data'!$AK$11/'A22 data'!$AJ$11-1)*100,"...")) | I13: =IF(OR('A22 data'!$AL$11="",'A22 data'!$AK$11=""),"...",IFERROR(('A22 data'!$AL$11/'A22 data'!$AK$11-1)*100,"...")) | J13: =IF(OR('A22 data'!$AM$11="",'A22 data'!$AL$11=""),"...",IFERROR(('A22 data'!$AM$11/'A22 data'!$AL$11-1)*100,"..."))
A14: Chinese Taipei | B14: =IF('A22 data'!$AM$12="","...",'A22 data'!$AM$12/1000) | C14: =IFERROR(IF('A22 data'!$X$12="","...",'A22 data'!$X$12/'A22 data'!$X$4*100),"...") | D14: =IFERROR(IF('A22 data'!$AC$12="","...",'A22 data'!$AC$12/'A22 data'!$AC$4*100),"...") | E14: =IFERROR(IF('A22 data'!$AH$12="","...",'A22 data'!$AH$12/'A22 data'!$AH$4*100),"...") | F14: =IFERROR(IF('A22 data'!$AM$12="","...",'A22 data'!$AM$12/'A22 data'!$AM$4*100),"...") | G14: =IF(OR('A22 data'!$AM$12="",'A22 data'!$AH$12=""),"...",IFERROR((('A22 data'!$AM$12/'A22 data'!$AH$12)^(1/5)-1)*100,"...")) | H14: =IF(OR('A22 data'!$AK$12="",'A22 data'!$AJ$12=""),"...",IFERROR(('A22 data'!$AK$12/'A22 data'!$AJ$12-1)*100,"...")) | I14: =IF(OR('A22 data'!$AL$12="",'A22 data'!$AK$12=""),"...",IFERROR(('A22 data'!$AL$12/'A22 data'!$AK$12-1)*100,"...")) | J14: =IF(OR('A22 data'!$AM$12="",'A22 data'!$AL$12=""),"...",IFERROR(('A22 data'!$AM$12/'A22 data'!$AL$12-1)*100,"..."))
A15: Hong Kong, China | B15: =IF('A22 data'!$AM$13="","...",'A22 data'!$AM$13/1000) | C15: =IFERROR(IF('A22 data'!$X$13="","...",'A22 data'!$X$13/'A22 data'!$X$4*100),"...") | D15: =IFERROR(IF('A22 data'!$AC$13="","...",'A22 data'!$AC$13/'A22 data'!$AC$4*100),"...") | E15: =IFERROR(IF('A22 data'!$AH$13="","...",'A22 data'!$AH$13/'A22 data'!$AH$4*100),"...") | F15: =IFERROR(IF('A22 data'!$AM$13="","...",'A22 data'!$AM$13/'A22 data'!$AM$4*100),"...") | G15: =IF(OR('A22 data'!$AM$13="",'A22 data'!$AH$13=""),"...",IFERROR((('A22 data'!$AM$13/'A22 data'!$AH$13)^(1/5)-1)*100,"...")) | H15: =IF(OR('A22 data'!$AK$13="",'A22 data'!$AJ$13=""),"...",IFERROR(('A22 data'!$AK$13/'A22 data'!$AJ$13-1)*100,"...")) | I15: =IF(OR('A22 data'!$AL$13="",'A22 data'!$AK$13=""),"...",IFERROR(('A22 data'!$AL$13/'A22 data'!$AK$13-1)*100,"...")) | J15: =IF(OR('A22 data'!$AM$13="",'A22 data'!$AL$13=""),"...",IFERROR(('A22 data'!$AM$13/'A22 data'!$AL$13-1)*100,"..."))
A16: Pakistan | B16: =IF('A22 data'!$AM$14="","...",'A22 data'!$AM$14/1000) | C16: =IFERROR(IF('A22 data'!$X$14="","...",'A22 data'!$X$14/'A22 data'!$X$4*100),"...") | D16: =IFERROR(IF('A22 data'!$AC$14="","...",'A22 data'!$AC$14/'A22 data'!$AC$4*100),"...") | E16: =IFERROR(IF('A22 data'!$AH$14="","...",'A22 data'!$AH$14/'A22 data'!$AH$4*100),"...") | F16: =IFERROR(IF('A22 data'!$AM$14="","...",'A22 data'!$AM$14/'A22 data'!$AM$4*100),"...") | G16: =IF(OR('A22 data'!$AM$14="",'A22 data'!$AH$14=""),"...",IFERROR((('A22 data'!$AM$14/'A22 data'!$AH$14)^(1/5)-1)*100,"...")) | H16: =IF(OR('A22 data'!$AK$14="",'A22 data'!$AJ$14=""),"...",IFERROR(('A22 data'!$AK$14/'A22 data'!$AJ$14-1)*100,"...")) | I16: =IF(OR('A22 data'!$AL$14="",'A22 data'!$AK$14=""),"...",IFERROR(('A22 data'!$AL$14/'A22 data'!$AK$14-1)*100,"...")) | J16: =IF(OR('A22 data'!$AM$14="",'A22 data'!$AL$14=""),"...",IFERROR(('A22 data'!$AM$14/'A22 data'!$AL$14-1)*100,"..."))
A17: Japan | B17: =IF('A22 data'!$AM$15="","...",'A22 data'!$AM$15/1000) | C17: =IFERROR(IF('A22 data'!$X$15="","...",'A22 data'!$X$15/'A22 data'!$X$4*100),"...") | D17: =IFERROR(IF('A22 data'!$AC$15="","...",'A22 data'!$AC$15/'A22 data'!$AC$4*100),"...") | E17: =IFERROR(IF('A22 data'!$AH$15="","...",'A22 data'!$AH$15/'A22 data'!$AH$4*100),"...") | F17: =IFERROR(IF('A22 data'!$AM$15="","...",'A22 data'!$AM$15/'A22 data'!$AM$4*100),"...") | G17: =IF(OR('A22 data'!$AM$15="",'A22 data'!$AH$15=""),"...",IFERROR((('A22 data'!$AM$15/'A22 data'!$AH$15)^(1/5)-1)*100,"...")) | H17: =IF(OR('A22 data'!$AK$15="",'A22 data'!$AJ$15=""),"...",IFERROR(('A22 data'!$AK$15/'A22 data'!$AJ$15-1)*100,"...")) | I17: =IF(OR('A22 data'!$AL$15="",'A22 data'!$AK$15=""),"...",IFERROR(('A22 data'!$AL$15/'A22 data'!$AK$15-1)*100,"...")) | J17: =IF(OR('A22 data'!$AM$15="",'A22 data'!$AL$15=""),"...",IFERROR(('A22 data'!$AM$15/'A22 data'!$AL$15-1)*100,"..."))
A18: Above 10 | B18: =IFERROR(B7+B8+B10+B11+B12+B13+B14+B15+B16+B17,"...") | C18: =IFERROR(C7+C8+C10+C11+C12+C13+C14+C15+C16+C17,"...") | D18: =IFERROR(D7+D8+D10+D11+D12+D13+D14+D15+D16+D17,"...") | E18: =IFERROR(E7+E8+E10+E11+E12+E13+E14+E15+E16+E17,"...") | F18: =IFERROR(F7+F8+F10+F11+F12+F13+F14+F15+F16+F17,"...") | G18: - | H18: - | I18: - | J18: -
A19: Importers
A20: European Union | B20: =IF('A22 data'!$AM$17="","...",'A22 data'!$AM$17/1000) | C20: =IFERROR(IF('A22 data'!$X$17="","...",'A22 data'!$X$17/'A22 data'!$X$16*100),"...") | D20: =IFERROR(IF('A22 data'!$AC$17="","...",'A22 data'!$AC$17/'A22 data'!$AC$16*100),"...") | E20: =IFERROR(IF('A22 data'!$AH$17="","...",'A22 data'!$AH$17/'A22 data'!$AH$16*100),"...") | F20: =IFERROR(IF('A22 data'!$AM$17="","...",'A22 data'!$AM$17/'A22 data'!$AM$16*100),"...") | G20: =IF(OR('A22 data'!$AM$17="",'A22 data'!$AH$17=""),"...",IFERROR((('A22 data'!$AM$17/'A22 data'!$AH$17)^(1/5)-1)*100,"...")) | H20: =IF(OR('A22 data'!$AK$17="",'A22 data'!$AJ$17=""),"...",IFERROR(('A22 data'!$AK$17/'A22 data'!$AJ$17-1)*100,"...")) | I20: =IF(OR('A22 data'!$AL$17="",'A22 data'!$AK$17=""),"...",IFERROR(('A22 data'!$AL$17/'A22 data'!$AK$17-1)*100,"...")) | J20: =IF(OR('A22 data'!$AM$17="",'A22 data'!$AL$17=""),"...",IFERROR(('A22 data'!$AM$17/'A22 data'!$AL$17-1)*100,"..."))
A21: Extra-EU | B21: =IF('A22 data'!$AM$18="","...",'A22 data'!$AM$18/1000) | C21: =IFERROR(IF('A22 data'!$X$18="","...",'A22 data'!$X$18/'A22 data'!$X$16*100),"...") | D21: =IFERROR(IF('A22 data'!$AC$18="","...",'A22 data'!$AC$18/'A22 data'!$AC$16*100),"...") | E21: =IFERROR(IF('A22 data'!$AH$18="","...",'A22 data'!$AH$18/'A22 data'!$AH$16*100),"...") | F21: =IFERROR(IF('A22 data'!$AM$18="","...",'A22 data'!$AM$18/'A22 data'!$AM$16*100),"...") | G21: =IF(OR('A22 data'!$AM$18="",'A22 data'!$AH$18=""),"...",IFERROR((('A22 data'!$AM$18/'A22 data'!$AH$18)^(1/5)-1)*100,"...")) | H21: =IF(OR('A22 data'!$AK$18="",'A22 data'!$AJ$18=""),"...",IFERROR(('A22 data'!$AK$18/'A22 data'!$AJ$18-1)*100,"...")) | I21: =IF(OR('A22 data'!$AL$18="",'A22 data'!$AK$18=""),"...",IFERROR(('A22 data'!$AL$18/'A22 data'!$AK$18-1)*100,"...")) | J21: =IF(OR('A22 data'!$AM$18="",'A22 data'!$AL$18=""),"...",IFERROR(('A22 data'!$AM$18/'A22 data'!$AL$18-1)*100,"..."))
A22: United States of America | B22: =IF('A22 data'!$AM$19="","...",'A22 data'!$AM$19/1000) | C22: =IFERROR(IF('A22 data'!$X$19="","...",'A22 data'!$X$19/'A22 data'!$X$16*100),"...") | D22: =IFERROR(IF('A22 data'!$AC$19="","...",'A22 data'!$AC$19/'A22 data'!$AC$16*100),"...") | E22: =IFERROR(IF('A22 data'!$AH$19="","...",'A22 data'!$AH$19/'A22 data'!$AH$16*100),"...") | F22: =IFERROR(IF('A22 data'!$AM$19="","...",'A22 data'!$AM$19/'A22 data'!$AM$16*100),"...") | G22: =IF(OR('A22 data'!$AM$19="",'A22 data'!$AH$19=""),"...",IFERROR((('A22 data'!$AM$19/'A22 data'!$AH$19)^(1/5)-1)*100,"...")) | H22: =IF(OR('A22 data'!$AK$19="",'A22 data'!$AJ$19=""),"...",IFERROR(('A22 data'!$AK$19/'A22 data'!$AJ$19-1)*100,"...")) | I22: =IF(OR('A22 data'!$AL$19="",'A22 data'!$AK$19=""),"...",IFERROR(('A22 data'!$AL$19/'A22 data'!$AK$19-1)*100,"...")) | J22: =IF(OR('A22 data'!$AM$19="",'A22 data'!$AL$19=""),"...",IFERROR(('A22 data'!$AM$19/'A22 data'!$AL$19-1)*100,"..."))
A23: China | B23: =IF('A22 data'!$AM$20="","...",'A22 data'!$AM$20/1000) | C23: =IFERROR(IF('A22 data'!$X$20="","...",'A22 data'!$X$20/'A22 data'!$X$16*100),"...") | D23: =IFERROR(IF('A22 data'!$AC$20="","...",'A22 data'!$AC$20/'A22 data'!$AC$16*100),"...") | E23: =IFERROR(IF('A22 data'!$AH$20="","...",'A22 data'!$AH$20/'A22 data'!$AH$16*100),"...") | F23: =IFERROR(IF('A22 data'!$AM$20="","...",'A22 data'!$AM$20/'A22 data'!$AM$16*100),"...") | G23: =IF(OR('A22 data'!$AM$20="",'A22 data'!$AH$20=""),"...",IFERROR((('A22 data'!$AM$20/'A22 data'!$AH$20)^(1/5)-1)*100,"...")) | H23: =IF(OR('A22 data'!$AK$20="",'A22 data'!$AJ$20=""),"...",IFERROR(('A22 data'!$AK$20/'A22 data'!$AJ$20-1)*100,"...")) | I23: =IF(OR('A22 data'!$AL$20="",'A22 data'!$AK$20=""),"...",IFERROR(('A22 data'!$AL$20/'A22 data'!$AK$20-1)*100,"...")) | J23: =IF(OR('A22 data'!$AM$20="",'A22 data'!$AL$20=""),"...",IFERROR(('A22 data'!$AM$20/'A22 data'!$AL$20-1)*100,"..."))
A24: Viet Nam | B24: =IF('A22 data'!$AM$21="","...",'A22 data'!$AM$21/1000) | C24: =IFERROR(IF('A22 data'!$X$21="","...",'A22 data'!$X$21/'A22 data'!$X$16*100),"...") | D24: =IFERROR(IF('A22 data'!$AC$21="","...",'A22 data'!$AC$21/'A22 data'!$AC$16*100),"...") | E24: =IFERROR(IF('A22 data'!$AH$21="","...",'A22 data'!$AH$21/'A22 data'!$AH$16*100),"...") | F24: =IFERROR(IF('A22 data'!$AM$21="","...",'A22 data'!$AM$21/'A22 data'!$AM$16*100),"...") | G24: =IF(OR('A22 data'!$AM$21="",'A22 data'!$AH$21=""),"...",IFERROR((('A22 data'!$AM$21/'A22 data'!$AH$21)^(1/5)-1)*100,"...")) | H24: =IF(OR('A22 data'!$AK$21="",'A22 data'!$AJ$21=""),"...",IFERROR(('A22 data'!$AK$21/'A22 data'!$AJ$21-1)*100,"...")) | I24: =IF(OR('A22 data'!$AL$21="",'A22 data'!$AK$21=""),"...",IFERROR(('A22 data'!$AL$21/'A22 data'!$AK$21-1)*100,"...")) | J24: =IF(OR('A22 data'!$AM$21="",'A22 data'!$AL$21=""),"...",IFERROR(('A22 data'!$AM$21/'A22 data'!$AL$21-1)*100,"..."))
A25: Hong Kong, China | B25: =IF('A22 data'!$AM$22="","...",'A22 data'!$AM$22/1000) | C25: =IFERROR(IF('A22 data'!$X$22="","...",'A22 data'!$X$22/'A22 data'!$X$16*100),"...") | D25: =IFERROR(IF('A22 data'!$AC$22="","...",'A22 data'!$AC$22/'A22 data'!$AC$16*100),"...") | E25: =IFERROR(IF('A22 data'!$AH$22="","...",'A22 data'!$AH$22/'A22 data'!$AH$16*100),"...") | F25: =IFERROR(IF('A22 data'!$AM$22="","...",'A22 data'!$AM$22/'A22 data'!$AM$16*100),"...") | G25: =IF(OR('A22 data'!$AM$22="",'A22 data'!$AH$22=""),"...",IFERROR((('A22 data'!$AM$22/'A22 data'!$AH$22)^(1/5)-1)*100,"...")) | H25: =IF(OR('A22 data'!$AK$22="",'A22 data'!$AJ$22=""),"...",IFERROR(('A22 data'!$AK$22/'A22 data'!$AJ$22-1)*100,"...")) | I25: =IF(OR('A22 data'!$AL$22="",'A22 data'!$AK$22=""),"...",IFERROR(('A22 data'!$AL$22/'A22 data'!$AK$22-1)*100,"...")) | J25: =IF(OR('A22 data'!$AM$22="",'A22 data'!$AL$22=""),"...",IFERROR(('A22 data'!$AM$22/'A22 data'!$AL$22-1)*100,"..."))
A26: Bangladesh | B26: =IF('A22 data'!$AM$23="","...",'A22 data'!$AM$23/1000) | C26: =IFERROR(IF('A22 data'!$X$23="","...",'A22 data'!$X$23/'A22 data'!$X$16*100),"...") | D26: =IFERROR(IF('A22 data'!$AC$23="","...",'A22 data'!$AC$23/'A22 data'!$AC$16*100),"...") | E26: =IFERROR(IF('A22 data'!$AH$23="","...",'A22 data'!$AH$23/'A22 data'!$AH$16*100),"...") | F26: =IFERROR(IF('A22 data'!$AM$23="","...",'A22 data'!$AM$23/'A22 data'!$AM$16*100),"...") | G26: =IF(OR('A22 data'!$AM$23="",'A22 data'!$AH$23=""),"...",IFERROR((('A22 data'!$AM$23/'A22 data'!$AH$23)^(1/5)-1)*100,"...")) | H26: =IF(OR('A22 data'!$AK$23="",'A22 data'!$AJ$23=""),"...",IFERROR(('A22 data'!$AK$23/'A22 data'!$AJ$23-1)*100,"...")) | I26: =IF(OR('A22 data'!$AL$23="",'A22 data'!$AK$23=""),"...",IFERROR(('A22 data'!$AL$23/'A22 data'!$AK$23-1)*100,"...")) | J26: =IF(OR('A22 data'!$AM$23="",'A22 data'!$AL$23=""),"...",IFERROR(('A22 data'!$AM$23/'A22 data'!$AL$23-1)*100,"..."))
A27: Japan | B27: =IF('A22 data'!$AM$24="","...",'A22 data'!$AM$24/1000) | C27: =IFERROR(IF('A22 data'!$X$24="","...",'A22 data'!$X$24/'A22 data'!$X$16*100),"...") | D27: =IFERROR(IF('A22 data'!$AC$24="","...",'A22 data'!$AC$24/'A22 data'!$AC$16*100),"...") | E27: =IFERROR(IF('A22 data'!$AH$24="","...",'A22 data'!$AH$24/'A22 data'!$AH$16*100),"...") | F27: =IFERROR(IF('A22 data'!$AM$24="","...",'A22 data'!$AM$24/'A22 data'!$AM$16*100),"...") | G27: =IF(OR('A22 data'!$AM$24="",'A22 data'!$AH$24=""),"...",IFERROR((('A22 data'!$AM$24/'A22 data'!$AH$24)^(1/5)-1)*100,"...")) | H27: =IF(OR('A22 data'!$AK$24="",'A22 data'!$AJ$24=""),"...",IFERROR(('A22 data'!$AK$24/'A22 data'!$AJ$24-1)*100,"...")) | I27: =IF(OR('A22 data'!$AL$24="",'A22 data'!$AK$24=""),"...",IFERROR(('A22 data'!$AL$24/'A22 data'!$AK$24-1)*100,"...")) | J27: =IF(OR('A22 data'!$AM$24="",'A22 data'!$AL$24=""),"...",IFERROR(('A22 data'!$AM$24/'A22 data'!$AL$24-1)*100,"..."))
A28: United Kingdom | B28: =IF('A22 data'!$AM$25="","...",'A22 data'!$AM$25/1000) | C28: =IFERROR(IF('A22 data'!$X$25="","...",'A22 data'!$X$25/'A22 data'!$X$16*100),"...") | D28: =IFERROR(IF('A22 data'!$AC$25="","...",'A22 data'!$AC$25/'A22 data'!$AC$16*100),"...") | E28: =IFERROR(IF('A22 data'!$AH$25="","...",'A22 data'!$AH$25/'A22 data'!$AH$16*100),"...") | F28: =IFERROR(IF('A22 data'!$AM$25="","...",'A22 data'!$AM$25/'A22 data'!$AM$16*100),"...") | G28: =IF(OR('A22 data'!$AM$25="",'A22 data'!$AH$25=""),"...",IFERROR((('A22 data'!$AM$25/'A22 data'!$AH$25)^(1/5)-1)*100,"...")) | H28: =IF(OR('A22 data'!$AK$25="",'A22 data'!$AJ$25=""),"...",IFERROR(('A22 data'!$AK$25/'A22 data'!$AJ$25-1)*100,"...")) | I28: =IF(OR('A22 data'!$AL$25="",'A22 data'!$AK$25=""),"...",IFERROR(('A22 data'!$AL$25/'A22 data'!$AK$25-1)*100,"...")) | J28: =IF(OR('A22 data'!$AM$25="",'A22 data'!$AL$25=""),"...",IFERROR(('A22 data'!$AM$25/'A22 data'!$AL$25-1)*100,"..."))
A29: Mexico | B29: =IF('A22 data'!$AM$26="","...",'A22 data'!$AM$26/1000) | C29: =IFERROR(IF('A22 data'!$X$26="","...",'A22 data'!$X$26/'A22 data'!$X$16*100),"...") | D29: =IFERROR(IF('A22 data'!$AC$26="","...",'A22 data'!$AC$26/'A22 data'!$AC$16*100),"...") | E29: =IFERROR(IF('A22 data'!$AH$26="","...",'A22 data'!$AH$26/'A22 data'!$AH$16*100),"...") | F29: =IFERROR(IF('A22 data'!$AM$26="","...",'A22 data'!$AM$26/'A22 data'!$AM$16*100),"...") | G29: =IF(OR('A22 data'!$AM$26="",'A22 data'!$AH$26=""),"...",IFERROR((('A22 data'!$AM$26/'A22 data'!$AH$26)^(1/5)-1)*100,"...")) | H29: =IF(OR('A22 data'!$AK$26="",'A22 data'!$AJ$26=""),"...",IFERROR(('A22 data'!$AK$26/'A22 data'!$AJ$26-1)*100,"...")) | I29: =IF(OR('A22 data'!$AL$26="",'A22 data'!$AK$26=""),"...",IFERROR(('A22 data'!$AL$26/'A22 data'!$AK$26-1)*100,"...")) | J29: =IF(OR('A22 data'!$AM$26="",'A22 data'!$AL$26=""),"...",IFERROR(('A22 data'!$AM$26/'A22 data'!$AL$26-1)*100,"..."))
A30: Türkiye | B30: =IF('A22 data'!$AM$27="","...",'A22 data'!$AM$27/1000) | C30: =IFERROR(IF('A22 data'!$X$27="","...",'A22 data'!$X$27/'A22 data'!$X$16*100),"...") | D30: =IFERROR(IF('A22 data'!$AC$27="","...",'A22 data'!$AC$27/'A22 data'!$AC$16*100),"...") | E30: =IFERROR(IF('A22 data'!$AH$27="","...",'A22 data'!$AH$27/'A22 data'!$AH$16*100),"...") | F30: =IFERROR(IF('A22 data'!$AM$27="","...",'A22 data'!$AM$27/'A22 data'!$AM$16*100),"...") | G30: =IF(OR('A22 data'!$AM$27="",'A22 data'!$AH$27=""),"...",IFERROR((('A22 data'!$AM$27/'A22 data'!$AH$27)^(1/5)-1)*100,"...")) | H30: =IF(OR('A22 data'!$AK$27="",'A22 data'!$AJ$27=""),"...",IFERROR(('A22 data'!$AK$27/'A22 data'!$AJ$27-1)*100,"...")) | I30: =IF(OR('A22 data'!$AL$27="",'A22 data'!$AK$27=""),"...",IFERROR(('A22 data'!$AL$27/'A22 data'!$AK$27-1)*100,"...")) | J30: =IF(OR('A22 data'!$AM$27="",'A22 data'!$AL$27=""),"...",IFERROR(('A22 data'!$AM$27/'A22 data'!$AL$27-1)*100,"..."))
A31: Above 10 | B31: =IFERROR(B20+B22+B23+B24+B25+B26+B27+B28+B29+B30,"...") | C31: =IFERROR(C20+C22+C23+C24+C25+C26+C27+C28+C29+C30,"...") | D31: =IFERROR(D20+D22+D23+D24+D25+D26+D27+D28+D29+D30,"...") | E31: =IFERROR(E20+E22+E23+E24+E25+E26+E27+E28+E29+E30,"...") | F31: =IFERROR(F20+F22+F23+F24+F25+F26+F27+F28+F29+F30,"...") | G31: - | H31: - | I31: - | J31: -
A33: Notes
A34: The EU is ranked as one economy; its member states are not ranked. Extra-EU (the EU's trade with non-members) is shown beneath it and is not ranked.
A35: From 2000 the EU figure is WTO's own series for today's 27 member states (EU-27), in every year, including years when the membership was different. The United Kingdom is ranked on its own.
A36: Economies ranked in 2015: 149 exporters, 150 importers.
A37: "Above 10" is the sum of the ten ranked economies. "..." means not available.
A38: Shares are of world textiles exports or imports. 2010-15 is the compound annual rate of change.
A39: Figures for every year are as WTO published them on 2026-09-29; WTO revises past figures, so they can differ from the printed review.
A40: Source: WTO Timeseries, indicators ITS_MTV_AX and ITS_MTV_AM, product MATE (SITC 65), via WTO Timeseries API v1 (api.wto.org).
A41: Blue figures on the data sheet are downloaded inputs; every figure on this sheet is a formula.

Sheet A23 clothing
A1: Table A23, 2016 edition (trade data for 2015)
A2: Top 10 exporters and importers of clothing, 2015
A3: (Billion dollars and percentage)
A5: Economy | B5: Value 2015 (US$ bn) | C5: Share 2000 (%) | D5: Share 2005 (%) | E5: Share 2010 (%) | F5: Share 2015 (%) | G5: Change 2010-15 (% p.a.) | H5: Change 2013 (%) | I5: Change 2014 (%) | J5: Change 2015 (%)
A6: Exporters
A7: China | B7: =IF('A23 data'!$AM$5="","...",'A23 data'!$AM$5/1000) | C7: =IFERROR(IF('A23 data'!$X$5="","...",'A23 data'!$X$5/'A23 data'!$X$4*100),"...") | D7: =IFERROR(IF('A23 data'!$AC$5="","...",'A23 data'!$AC$5/'A23 data'!$AC$4*100),"...") | E7: =IFERROR(IF('A23 data'!$AH$5="","...",'A23 data'!$AH$5/'A23 data'!$AH$4*100),"...") | F7: =IFERROR(IF('A23 data'!$AM$5="","...",'A23 data'!$AM$5/'A23 data'!$AM$4*100),"...") | G7: =IF(OR('A23 data'!$AM$5="",'A23 data'!$AH$5=""),"...",IFERROR((('A23 data'!$AM$5/'A23 data'!$AH$5)^(1/5)-1)*100,"...")) | H7: =IF(OR('A23 data'!$AK$5="",'A23 data'!$AJ$5=""),"...",IFERROR(('A23 data'!$AK$5/'A23 data'!$AJ$5-1)*100,"...")) | I7: =IF(OR('A23 data'!$AL$5="",'A23 data'!$AK$5=""),"...",IFERROR(('A23 data'!$AL$5/'A23 data'!$AK$5-1)*100,"...")) | J7: =IF(OR('A23 data'!$AM$5="",'A23 data'!$AL$5=""),"...",IFERROR(('A23 data'!$AM$5/'A23 data'!$AL$5-1)*100,"..."))
A8: European Union | B8: =IF('A23 data'!$AM$6="","...",'A23 data'!$AM$6/1000) | C8: =IFERROR(IF('A23 data'!$X$6="","...",'A23 data'!$X$6/'A23 data'!$X$4*100),"...") | D8: =IFERROR(IF('A23 data'!$AC$6="","...",'A23 data'!$AC$6/'A23 data'!$AC$4*100),"...") | E8: =IFERROR(IF('A23 data'!$AH$6="","...",'A23 data'!$AH$6/'A23 data'!$AH$4*100),"...") | F8: =IFERROR(IF('A23 data'!$AM$6="","...",'A23 data'!$AM$6/'A23 data'!$AM$4*100),"...") | G8: =IF(OR('A23 data'!$AM$6="",'A23 data'!$AH$6=""),"...",IFERROR((('A23 data'!$AM$6/'A23 data'!$AH$6)^(1/5)-1)*100,"...")) | H8: =IF(OR('A23 data'!$AK$6="",'A23 data'!$AJ$6=""),"...",IFERROR(('A23 data'!$AK$6/'A23 data'!$AJ$6-1)*100,"...")) | I8: =IF(OR('A23 data'!$AL$6="",'A23 data'!$AK$6=""),"...",IFERROR(('A23 data'!$AL$6/'A23 data'!$AK$6-1)*100,"...")) | J8: =IF(OR('A23 data'!$AM$6="",'A23 data'!$AL$6=""),"...",IFERROR(('A23 data'!$AM$6/'A23 data'!$AL$6-1)*100,"..."))
A9: Extra-EU | B9: =IF('A23 data'!$AM$7="","...",'A23 data'!$AM$7/1000) | C9: =IFERROR(IF('A23 data'!$X$7="","...",'A23 data'!$X$7/'A23 data'!$X$4*100),"...") | D9: =IFERROR(IF('A23 data'!$AC$7="","...",'A23 data'!$AC$7/'A23 data'!$AC$4*100),"...") | E9: =IFERROR(IF('A23 data'!$AH$7="","...",'A23 data'!$AH$7/'A23 data'!$AH$4*100),"...") | F9: =IFERROR(IF('A23 data'!$AM$7="","...",'A23 data'!$AM$7/'A23 data'!$AM$4*100),"...") | G9: =IF(OR('A23 data'!$AM$7="",'A23 data'!$AH$7=""),"...",IFERROR((('A23 data'!$AM$7/'A23 data'!$AH$7)^(1/5)-1)*100,"...")) | H9: =IF(OR('A23 data'!$AK$7="",'A23 data'!$AJ$7=""),"...",IFERROR(('A23 data'!$AK$7/'A23 data'!$AJ$7-1)*100,"...")) | I9: =IF(OR('A23 data'!$AL$7="",'A23 data'!$AK$7=""),"...",IFERROR(('A23 data'!$AL$7/'A23 data'!$AK$7-1)*100,"...")) | J9: =IF(OR('A23 data'!$AM$7="",'A23 data'!$AL$7=""),"...",IFERROR(('A23 data'!$AM$7/'A23 data'!$AL$7-1)*100,"..."))
A10: Bangladesh | B10: =IF('A23 data'!$AM$8="","...",'A23 data'!$AM$8/1000) | C10: =IFERROR(IF('A23 data'!$X$8="","...",'A23 data'!$X$8/'A23 data'!$X$4*100),"...") | D10: =IFERROR(IF('A23 data'!$AC$8="","...",'A23 data'!$AC$8/'A23 data'!$AC$4*100),"...") | E10: =IFERROR(IF('A23 data'!$AH$8="","...",'A23 data'!$AH$8/'A23 data'!$AH$4*100),"...") | F10: =IFERROR(IF('A23 data'!$AM$8="","...",'A23 data'!$AM$8/'A23 data'!$AM$4*100),"...") | G10: =IF(OR('A23 data'!$AM$8="",'A23 data'!$AH$8=""),"...",IFERROR((('A23 data'!$AM$8/'A23 data'!$AH$8)^(1/5)-1)*100,"...")) | H10: =IF(OR('A23 data'!$AK$8="",'A23 data'!$AJ$8=""),"...",IFERROR(('A23 data'!$AK$8/'A23 data'!$AJ$8-1)*100,"...")) | I10: =IF(OR('A23 data'!$AL$8="",'A23 data'!$AK$8=""),"...",IFERROR(('A23 data'!$AL$8/'A23 data'!$AK$8-1)*100,"...")) | J10: =IF(OR('A23 data'!$AM$8="",'A23 data'!$AL$8=""),"...",IFERROR(('A23 data'!$AM$8/'A23 data'!$AL$8-1)*100,"..."))
A11: Viet Nam | B11: =IF('A23 data'!$AM$9="","...",'A23 data'!$AM$9/1000) | C11: =IFERROR(IF('A23 data'!$X$9="","...",'A23 data'!$X$9/'A23 data'!$X$4*100),"...") | D11: =IFERROR(IF('A23 data'!$AC$9="","...",'A23 data'!$AC$9/'A23 data'!$AC$4*100),"...") | E11: =IFERROR(IF('A23 data'!$AH$9="","...",'A23 data'!$AH$9/'A23 data'!$AH$4*100),"...") | F11: =IFERROR(IF('A23 data'!$AM$9="","...",'A23 data'!$AM$9/'A23 data'!$AM$4*100),"...") | G11: =IF(OR('A23 data'!$AM$9="",'A23 data'!$AH$9=""),"...",IFERROR((('A23 data'!$AM$9/'A23 data'!$AH$9)^(1/5)-1)*100,"...")) | H11: =IF(OR('A23 data'!$AK$9="",'A23 data'!$AJ$9=""),"...",IFERROR(('A23 data'!$AK$9/'A23 data'!$AJ$9-1)*100,"...")) | I11: =IF(OR('A23 data'!$AL$9="",'A23 data'!$AK$9=""),"...",IFERROR(('A23 data'!$AL$9/'A23 data'!$AK$9-1)*100,"...")) | J11: =IF(OR('A23 data'!$AM$9="",'A23 data'!$AL$9=""),"...",IFERROR(('A23 data'!$AM$9/'A23 data'!$AL$9-1)*100,"..."))
A12: Hong Kong, China | B12: =IF('A23 data'!$AM$10="","...",'A23 data'!$AM$10/1000) | C12: =IFERROR(IF('A23 data'!$X$10="","...",'A23 data'!$X$10/'A23 data'!$X$4*100),"...") | D12: =IFERROR(IF('A23 data'!$AC$10="","...",'A23 data'!$AC$10/'A23 data'!$AC$4*100),"...") | E12: =IFERROR(IF('A23 data'!$AH$10="","...",'A23 data'!$AH$10/'A23 data'!$AH$4*100),"...") | F12: =IFERROR(IF('A23 data'!$AM$10="","...",'A23 data'!$AM$10/'A23 data'!$AM$4*100),"...") | G12: =IF(OR('A23 data'!$AM$10="",'A23 data'!$AH$10=""),"...",IFERROR((('A23 data'!$AM$10/'A23 data'!$AH$10)^(1/5)-1)*100,"...")) | H12: =IF(OR('A23 data'!$AK$10="",'A23 data'!$AJ$10=""),"...",IFERROR(('A23 data'!$AK$10/'A23 data'!$AJ$10-1)*100,"...")) | I12: =IF(OR('A23 data'!$AL$10="",'A23 data'!$AK$10=""),"...",IFERROR(('A23 data'!$AL$10/'A23 data'!$AK$10-1)*100,"...")) | J12: =IF(OR('A23 data'!$AM$10="",'A23 data'!$AL$10=""),"...",IFERROR(('A23 data'!$AM$10/'A23 data'!$AL$10-1)*100,"..."))
A13: India | B13: =IF('A23 data'!$AM$11="","...",'A23 data'!$AM$11/1000) | C13: =IFERROR(IF('A23 data'!$X$11="","...",'A23 data'!$X$11/'A23 data'!$X$4*100),"...") | D13: =IFERROR(IF('A23 data'!$AC$11="","...",'A23 data'!$AC$11/'A23 data'!$AC$4*100),"...") | E13: =IFERROR(IF('A23 data'!$AH$11="","...",'A23 data'!$AH$11/'A23 data'!$AH$4*100),"...") | F13: =IFERROR(IF('A23 data'!$AM$11="","...",'A23 data'!$AM$11/'A23 data'!$AM$4*100),"...") | G13: =IF(OR('A23 data'!$AM$11="",'A23 data'!$AH$11=""),"...",IFERROR((('A23 data'!$AM$11/'A23 data'!$AH$11)^(1/5)-1)*100,"...")) | H13: =IF(OR('A23 data'!$AK$11="",'A23 data'!$AJ$11=""),"...",IFERROR(('A23 data'!$AK$11/'A23 data'!$AJ$11-1)*100,"...")) | I13: =IF(OR('A23 data'!$AL$11="",'A23 data'!$AK$11=""),"...",IFERROR(('A23 data'!$AL$11/'A23 data'!$AK$11-1)*100,"...")) | J13: =IF(OR('A23 data'!$AM$11="",'A23 data'!$AL$11=""),"...",IFERROR(('A23 data'!$AM$11/'A23 data'!$AL$11-1)*100,"..."))
A14: Türkiye | B14: =IF('A23 data'!$AM$12="","...",'A23 data'!$AM$12/1000) | C14: =IFERROR(IF('A23 data'!$X$12="","...",'A23 data'!$X$12/'A23 data'!$X$4*100),"...") | D14: =IFERROR(IF('A23 data'!$AC$12="","...",'A23 data'!$AC$12/'A23 data'!$AC$4*100),"...") | E14: =IFERROR(IF('A23 data'!$AH$12="","...",'A23 data'!$AH$12/'A23 data'!$AH$4*100),"...") | F14: =IFERROR(IF('A23 data'!$AM$12="","...",'A23 data'!$AM$12/'A23 data'!$AM$4*100),"...") | G14: =IF(OR('A23 data'!$AM$12="",'A23 data'!$AH$12=""),"...",IFERROR((('A23 data'!$AM$12/'A23 data'!$AH$12)^(1/5)-1)*100,"...")) | H14: =IF(OR('A23 data'!$AK$12="",'A23 data'!$AJ$12=""),"...",IFERROR(('A23 data'!$AK$12/'A23 data'!$AJ$12-1)*100,"...")) | I14: =IF(OR('A23 data'!$AL$12="",'A23 data'!$AK$12=""),"...",IFERROR(('A23 data'!$AL$12/'A23 data'!$AK$12-1)*100,"...")) | J14: =IF(OR('A23 data'!$AM$12="",'A23 data'!$AL$12=""),"...",IFERROR(('A23 data'!$AM$12/'A23 data'!$AL$12-1)*100,"..."))
A15: United Kingdom | B15: =IF('A23 data'!$AM$13="","...",'A23 data'!$AM$13/1000) | C15: =IFERROR(IF('A23 data'!$X$13="","...",'A23 data'!$X$13/'A23 data'!$X$4*100),"...") | D15: =IFERROR(IF('A23 data'!$AC$13="","...",'A23 data'!$AC$13/'A23 data'!$AC$4*100),"...") | E15: =IFERROR(IF('A23 data'!$AH$13="","...",'A23 data'!$AH$13/'A23 data'!$AH$4*100),"...") | F15: =IFERROR(IF('A23 data'!$AM$13="","...",'A23 data'!$AM$13/'A23 data'!$AM$4*100),"...") | G15: =IF(OR('A23 data'!$AM$13="",'A23 data'!$AH$13=""),"...",IFERROR((('A23 data'!$AM$13/'A23 data'!$AH$13)^(1/5)-1)*100,"...")) | H15: =IF(OR('A23 data'!$AK$13="",'A23 data'!$AJ$13=""),"...",IFERROR(('A23 data'!$AK$13/'A23 data'!$AJ$13-1)*100,"...")) | I15: =IF(OR('A23 data'!$AL$13="",'A23 data'!$AK$13=""),"...",IFERROR(('A23 data'!$AL$13/'A23 data'!$AK$13-1)*100,"...")) | J15: =IF(OR('A23 data'!$AM$13="",'A23 data'!$AL$13=""),"...",IFERROR(('A23 data'!$AM$13/'A23 data'!$AL$13-1)*100,"..."))
A16: Indonesia | B16: =IF('A23 data'!$AM$14="","...",'A23 data'!$AM$14/1000) | C16: =IFERROR(IF('A23 data'!$X$14="","...",'A23 data'!$X$14/'A23 data'!$X$4*100),"...") | D16: =IFERROR(IF('A23 data'!$AC$14="","...",'A23 data'!$AC$14/'A23 data'!$AC$4*100),"...") | E16: =IFERROR(IF('A23 data'!$AH$14="","...",'A23 data'!$AH$14/'A23 data'!$AH$4*100),"...") | F16: =IFERROR(IF('A23 data'!$AM$14="","...",'A23 data'!$AM$14/'A23 data'!$AM$4*100),"...") | G16: =IF(OR('A23 data'!$AM$14="",'A23 data'!$AH$14=""),"...",IFERROR((('A23 data'!$AM$14/'A23 data'!$AH$14)^(1/5)-1)*100,"...")) | H16: =IF(OR('A23 data'!$AK$14="",'A23 data'!$AJ$14=""),"...",IFERROR(('A23 data'!$AK$14/'A23 data'!$AJ$14-1)*100,"...")) | I16: =IF(OR('A23 data'!$AL$14="",'A23 data'!$AK$14=""),"...",IFERROR(('A23 data'!$AL$14/'A23 data'!$AK$14-1)*100,"...")) | J16: =IF(OR('A23 data'!$AM$14="",'A23 data'!$AL$14=""),"...",IFERROR(('A23 data'!$AM$14/'A23 data'!$AL$14-1)*100,"..."))
A17: United States of America | B17: =IF('A23 data'!$AM$15="","...",'A23 data'!$AM$15/1000) | C17: =IFERROR(IF('A23 data'!$X$15="","...",'A23 data'!$X$15/'A23 data'!$X$4*100),"...") | D17: =IFERROR(IF('A23 data'!$AC$15="","...",'A23 data'!$AC$15/'A23 data'!$AC$4*100),"...") | E17: =IFERROR(IF('A23 data'!$AH$15="","...",'A23 data'!$AH$15/'A23 data'!$AH$4*100),"...") | F17: =IFERROR(IF('A23 data'!$AM$15="","...",'A23 data'!$AM$15/'A23 data'!$AM$4*100),"...") | G17: =IF(OR('A23 data'!$AM$15="",'A23 data'!$AH$15=""),"...",IFERROR((('A23 data'!$AM$15/'A23 data'!$AH$15)^(1/5)-1)*100,"...")) | H17: =IF(OR('A23 data'!$AK$15="",'A23 data'!$AJ$15=""),"...",IFERROR(('A23 data'!$AK$15/'A23 data'!$AJ$15-1)*100,"...")) | I17: =IF(OR('A23 data'!$AL$15="",'A23 data'!$AK$15=""),"...",IFERROR(('A23 data'!$AL$15/'A23 data'!$AK$15-1)*100,"...")) | J17: =IF(OR('A23 data'!$AM$15="",'A23 data'!$AL$15=""),"...",IFERROR(('A23 data'!$AM$15/'A23 data'!$AL$15-1)*100,"..."))
A18: Above 10 | B18: =IFERROR(B7+B8+B10+B11+B12+B13+B14+B15+B16+B17,"...") | C18: =IFERROR(C7+C8+C10+C11+C12+C13+C14+C15+C16+C17,"...") | D18: =IFERROR(D7+D8+D10+D11+D12+D13+D14+D15+D16+D17,"...") | E18: =IFERROR(E7+E8+E10+E11+E12+E13+E14+E15+E16+E17,"...") | F18: =IFERROR(F7+F8+F10+F11+F12+F13+F14+F15+F16+F17,"...") | G18: - | H18: - | I18: - | J18: -
A19: Importers
A20: European Union | B20: =IF('A23 data'!$AM$17="","...",'A23 data'!$AM$17/1000) | C20: =IFERROR(IF('A23 data'!$X$17="","...",'A23 data'!$X$17/'A23 data'!$X$16*100),"...") | D20: =IFERROR(IF('A23 data'!$AC$17="","...",'A23 data'!$AC$17/'A23 data'!$AC$16*100),"...") | E20: =IFERROR(IF('A23 data'!$AH$17="","...",'A23 data'!$AH$17/'A23 data'!$AH$16*100),"...") | F20: =IFERROR(IF('A23 data'!$AM$17="","...",'A23 data'!$AM$17/'A23 data'!$AM$16*100),"...") | G20: =IF(OR('A23 data'!$AM$17="",'A23 data'!$AH$17=""),"...",IFERROR((('A23 data'!$AM$17/'A23 data'!$AH$17)^(1/5)-1)*100,"...")) | H20: =IF(OR('A23 data'!$AK$17="",'A23 data'!$AJ$17=""),"...",IFERROR(('A23 data'!$AK$17/'A23 data'!$AJ$17-1)*100,"...")) | I20: =IF(OR('A23 data'!$AL$17="",'A23 data'!$AK$17=""),"...",IFERROR(('A23 data'!$AL$17/'A23 data'!$AK$17-1)*100,"...")) | J20: =IF(OR('A23 data'!$AM$17="",'A23 data'!$AL$17=""),"...",IFERROR(('A23 data'!$AM$17/'A23 data'!$AL$17-1)*100,"..."))
A21: Extra-EU | B21: =IF('A23 data'!$AM$18="","...",'A23 data'!$AM$18/1000) | C21: =IFERROR(IF('A23 data'!$X$18="","...",'A23 data'!$X$18/'A23 data'!$X$16*100),"...") | D21: =IFERROR(IF('A23 data'!$AC$18="","...",'A23 data'!$AC$18/'A23 data'!$AC$16*100),"...") | E21: =IFERROR(IF('A23 data'!$AH$18="","...",'A23 data'!$AH$18/'A23 data'!$AH$16*100),"...") | F21: =IFERROR(IF('A23 data'!$AM$18="","...",'A23 data'!$AM$18/'A23 data'!$AM$16*100),"...") | G21: =IF(OR('A23 data'!$AM$18="",'A23 data'!$AH$18=""),"...",IFERROR((('A23 data'!$AM$18/'A23 data'!$AH$18)^(1/5)-1)*100,"...")) | H21: =IF(OR('A23 data'!$AK$18="",'A23 data'!$AJ$18=""),"...",IFERROR(('A23 data'!$AK$18/'A23 data'!$AJ$18-1)*100,"...")) | I21: =IF(OR('A23 data'!$AL$18="",'A23 data'!$AK$18=""),"...",IFERROR(('A23 data'!$AL$18/'A23 data'!$AK$18-1)*100,"...")) | J21: =IF(OR('A23 data'!$AM$18="",'A23 data'!$AL$18=""),"...",IFERROR(('A23 data'!$AM$18/'A23 data'!$AL$18-1)*100,"..."))
A22: United States of America | B22: =IF('A23 data'!$AM$19="","...",'A23 data'!$AM$19/1000) | C22: =IFERROR(IF('A23 data'!$X$19="","...",'A23 data'!$X$19/'A23 data'!$X$16*100),"...") | D22: =IFERROR(IF('A23 data'!$AC$19="","...",'A23 data'!$AC$19/'A23 data'!$AC$16*100),"...") | E22: =IFERROR(IF('A23 data'!$AH$19="","...",'A23 data'!$AH$19/'A23 data'!$AH$16*100),"...") | F22: =IFERROR(IF('A23 data'!$AM$19="","...",'A23 data'!$AM$19/'A23 data'!$AM$16*100),"...") | G22: =IF(OR('A23 data'!$AM$19="",'A23 data'!$AH$19=""),"...",IFERROR((('A23 data'!$AM$19/'A23 data'!$AH$19)^(1/5)-1)*100,"...")) | H22: =IF(OR('A23 data'!$AK$19="",'A23 data'!$AJ$19=""),"...",IFERROR(('A23 data'!$AK$19/'A23 data'!$AJ$19-1)*100,"...")) | I22: =IF(OR('A23 data'!$AL$19="",'A23 data'!$AK$19=""),"...",IFERROR(('A23 data'!$AL$19/'A23 data'!$AK$19-1)*100,"...")) | J22: =IF(OR('A23 data'!$AM$19="",'A23 data'!$AL$19=""),"...",IFERROR(('A23 data'!$AM$19/'A23 data'!$AL$19-1)*100,"..."))
A23: Japan | B23: =IF('A23 data'!$AM$20="","...",'A23 data'!$AM$20/1000) | C23: =IFERROR(IF('A23 data'!$X$20="","...",'A23 data'!$X$20/'A23 data'!$X$16*100),"...") | D23: =IFERROR(IF('A23 data'!$AC$20="","...",'A23 data'!$AC$20/'A23 data'!$AC$16*100),"...") | E23: =IFERROR(IF('A23 data'!$AH$20="","...",'A23 data'!$AH$20/'A23 data'!$AH$16*100),"...") | F23: =IFERROR(IF('A23 data'!$AM$20="","...",'A23 data'!$AM$20/'A23 data'!$AM$16*100),"...") | G23: =IF(OR('A23 data'!$AM$20="",'A23 data'!$AH$20=""),"...",IFERROR((('A23 data'!$AM$20/'A23 data'!$AH$20)^(1/5)-1)*100,"...")) | H23: =IF(OR('A23 data'!$AK$20="",'A23 data'!$AJ$20=""),"...",IFERROR(('A23 data'!$AK$20/'A23 data'!$AJ$20-1)*100,"...")) | I23: =IF(OR('A23 data'!$AL$20="",'A23 data'!$AK$20=""),"...",IFERROR(('A23 data'!$AL$20/'A23 data'!$AK$20-1)*100,"...")) | J23: =IF(OR('A23 data'!$AM$20="",'A23 data'!$AL$20=""),"...",IFERROR(('A23 data'!$AM$20/'A23 data'!$AL$20-1)*100,"..."))
A24: United Kingdom | B24: =IF('A23 data'!$AM$21="","...",'A23 data'!$AM$21/1000) | C24: =IFERROR(IF('A23 data'!$X$21="","...",'A23 data'!$X$21/'A23 data'!$X$16*100),"...") | D24: =IFERROR(IF('A23 data'!$AC$21="","...",'A23 data'!$AC$21/'A23 data'!$AC$16*100),"...") | E24: =IFERROR(IF('A23 data'!$AH$21="","...",'A23 data'!$AH$21/'A23 data'!$AH$16*100),"...") | F24: =IFERROR(IF('A23 data'!$AM$21="","...",'A23 data'!$AM$21/'A23 data'!$AM$16*100),"...") | G24: =IF(OR('A23 data'!$AM$21="",'A23 data'!$AH$21=""),"...",IFERROR((('A23 data'!$AM$21/'A23 data'!$AH$21)^(1/5)-1)*100,"...")) | H24: =IF(OR('A23 data'!$AK$21="",'A23 data'!$AJ$21=""),"...",IFERROR(('A23 data'!$AK$21/'A23 data'!$AJ$21-1)*100,"...")) | I24: =IF(OR('A23 data'!$AL$21="",'A23 data'!$AK$21=""),"...",IFERROR(('A23 data'!$AL$21/'A23 data'!$AK$21-1)*100,"...")) | J24: =IF(OR('A23 data'!$AM$21="",'A23 data'!$AL$21=""),"...",IFERROR(('A23 data'!$AM$21/'A23 data'!$AL$21-1)*100,"..."))
A25: Hong Kong, China | B25: =IF('A23 data'!$AM$22="","...",'A23 data'!$AM$22/1000) | C25: =IFERROR(IF('A23 data'!$X$22="","...",'A23 data'!$X$22/'A23 data'!$X$16*100),"...") | D25: =IFERROR(IF('A23 data'!$AC$22="","...",'A23 data'!$AC$22/'A23 data'!$AC$16*100),"...") | E25: =IFERROR(IF('A23 data'!$AH$22="","...",'A23 data'!$AH$22/'A23 data'!$AH$16*100),"...") | F25: =IFERROR(IF('A23 data'!$AM$22="","...",'A23 data'!$AM$22/'A23 data'!$AM$16*100),"...") | G25: =IF(OR('A23 data'!$AM$22="",'A23 data'!$AH$22=""),"...",IFERROR((('A23 data'!$AM$22/'A23 data'!$AH$22)^(1/5)-1)*100,"...")) | H25: =IF(OR('A23 data'!$AK$22="",'A23 data'!$AJ$22=""),"...",IFERROR(('A23 data'!$AK$22/'A23 data'!$AJ$22-1)*100,"...")) | I25: =IF(OR('A23 data'!$AL$22="",'A23 data'!$AK$22=""),"...",IFERROR(('A23 data'!$AL$22/'A23 data'!$AK$22-1)*100,"...")) | J25: =IF(OR('A23 data'!$AM$22="",'A23 data'!$AL$22=""),"...",IFERROR(('A23 data'!$AM$22/'A23 data'!$AL$22-1)*100,"..."))
A26: Canada | B26: =IF('A23 data'!$AM$23="","...",'A23 data'!$AM$23/1000) | C26: =IFERROR(IF('A23 data'!$X$23="","...",'A23 data'!$X$23/'A23 data'!$X$16*100),"...") | D26: =IFERROR(IF('A23 data'!$AC$23="","...",'A23 data'!$AC$23/'A23 data'!$AC$16*100),"...") | E26: =IFERROR(IF('A23 data'!$AH$23="","...",'A23 data'!$AH$23/'A23 data'!$AH$16*100),"...") | F26: =IFERROR(IF('A23 data'!$AM$23="","...",'A23 data'!$AM$23/'A23 data'!$AM$16*100),"...") | G26: =IF(OR('A23 data'!$AM$23="",'A23 data'!$AH$23=""),"...",IFERROR((('A23 data'!$AM$23/'A23 data'!$AH$23)^(1/5)-1)*100,"...")) | H26: =IF(OR('A23 data'!$AK$23="",'A23 data'!$AJ$23=""),"...",IFERROR(('A23 data'!$AK$23/'A23 data'!$AJ$23-1)*100,"...")) | I26: =IF(OR('A23 data'!$AL$23="",'A23 data'!$AK$23=""),"...",IFERROR(('A23 data'!$AL$23/'A23 data'!$AK$23-1)*100,"...")) | J26: =IF(OR('A23 data'!$AM$23="",'A23 data'!$AL$23=""),"...",IFERROR(('A23 data'!$AM$23/'A23 data'!$AL$23-1)*100,"..."))
A27: Korea, Republic of | B27: =IF('A23 data'!$AM$24="","...",'A23 data'!$AM$24/1000) | C27: =IFERROR(IF('A23 data'!$X$24="","...",'A23 data'!$X$24/'A23 data'!$X$16*100),"...") | D27: =IFERROR(IF('A23 data'!$AC$24="","...",'A23 data'!$AC$24/'A23 data'!$AC$16*100),"...") | E27: =IFERROR(IF('A23 data'!$AH$24="","...",'A23 data'!$AH$24/'A23 data'!$AH$16*100),"...") | F27: =IFERROR(IF('A23 data'!$AM$24="","...",'A23 data'!$AM$24/'A23 data'!$AM$16*100),"...") | G27: =IF(OR('A23 data'!$AM$24="",'A23 data'!$AH$24=""),"...",IFERROR((('A23 data'!$AM$24/'A23 data'!$AH$24)^(1/5)-1)*100,"...")) | H27: =IF(OR('A23 data'!$AK$24="",'A23 data'!$AJ$24=""),"...",IFERROR(('A23 data'!$AK$24/'A23 data'!$AJ$24-1)*100,"...")) | I27: =IF(OR('A23 data'!$AL$24="",'A23 data'!$AK$24=""),"...",IFERROR(('A23 data'!$AL$24/'A23 data'!$AK$24-1)*100,"...")) | J27: =IF(OR('A23 data'!$AM$24="",'A23 data'!$AL$24=""),"...",IFERROR(('A23 data'!$AM$24/'A23 data'!$AL$24-1)*100,"..."))
A28: Australia | B28: =IF('A23 data'!$AM$25="","...",'A23 data'!$AM$25/1000) | C28: =IFERROR(IF('A23 data'!$X$25="","...",'A23 data'!$X$25/'A23 data'!$X$16*100),"...") | D28: =IFERROR(IF('A23 data'!$AC$25="","...",'A23 data'!$AC$25/'A23 data'!$AC$16*100),"...") | E28: =IFERROR(IF('A23 data'!$AH$25="","...",'A23 data'!$AH$25/'A23 data'!$AH$16*100),"...") | F28: =IFERROR(IF('A23 data'!$AM$25="","...",'A23 data'!$AM$25/'A23 data'!$AM$16*100),"...") | G28: =IF(OR('A23 data'!$AM$25="",'A23 data'!$AH$25=""),"...",IFERROR((('A23 data'!$AM$25/'A23 data'!$AH$25)^(1/5)-1)*100,"...")) | H28: =IF(OR('A23 data'!$AK$25="",'A23 data'!$AJ$25=""),"...",IFERROR(('A23 data'!$AK$25/'A23 data'!$AJ$25-1)*100,"...")) | I28: =IF(OR('A23 data'!$AL$25="",'A23 data'!$AK$25=""),"...",IFERROR(('A23 data'!$AL$25/'A23 data'!$AK$25-1)*100,"...")) | J28: =IF(OR('A23 data'!$AM$25="",'A23 data'!$AL$25=""),"...",IFERROR(('A23 data'!$AM$25/'A23 data'!$AL$25-1)*100,"..."))
A29: China | B29: =IF('A23 data'!$AM$26="","...",'A23 data'!$AM$26/1000) | C29: =IFERROR(IF('A23 data'!$X$26="","...",'A23 data'!$X$26/'A23 data'!$X$16*100),"...") | D29: =IFERROR(IF('A23 data'!$AC$26="","...",'A23 data'!$AC$26/'A23 data'!$AC$16*100),"...") | E29: =IFERROR(IF('A23 data'!$AH$26="","...",'A23 data'!$AH$26/'A23 data'!$AH$16*100),"...") | F29: =IFERROR(IF('A23 data'!$AM$26="","...",'A23 data'!$AM$26/'A23 data'!$AM$16*100),"...") | G29: =IF(OR('A23 data'!$AM$26="",'A23 data'!$AH$26=""),"...",IFERROR((('A23 data'!$AM$26/'A23 data'!$AH$26)^(1/5)-1)*100,"...")) | H29: =IF(OR('A23 data'!$AK$26="",'A23 data'!$AJ$26=""),"...",IFERROR(('A23 data'!$AK$26/'A23 data'!$AJ$26-1)*100,"...")) | I29: =IF(OR('A23 data'!$AL$26="",'A23 data'!$AK$26=""),"...",IFERROR(('A23 data'!$AL$26/'A23 data'!$AK$26-1)*100,"...")) | J29: =IF(OR('A23 data'!$AM$26="",'A23 data'!$AL$26=""),"...",IFERROR(('A23 data'!$AM$26/'A23 data'!$AL$26-1)*100,"..."))
A30: Switzerland | B30: =IF('A23 data'!$AM$27="","...",'A23 data'!$AM$27/1000) | C30: =IFERROR(IF('A23 data'!$X$27="","...",'A23 data'!$X$27/'A23 data'!$X$16*100),"...") | D30: =IFERROR(IF('A23 data'!$AC$27="","...",'A23 data'!$AC$27/'A23 data'!$AC$16*100),"...") | E30: =IFERROR(IF('A23 data'!$AH$27="","...",'A23 data'!$AH$27/'A23 data'!$AH$16*100),"...") | F30: =IFERROR(IF('A23 data'!$AM$27="","...",'A23 data'!$AM$27/'A23 data'!$AM$16*100),"...") | G30: =IF(OR('A23 data'!$AM$27="",'A23 data'!$AH$27=""),"...",IFERROR((('A23 data'!$AM$27/'A23 data'!$AH$27)^(1/5)-1)*100,"...")) | H30: =IF(OR('A23 data'!$AK$27="",'A23 data'!$AJ$27=""),"...",IFERROR(('A23 data'!$AK$27/'A23 data'!$AJ$27-1)*100,"...")) | I30: =IF(OR('A23 data'!$AL$27="",'A23 data'!$AK$27=""),"...",IFERROR(('A23 data'!$AL$27/'A23 data'!$AK$27-1)*100,"...")) | J30: =IF(OR('A23 data'!$AM$27="",'A23 data'!$AL$27=""),"...",IFERROR(('A23 data'!$AM$27/'A23 data'!$AL$27-1)*100,"..."))
A31: Above 10 | B31: =IFERROR(B20+B22+B23+B24+B25+B26+B27+B28+B29+B30,"...") | C31: =IFERROR(C20+C22+C23+C24+C25+C26+C27+C28+C29+C30,"...") | D31: =IFERROR(D20+D22+D23+D24+D25+D26+D27+D28+D29+D30,"...") | E31: =IFERROR(E20+E22+E23+E24+E25+E26+E27+E28+E29+E30,"...") | F31: =IFERROR(F20+F22+F23+F24+F25+F26+F27+F28+F29+F30,"...") | G31: - | H31: - | I31: - | J31: -
A33: Notes
A34: The EU is ranked as one economy; its member states are not ranked. Extra-EU (the EU's trade with non-members) is shown beneath it and is not ranked.
A35: From 2000 the EU figure is WTO's own series for today's 27 member states (EU-27), in every year, including years when the membership was different. The United Kingdom is ranked on its own.
A36: Economies ranked in 2015: 147 exporters, 151 importers.
A37: "Above 10" is the sum of the ten ranked economies. "..." means not available.
A38: Shares are of world clothing exports or imports. 2010-15 is the compound annual rate of change.
A39: Figures for every year are as WTO published them on 2026-09-29; WTO revises past figures, so they can differ from the printed review.
A40: Source: WTO Timeseries, indicators ITS_MTV_AX and ITS_MTV_AM, product MACL (SITC 84), via WTO Timeseries API v1 (api.wto.org).
A41: Blue figures on the data sheet are downloaded inputs; every figure on this sheet is a formula.

Sheet A22 data
A1: Raw data for table A22 (textiles), 2016 edition (trade data for 2015), US$ million. Source: WTO Timeseries via WTO Timeseries API v1 (api.wto.org).
A2: EU: WTO's EU-27 series from 2000; before 2000 added up from the member states of each year. Extra-EU from 2000 only.
A3: Flow | B3: Code | C3: Economy | D3: 1980 | E3: 1981 | F3: 1982 | G3: 1983 | H3: 1984 | I3: 1985 | J3: 1986 | K3: 1987 | L3: 1988 | M3: 1989 | N3: 1990 | O3: 1991 | P3: 1992 | Q3: 1993 | R3: 1994 | S3: 1995 | T3: 1996 | U3: 1997 | V3: 1998 | W3: 1999 | X3: 2000 | Y3: 2001 | Z3: 2002 | AA3: 2003 | AB3: 2004 | AC3: 2005 | AD3: 2006 | AE3: 2007 | AF3: 2008 | AG3: 2009 | AH3: 2010 | AI3: 2011 | AJ3: 2012 | AK3: 2013 | AL3: 2014 | AM3: 2015
A4: Exporters | B4: 000 | C4: World | D4: 54990 | M4: 95950 | N4: 104354 | O4: 108925 | P4: 117195 | Q4: 113452 | R4: 131673 | S4: 152319 | T4: 152744 | U4: 155739 | V4: 149831 | W4: 146255 | X4: 156257 | Y4: 148141 | Z4: 154385 | AA4: 173066 | AB4: 195034 | AC4: 203112 | AD4: 219196 | AE4: 239938 | AF4: 251269 | AG4: 212161 | AH4: 249168 | AI4: 290885 | AJ4: 281210 | AK4: 300956 | AL4: 310924 | AM4: 288228
A5: Exporters | B5: 156 | C5: China | D5: 2540 | E5: 3390 | F5: 2735 | G5: 3270 | H5: 3825 | I5: 3680 | J5: 5440 | K5: 6485 | L5: 6975 | M5: 7215 | N5: 7219 | O5: 8014 | P5: 8583 | Q5: 8699 | R5: 11818 | S5: 13918 | T5: 12112 | U5: 13828 | V5: 12817 | W5: 13043 | X5: 16135 | Y5: 16825 | Z5: 20562 | AA5: 26900 | AB5: 33428 | AC5: 41050 | AD5: 48678 | AE5: 56032 | AF5: 65367 | AG5: 59824 | AH5: 76871 | AI5: 94411 | AJ5: 95450 | AK5: 106578 | AL5: 111664 | AM5: 108934
A6: Exporters | B6: 918 | C6: European Union | D6: 23864 | E6: 21127 | F6: 19943 | G6: 19758 | H6: 20333 | I6: 21713 | J6: 29484 | K6: 35296 | L6: 37863 | M6: 39003 | N6: 47150 | O6: 46380 | P6: 48909 | Q6: 42475 | R6: 48079 | S6: 62200 | T6: 61480 | U6: 59178 | V6: 60365 | W6: 55395 | X6: 52129 | Y6: 51576 | Z6: 53324 | AA6: 60887 | AB6: 68041 | AC6: 65922 | AD6: 69181 | AE6: 77234 | AF6: 76844 | AG6: 59494 | AH6: 64057 | AI6: 72738 | AJ6: 65498 | AK6: 67976 | AL6: 70758 | AM6: 61078
A7: Exporters | B7: EUT | C7: Extra-EU | X7: 17896 | Y7: 17922 | Z7: 18702 | AA7: 20794 | AB7: 23706 | AC7: 22958 | AD7: 24223 | AE7: 26974 | AF7: 26953 | AG7: 20927 | AH7: 22720 | AI7: 25810 | AJ7: 24177 | AK7: 24987 | AL7: 25900 | AM7: 22312
A8: Exporters | B8: 356 | C8: India | D8: 1306 | E8: 1168 | F8: 1064 | G8: 889 | H8: 1175 | I8: 1054 | J8: 1062 | K8: 1573 | L8: 1585 | M8: 1810 | N8: 2180 | O8: 2530 | P8: 2932 | Q8: 2917 | R8: 3829 | S8: 4358 | T8: 4936 | U8: 5243 | V8: 4558 | W8: 5086 | X8: 5593 | Y8: 5523 | Z8: 5813 | AA8: 6435 | AB8: 7406 | AC8: 8331 | AD8: 8880 | AE8: 9617 | AF8: 10372 | AG8: 9111 | AH8: 12833 | AI8: 15340 | AJ8: 15274 | AK8: 18907 | AL8: 18266 | AM8: 17263
A9: Exporters | B9: 840 | C9: United States of America | D9: 3757 | E9: 3742 | F9: 2890 | G9: 2500 | H9: 2535 | I9: 2541 | J9: 2812 | K9: 3127 | L9: 3890 | M9: 4371 | N9: 5039 | O9: 5610 | P9: 5889 | Q9: 6025 | R9: 6592 | S9: 7372 | T9: 8008 | U9: 9187 | V9: 9205 | W9: 9504 | X9: 10947 | Y9: 10467 | Z9: 10659 | AA9: 10887 | AB9: 12027 | AC9: 12398 | AD9: 12665 | AE9: 12386 | AF9: 12470 | AG9: 9915 | AH9: 12169 | AI9: 13852 | AJ9: 13480 | AK9: 13924 | AL9: 14373 | AM9: 13935
A10: Exporters | B10: 792 | C10: Türkiye | D10: 343 | E10: 569 | F10: 767 | G10: 853 | H10: 1006 | I10: 1045 | J10: 935 | K10: 1208 | L10: 1340 | M10: 1331 | N10: 1440 | O10: 1429 | P10: 1619 | Q10: 1592 | R10: 2194 | S10: 2527 | T10: 2722 | U10: 3352 | V10: 3549 | W10: 3478 | X10: 3672 | Y10: 3943 | Z10: 4244 | AA10: 5262 | AB10: 6428 | AC10: 7076 | AD10: 7585 | AE10: 8942 | AF10: 9399 | AG10: 7724 | AH10: 8964 | AI10: 10772 | AJ10: 11047 | AK10: 12308 | AL10: 12669 | AM10: 11120
A11: Exporters | B11: 410 | C11: Korea, Republic of | D11: 2209 | E11: 2460 | F11: 2251 | G11: 2423 | H11: 2615 | I11: 2534 | J11: 3215 | K11: 4080 | L11: 4848 | M11: 5371 | N11: 6076 | O11: 7300 | P11: 8208 | Q11: 8954 | R11: 10693 | S11: 12313 | T11: 12718 | U11: 13337 | V11: 11279 | W11: 11618 | X11: 12710 | Y11: 10941 | Z11: 10945 | AA11: 10779 | AB11: 10839 | AC11: 10391 | AD11: 10110 | AE11: 10373 | AF11: 10371 | AG11: 9155 | AH11: 10968 | AI11: 12369 | AJ11: 11970 | AK11: 12043 | AL11: 11909 | AM11: 10645
A12: Exporters | B12: 158 | C12: Chinese Taipei | D12: 1771 | E12: 2022 | F12: 1748 | G12: 1803 | H12: 2169 | I12: 2490 | J12: 3045 | K12: 4087 | L12: 4545 | M12: 5442 | N12: 6128 | O12: 7335 | P12: 7554 | Q12: 8160 | R12: 10242 | S12: 11861 | T12: 12024 | U12: 12750 | V12: 11123 | W12: 10863 | X12: 11891 | Y12: 9897 | Z12: 9531 | AA12: 9303 | AB12: 10038 | AC12: 9706 | AD12: 9780 | AE12: 9732 | AF12: 9253 | AG12: 7891 | AH12: 9719 | AI12: 11016 | AJ12: 10293 | AK12: 10217 | AL12: 10264 | AM12: 9678
A13: Exporters | B13: 344 | C13: Hong Kong, China | D13: 1771 | E13: 2183 | F13: 1888 | G13: 2033 | H13: 2726 | I13: 3038 | J13: 3959 | K13: 5669 | L13: 6371 | M13: 7574 | N13: 8213 | O13: 9770 | P13: 10979 | Q13: 11212 | R13: 12574 | S13: 13815 | T13: 14146 | U13: 14602 | V13: 13040 | W13: 12270 | X13: 13441 | Y13: 12213 | Z13: 12422 | AA13: 13087 | AB13: 14296 | AC13: 13830 | AD13: 13910 | AE13: 13417 | AF13: 12256 | AG13: 9976 | AH13: 11307 | AI13: 11283 | AJ13: 10546 | AK13: 10714 | AL13: 9785 | AM13: 9106
A14: Exporters | B14: 586 | C14: Pakistan | D14: 876 | E14: 976 | F14: 928 | G14: 1312 | H14: 999 | I14: 970 | J14: 1264 | K14: 1854 | L14: 1803 | M14: 2018 | N14: 2663 | O14: 3200 | P14: 3590 | Q14: 3507 | R14: 3985 | S14: 4256 | T14: 4919 | U14: 4608 | V14: 4302 | W14: 4258 | X14: 4532 | Y14: 4525 | Z14: 4790 | AA14: 5811 | AB14: 6125 | AC14: 7087 | AD14: 7469 | AE14: 7371 | AF14: 7186 | AG14: 6510 | AH14: 7848 | AI14: 9082 | AJ14: 8705 | AK14: 9341 | AL14: 9077 | AM14: 8232
A15: Exporters | B15: 392 | C15: Japan | D15: 5123 | E15: 5869 | F15: 5102 | G15: 5345 | H15: 5358 | I15: 4943 | J15: 5488 | K15: 5597 | L15: 5527 | M15: 5534 | N15: 5871 | O15: 6527 | P15: 7078 | Q15: 6717 | R15: 6780 | S15: 7178 | T15: 6927 | U15: 6751 | V15: 5971 | W15: 6598 | X15: 7023 | Y15: 6197 | Z15: 6030 | AA15: 6431 | AB15: 7138 | AC15: 6905 | AD15: 6934 | AE15: 7108 | AF15: 7340 | AG15: 6109 | AH15: 7086 | AI15: 8035 | AJ15: 7820 | AK15: 6843 | AL15: 6680 | AM15: 6166
A16: Importers | B16: 000 | C16: World | D16: 56975 | I16: 55618 | N16: 107839 | O16: 114665 | P16: 123584 | Q16: 118287 | R16: 135585 | S16: 156515 | T16: 157848 | U16: 160869 | V16: 155336 | W16: 153303 | X16: 165331 | Y16: 156743 | Z16: 163350 | AA16: 183116 | AB16: 206359 | AC16: 214906 | AD16: 231924 | AE16: 253871 | AF16: 265860 | AG16: 224481 | AH16: 216583 | AI16: 251210 | AJ16: 239275 | AK16: 251197 | AL16: 260363 | AM16: 310065
A17: Importers | B17: 918 | C17: European Union | D17: 22886 | E17: 19199 | F17: 18414 | G17: 18191 | H17: 18605 | I17: 19758 | J17: 26864 | K17: 33081 | L17: 35975 | M17: 37346 | N17: 45999 | O17: 45443 | P17: 47101 | Q17: 36078 | R17: 41930 | S17: 53221 | T17: 52480 | U17: 51481 | V17: 54154 | W17: 48987 | X17: 49070 | Y17: 48471 | Z17: 49422 | AA17: 57318 | AB17: 63338 | AC17: 62681 | AD17: 66513 | AE17: 74639 | AF17: 74850 | AG17: 58067 | AH17: 63591 | AI17: 73300 | AJ17: 63576 | AK17: 67106 | AL17: 71240 | AM17: 62121
A18: Importers | B18: EUT | C18: Extra-EU | X18: 15934 | Y18: 15608 | Z18: 15778 | AA18: 18270 | AB18: 20632 | AC18: 21165 | AD18: 23289 | AE18: 26769 | AF18: 27347 | AG18: 21901 | AH18: 25651 | AI18: 30227 | AJ18: 25842 | AK18: 27694 | AL18: 30043 | AM18: 27082
A19: Importers | B19: 840 | C19: United States of America | D19: 2542 | E19: 3072 | F19: 2852 | G19: 3276 | H19: 4617 | I19: 4977 | J19: 5838 | K19: 6512 | L19: 6279 | M19: 6417 | N19: 6730 | O19: 7329 | P19: 8215 | Q19: 8855 | R19: 9658 | S19: 10441 | T19: 10692 | U19: 12449 | V19: 13444 | W19: 14277 | X19: 15191 | Y19: 14632 | Z19: 16952 | AA19: 18253 | AB19: 20662 | AC19: 22534 | AD19: 23498 | AE19: 24089 | AF19: 23128 | AG19: 19211 | AH19: 23379 | AI19: 25363 | AJ19: 25948 | AK19: 27022 | AL19: 28268 | AM19: 29543
A20: Importers | B20: 156 | C20: China | D20: 1100 | E20: 1670 | F20: 1170 | G20: 911 | H20: 1370 | I20: 2040 | J20: 3160 | K20: 3589 | L20: 4219 | M20: 4603 | N20: 5292 | O20: 6751 | P20: 7560 | Q20: 7645 | R20: 9347 | S20: 10914 | T20: 11980 | U20: 12267 | V20: 11082 | W20: 11079 | X20: 12832 | Y20: 12573 | Z20: 13060 | AA20: 14217 | AB20: 15304 | AC20: 15503 | AD20: 16358 | AE20: 16645 | AF20: 16289 | AG20: 14945 | AH20: 17679 | AI20: 18901 | AJ20: 19810 | AK20: 21563 | AL20: 20249 | AM20: 18970
A21: Importers | B21: 704 | C21: Viet Nam | U21: 711 | V21: 902 | W21: 1075 | X21: 1379 | Y21: 1291 | Z21: 2071 | AA21: 2441 | AB21: 2941 | AC21: 3435 | AD21: 3988 | AE21: 5139 | AF21: 5703 | AG21: 5469 | AH21: 7042 | AI21: 8702 | AJ21: 9075 | AK21: 10633 | AL21: 12069 | AM21: 12825
A22: Importers | B22: 344 | C22: Hong Kong, China | D22: 2967 | E22: 3428 | F22: 2970 | G22: 3278 | H22: 4178 | I22: 4281 | J22: 5418 | K22: 7304 | L22: 8007 | M22: 9218 | N22: 10182 | O22: 12068 | P22: 13091 | Q22: 12784 | R22: 15294 | S22: 16859 | T22: 16515 | U22: 16205 | V22: 13483 | W22: 12561 | X22: 13716 | Y22: 12176 | Z22: 12065 | AA22: 12931 | AB22: 14110 | AC22: 13793 | AD22: 13975 | AE22: 13559 | AF22: 12313 | AG22: 9964 | AH22: 11265 | AI22: 11049 | AJ22: 10364 | AK22: 10411 | AL22: 9358 | AM22: 8521
A23: Importers | B23: 050 | C23: Bangladesh | D23: 93 | E23: 105 | F23: 70 | G23: 73 | H23: 128 | I23: 142 | J23: 128 | K23: 256 | L23: 261 | M23: 297 | N23: 452 | O23: 490 | P23: 630 | Q23: 675 | S23: 1481 | T23: 1380 | U23: 998 | V23: 1522 | W23: 1342 | X23: 1350 | Y23: 1518 | Z23: 1343 | AA23: 1548 | AB23: 1985 | AC23: 2425 | AD23: 1738 | AE23: 2306 | AF23: 3024 | AG23: 2838 | AH23: 4471 | AI23: 6610 | AJ23: 5834 | AK23: 6167 | AL23: 6838 | AM23: 8269
A24: Importers | B24: 392 | C24: Japan | D24: 1722 | E24: 1639 | F24: 1612 | G24: 1496 | H24: 1934 | I24: 1900 | J24: 2185 | K24: 2994 | L24: 3934 | M24: 4347 | N24: 4133 | O24: 4331 | P24: 4175 | Q24: 3933 | R24: 5152 | S24: 5985 | T24: 6075 | U24: 5801 | V24: 4354 | W24: 4543 | X24: 4936 | Y24: 4753 | Z24: 4532 | AA24: 5031 | AB24: 5599 | AC24: 5812 | AD24: 6179 | AE24: 6302 | AF24: 6925 | AG24: 6742 | AH24: 7197 | AI24: 9195 | AJ24: 9011 | AK24: 8766 | AL24: 8890 | AM24: 8178
A25: Importers | B25: 826 | C25: United Kingdom | D25: 3560 | E25: 3508 | F25: 3343 | G25: 3483 | H25: 3589 | I25: 3869 | J25: 4602 | K25: 5703 | L25: 6473 | M25: 6171 | N25: 7018 | O25: 6604 | P25: 6939 | Q25: 5569 | R25: 6645 | S25: 7262 | T25: 7808 | U25: 8376 | V25: 8341 | W25: 7476 | X25: 7265 | Y25: 6782 | Z25: 6870 | AA25: 7275 | AB25: 8195 | AC25: 7614 | AD25: 7946 | AE25: 8672 | AF25: 8112 | AG25: 6357 | AH25: 7164 | AI25: 7967 | AJ25: 6952 | AK25: 7503 | AL25: 8277 | AM25: 7766
A26: Importers | B26: 484 | C26: Mexico | D26: 133 | N26: 992 | O26: 1230 | P26: 1532 | Q26: 1900 | R26: 2147 | S26: 1768 | T26: 2220 | U26: 2868 | V26: 3433 | W26: 4837 | X26: 5822 | Y26: 5383 | Z26: 5571 | AA26: 5457 | AB26: 5752 | AC26: 6043 | AD26: 5951 | AE26: 5640 | AF26: 5366 | AG26: 4197 | AH26: 5150 | AI26: 5859 | AJ26: 6003 | AK26: 6180 | AL26: 6377 | AM26: 6484
A27: Importers | B27: 792 | C27: Türkiye | D27: 80 | E27: 78 | F27: 103 | G27: 98 | H27: 117 | I27: 145 | J27: 159 | K27: 202 | L27: 257 | M27: 293 | N27: 567 | O27: 537 | P27: 707 | Q27: 1011 | R27: 1110 | S27: 1811 | T27: 1933 | U27: 2324 | V27: 2317 | W27: 1907 | X27: 2124 | Y27: 1921 | Z27: 2839 | AA27: 3441 | AB27: 4170 | AC27: 4441 | AD27: 4686 | AE27: 6009 | AF27: 5646 | AG27: 4718 | AH27: 6540 | AI27: 7557 | AJ27: 6441 | AK27: 7010 | AL27: 7336 | AM27: 6266

Sheet A23 data
A1: Raw data for table A23 (clothing), 2016 edition (trade data for 2015), US$ million. Source: WTO Timeseries via WTO Timeseries API v1 (api.wto.org).
A2: EU: WTO's EU-27 series from 2000; before 2000 added up from the member states of each year. Extra-EU from 2000 only.
A3: Flow | B3: Code | C3: Economy | D3: 1980 | E3: 1981 | F3: 1982 | G3: 1983 | H3: 1984 | I3: 1985 | J3: 1986 | K3: 1987 | L3: 1988 | M3: 1989 | N3: 1990 | O3: 1991 | P3: 1992 | Q3: 1993 | R3: 1994 | S3: 1995 | T3: 1996 | U3: 1997 | V3: 1998 | W3: 1999 | X3: 2000 | Y3: 2001 | Z3: 2002 | AA3: 2003 | AB3: 2004 | AC3: 2005 | AD3: 2006 | AE3: 2007 | AF3: 2008 | AG3: 2009 | AH3: 2010 | AI3: 2011 | AJ3: 2012 | AK3: 2013 | AL3: 2014 | AM3: 2015
A4: Exporters | B4: 000 | C4: World | D4: 40590 | M4: 97450 | N4: 108129 | O4: 117160 | P4: 132106 | Q4: 128792 | R4: 140757 | S4: 158353 | T4: 166077 | U4: 177616 | V4: 185963 | W4: 184587 | X4: 197723 | Y4: 194364 | Z4: 203726 | AA4: 233281 | AB4: 260436 | AC4: 278465 | AD4: 310876 | AE4: 349061 | AF4: 365091 | AG4: 318214 | AH4: 351640 | AI4: 414156 | AJ4: 412664 | AK4: 452526 | AL4: 480198 | AM4: 453622
A5: Exporters | B5: 156 | C5: China | D5: 1625 | E5: 1930 | F5: 2140 | G5: 2320 | H5: 2755 | I5: 2450 | J5: 4050 | K5: 5790 | L5: 6990 | M5: 8165 | N5: 9669 | O5: 12245 | P5: 16704 | Q5: 18441 | R5: 23731 | S5: 24049 | T5: 25034 | U5: 31803 | V5: 30048 | W5: 30078 | X5: 36071 | Y5: 36650 | Z5: 41302 | AA5: 52061 | AB5: 61856 | AC5: 74163 | AD5: 95379 | AE5: 115520 | AF5: 120405 | AG5: 107264 | AH5: 129820 | AI5: 153774 | AJ5: 159614 | AK5: 177435 | AL5: 186613 | AM5: 174573
A6: Exporters | B6: 918 | C6: European Union | D6: 14026 | E6: 12883 | F6: 12592 | G6: 12575 | H6: 13092 | I6: 14445 | J6: 22006 | K6: 27247 | L6: 28204 | M6: 29629 | N6: 37900 | O6: 39455 | P6: 43202 | Q6: 34978 | R6: 38271 | S6: 48458 | T6: 52628 | U6: 50697 | V6: 52821 | W6: 50227 | X6: 52174 | Y6: 55147 | Z6: 59121 | AA6: 70246 | AB6: 79142 | AC6: 81482 | AD6: 87218 | AE6: 100347 | AF6: 109596 | AG6: 93726 | AH6: 95372 | AI6: 111043 | AJ6: 103178 | AK6: 111444 | AL6: 119290 | AM6: 104665
A7: Exporters | B7: EUT | C7: Extra-EU | X7: 16024 | Y7: 17048 | Z7: 18263 | AA7: 20801 | AB7: 23057 | AC7: 23971 | AD7: 25972 | AE7: 30135 | AF7: 32706 | AG7: 25982 | AH7: 26662 | AI7: 33019 | AJ7: 33334 | AK7: 36275 | AL7: 38199 | AM7: 33331
