Workbook

Sheet A22 textiles
A1: Table A22, 2014 edition (trade data for 2013)
A2: Top 10 exporters and importers of textiles, 2013
A3: (Billion dollars and percentage)
A5: Economy | B5: Value 2013 (US$ bn) | C5: Share 2000 (%) | D5: Share 2005 (%) | E5: Share 2010 (%) | F5: Share 2013 (%) | G5: Change 2010-13 (% p.a.) | H5: Change 2011 (%) | I5: Change 2012 (%) | J5: Change 2013 (%)
A6: Exporters
A7: China | B7: =IF('A22 data'!$AK$5="","...",'A22 data'!$AK$5/1000) | C7: =IFERROR(IF('A22 data'!$X$5="","...",'A22 data'!$X$5/'A22 data'!$X$4*100),"...") | D7: =IFERROR(IF('A22 data'!$AC$5="","...",'A22 data'!$AC$5/'A22 data'!$AC$4*100),"...") | E7: =IFERROR(IF('A22 data'!$AH$5="","...",'A22 data'!$AH$5/'A22 data'!$AH$4*100),"...") | F7: =IFERROR(IF('A22 data'!$AK$5="","...",'A22 data'!$AK$5/'A22 data'!$AK$4*100),"...") | G7: =IF(OR('A22 data'!$AK$5="",'A22 data'!$AH$5=""),"...",IFERROR((('A22 data'!$AK$5/'A22 data'!$AH$5)^(1/3)-1)*100,"...")) | H7: =IF(OR('A22 data'!$AI$5="",'A22 data'!$AH$5=""),"...",IFERROR(('A22 data'!$AI$5/'A22 data'!$AH$5-1)*100,"...")) | I7: =IF(OR('A22 data'!$AJ$5="",'A22 data'!$AI$5=""),"...",IFERROR(('A22 data'!$AJ$5/'A22 data'!$AI$5-1)*100,"...")) | J7: =IF(OR('A22 data'!$AK$5="",'A22 data'!$AJ$5=""),"...",IFERROR(('A22 data'!$AK$5/'A22 data'!$AJ$5-1)*100,"..."))
A8: European Union | B8: =IF('A22 data'!$AK$6="","...",'A22 data'!$AK$6/1000) | C8: =IFERROR(IF('A22 data'!$X$6="","...",'A22 data'!$X$6/'A22 data'!$X$4*100),"...") | D8: =IFERROR(IF('A22 data'!$AC$6="","...",'A22 data'!$AC$6/'A22 data'!$AC$4*100),"...") | E8: =IFERROR(IF('A22 data'!$AH$6="","...",'A22 data'!$AH$6/'A22 data'!$AH$4*100),"...") | F8: =IFERROR(IF('A22 data'!$AK$6="","...",'A22 data'!$AK$6/'A22 data'!$AK$4*100),"...") | G8: =IF(OR('A22 data'!$AK$6="",'A22 data'!$AH$6=""),"...",IFERROR((('A22 data'!$AK$6/'A22 data'!$AH$6)^(1/3)-1)*100,"...")) | H8: =IF(OR('A22 data'!$AI$6="",'A22 data'!$AH$6=""),"...",IFERROR(('A22 data'!$AI$6/'A22 data'!$AH$6-1)*100,"...")) | I8: =IF(OR('A22 data'!$AJ$6="",'A22 data'!$AI$6=""),"...",IFERROR(('A22 data'!$AJ$6/'A22 data'!$AI$6-1)*100,"...")) | J8: =IF(OR('A22 data'!$AK$6="",'A22 data'!$AJ$6=""),"...",IFERROR(('A22 data'!$AK$6/'A22 data'!$AJ$6-1)*100,"..."))
A9: Extra-EU | B9: =IF('A22 data'!$AK$7="","...",'A22 data'!$AK$7/1000) | C9: =IFERROR(IF('A22 data'!$X$7="","...",'A22 data'!$X$7/'A22 data'!$X$4*100),"...") | D9: =IFERROR(IF('A22 data'!$AC$7="","...",'A22 data'!$AC$7/'A22 data'!$AC$4*100),"...") | E9: =IFERROR(IF('A22 data'!$AH$7="","...",'A22 data'!$AH$7/'A22 data'!$AH$4*100),"...") | F9: =IFERROR(IF('A22 data'!$AK$7="","...",'A22 data'!$AK$7/'A22 data'!$AK$4*100),"...") | G9: =IF(OR('A22 data'!$AK$7="",'A22 data'!$AH$7=""),"...",IFERROR((('A22 data'!$AK$7/'A22 data'!$AH$7)^(1/3)-1)*100,"...")) | H9: =IF(OR('A22 data'!$AI$7="",'A22 data'!$AH$7=""),"...",IFERROR(('A22 data'!$AI$7/'A22 data'!$AH$7-1)*100,"...")) | I9: =IF(OR('A22 data'!$AJ$7="",'A22 data'!$AI$7=""),"...",IFERROR(('A22 data'!$AJ$7/'A22 data'!$AI$7-1)*100,"...")) | J9: =IF(OR('A22 data'!$AK$7="",'A22 data'!$AJ$7=""),"...",IFERROR(('A22 data'!$AK$7/'A22 data'!$AJ$7-1)*100,"..."))
A10: India | B10: =IF('A22 data'!$AK$8="","...",'A22 data'!$AK$8/1000) | C10: =IFERROR(IF('A22 data'!$X$8="","...",'A22 data'!$X$8/'A22 data'!$X$4*100),"...") | D10: =IFERROR(IF('A22 data'!$AC$8="","...",'A22 data'!$AC$8/'A22 data'!$AC$4*100),"...") | E10: =IFERROR(IF('A22 data'!$AH$8="","...",'A22 data'!$AH$8/'A22 data'!$AH$4*100),"...") | F10: =IFERROR(IF('A22 data'!$AK$8="","...",'A22 data'!$AK$8/'A22 data'!$AK$4*100),"...") | G10: =IF(OR('A22 data'!$AK$8="",'A22 data'!$AH$8=""),"...",IFERROR((('A22 data'!$AK$8/'A22 data'!$AH$8)^(1/3)-1)*100,"...")) | H10: =IF(OR('A22 data'!$AI$8="",'A22 data'!$AH$8=""),"...",IFERROR(('A22 data'!$AI$8/'A22 data'!$AH$8-1)*100,"...")) | I10: =IF(OR('A22 data'!$AJ$8="",'A22 data'!$AI$8=""),"...",IFERROR(('A22 data'!$AJ$8/'A22 data'!$AI$8-1)*100,"...")) | J10: =IF(OR('A22 data'!$AK$8="",'A22 data'!$AJ$8=""),"...",IFERROR(('A22 data'!$AK$8/'A22 data'!$AJ$8-1)*100,"..."))
A11: United States of America | B11: =IF('A22 data'!$AK$9="","...",'A22 data'!$AK$9/1000) | C11: =IFERROR(IF('A22 data'!$X$9="","...",'A22 data'!$X$9/'A22 data'!$X$4*100),"...") | D11: =IFERROR(IF('A22 data'!$AC$9="","...",'A22 data'!$AC$9/'A22 data'!$AC$4*100),"...") | E11: =IFERROR(IF('A22 data'!$AH$9="","...",'A22 data'!$AH$9/'A22 data'!$AH$4*100),"...") | F11: =IFERROR(IF('A22 data'!$AK$9="","...",'A22 data'!$AK$9/'A22 data'!$AK$4*100),"...") | G11: =IF(OR('A22 data'!$AK$9="",'A22 data'!$AH$9=""),"...",IFERROR((('A22 data'!$AK$9/'A22 data'!$AH$9)^(1/3)-1)*100,"...")) | H11: =IF(OR('A22 data'!$AI$9="",'A22 data'!$AH$9=""),"...",IFERROR(('A22 data'!$AI$9/'A22 data'!$AH$9-1)*100,"...")) | I11: =IF(OR('A22 data'!$AJ$9="",'A22 data'!$AI$9=""),"...",IFERROR(('A22 data'!$AJ$9/'A22 data'!$AI$9-1)*100,"...")) | J11: =IF(OR('A22 data'!$AK$9="",'A22 data'!$AJ$9=""),"...",IFERROR(('A22 data'!$AK$9/'A22 data'!$AJ$9-1)*100,"..."))
A12: Türkiye | B12: =IF('A22 data'!$AK$10="","...",'A22 data'!$AK$10/1000) | C12: =IFERROR(IF('A22 data'!$X$10="","...",'A22 data'!$X$10/'A22 data'!$X$4*100),"...") | D12: =IFERROR(IF('A22 data'!$AC$10="","...",'A22 data'!$AC$10/'A22 data'!$AC$4*100),"...") | E12: =IFERROR(IF('A22 data'!$AH$10="","...",'A22 data'!$AH$10/'A22 data'!$AH$4*100),"...") | F12: =IFERROR(IF('A22 data'!$AK$10="","...",'A22 data'!$AK$10/'A22 data'!$AK$4*100),"...") | G12: =IF(OR('A22 data'!$AK$10="",'A22 data'!$AH$10=""),"...",IFERROR((('A22 data'!$AK$10/'A22 data'!$AH$10)^(1/3)-1)*100,"...")) | H12: =IF(OR('A22 data'!$AI$10="",'A22 data'!$AH$10=""),"...",IFERROR(('A22 data'!$AI$10/'A22 data'!$AH$10-1)*100,"...")) | I12: =IF(OR('A22 data'!$AJ$10="",'A22 data'!$AI$10=""),"...",IFERROR(('A22 data'!$AJ$10/'A22 data'!$AI$10-1)*100,"...")) | J12: =IF(OR('A22 data'!$AK$10="",'A22 data'!$AJ$10=""),"...",IFERROR(('A22 data'!$AK$10/'A22 data'!$AJ$10-1)*100,"..."))
A13: Korea, Republic of | B13: =IF('A22 data'!$AK$11="","...",'A22 data'!$AK$11/1000) | C13: =IFERROR(IF('A22 data'!$X$11="","...",'A22 data'!$X$11/'A22 data'!$X$4*100),"...") | D13: =IFERROR(IF('A22 data'!$AC$11="","...",'A22 data'!$AC$11/'A22 data'!$AC$4*100),"...") | E13: =IFERROR(IF('A22 data'!$AH$11="","...",'A22 data'!$AH$11/'A22 data'!$AH$4*100),"...") | F13: =IFERROR(IF('A22 data'!$AK$11="","...",'A22 data'!$AK$11/'A22 data'!$AK$4*100),"...") | G13: =IF(OR('A22 data'!$AK$11="",'A22 data'!$AH$11=""),"...",IFERROR((('A22 data'!$AK$11/'A22 data'!$AH$11)^(1/3)-1)*100,"...")) | H13: =IF(OR('A22 data'!$AI$11="",'A22 data'!$AH$11=""),"...",IFERROR(('A22 data'!$AI$11/'A22 data'!$AH$11-1)*100,"...")) | I13: =IF(OR('A22 data'!$AJ$11="",'A22 data'!$AI$11=""),"...",IFERROR(('A22 data'!$AJ$11/'A22 data'!$AI$11-1)*100,"...")) | J13: =IF(OR('A22 data'!$AK$11="",'A22 data'!$AJ$11=""),"...",IFERROR(('A22 data'!$AK$11/'A22 data'!$AJ$11-1)*100,"..."))
A14: Hong Kong, China | B14: =IF('A22 data'!$AK$12="","...",'A22 data'!$AK$12/1000) | C14: =IFERROR(IF('A22 data'!$X$12="","...",'A22 data'!$X$12/'A22 data'!$X$4*100),"...") | D14: =IFERROR(IF('A22 data'!$AC$12="","...",'A22 data'!$AC$12/'A22 data'!$AC$4*100),"...") | E14: =IFERROR(IF('A22 data'!$AH$12="","...",'A22 data'!$AH$12/'A22 data'!$AH$4*100),"...") | F14: =IFERROR(IF('A22 data'!$AK$12="","...",'A22 data'!$AK$12/'A22 data'!$AK$4*100),"...") | G14: =IF(OR('A22 data'!$AK$12="",'A22 data'!$AH$12=""),"...",IFERROR((('A22 data'!$AK$12/'A22 data'!$AH$12)^(1/3)-1)*100,"...")) | H14: =IF(OR('A22 data'!$AI$12="",'A22 data'!$AH$12=""),"...",IFERROR(('A22 data'!$AI$12/'A22 data'!$AH$12-1)*100,"...")) | I14: =IF(OR('A22 data'!$AJ$12="",'A22 data'!$AI$12=""),"...",IFERROR(('A22 data'!$AJ$12/'A22 data'!$AI$12-1)*100,"...")) | J14: =IF(OR('A22 data'!$AK$12="",'A22 data'!$AJ$12=""),"...",IFERROR(('A22 data'!$AK$12/'A22 data'!$AJ$12-1)*100,"..."))
A15: Chinese Taipei | B15: =IF('A22 data'!$AK$13="","...",'A22 data'!$AK$13/1000) | C15: =IFERROR(IF('A22 data'!$X$13="","...",'A22 data'!$X$13/'A22 data'!$X$4*100),"...") | D15: =IFERROR(IF('A22 data'!$AC$13="","...",'A22 data'!$AC$13/'A22 data'!$AC$4*100),"...") | E15: =IFERROR(IF('A22 data'!$AH$13="","...",'A22 data'!$AH$13/'A22 data'!$AH$4*100),"...") | F15: =IFERROR(IF('A22 data'!$AK$13="","...",'A22 data'!$AK$13/'A22 data'!$AK$4*100),"...") | G15: =IF(OR('A22 data'!$AK$13="",'A22 data'!$AH$13=""),"...",IFERROR((('A22 data'!$AK$13/'A22 data'!$AH$13)^(1/3)-1)*100,"...")) | H15: =IF(OR('A22 data'!$AI$13="",'A22 data'!$AH$13=""),"...",IFERROR(('A22 data'!$AI$13/'A22 data'!$AH$13-1)*100,"...")) | I15: =IF(OR('A22 data'!$AJ$13="",'A22 data'!$AI$13=""),"...",IFERROR(('A22 data'!$AJ$13/'A22 data'!$AI$13-1)*100,"...")) | J15: =IF(OR('A22 data'!$AK$13="",'A22 data'!$AJ$13=""),"...",IFERROR(('A22 data'!$AK$13/'A22 data'!$AJ$13-1)*100,"..."))
A16: Pakistan | B16: =IF('A22 data'!$AK$14="","...",'A22 data'!$AK$14/1000) | C16: =IFERROR(IF('A22 data'!$X$14="","...",'A22 data'!$X$14/'A22 data'!$X$4*100),"...") | D16: =IFERROR(IF('A22 data'!$AC$14="","...",'A22 data'!$AC$14/'A22 data'!$AC$4*100),"...") | E16: =IFERROR(IF('A22 data'!$AH$14="","...",'A22 data'!$AH$14/'A22 data'!$AH$4*100),"...") | F16: =IFERROR(IF('A22 data'!$AK$14="","...",'A22 data'!$AK$14/'A22 data'!$AK$4*100),"...") | G16: =IF(OR('A22 data'!$AK$14="",'A22 data'!$AH$14=""),"...",IFERROR((('A22 data'!$AK$14/'A22 data'!$AH$14)^(1/3)-1)*100,"...")) | H16: =IF(OR('A22 data'!$AI$14="",'A22 data'!$AH$14=""),"...",IFERROR(('A22 data'!$AI$14/'A22 data'!$AH$14-1)*100,"...")) | I16: =IF(OR('A22 data'!$AJ$14="",'A22 data'!$AI$14=""),"...",IFERROR(('A22 data'!$AJ$14/'A22 data'!$AI$14-1)*100,"...")) | J16: =IF(OR('A22 data'!$AK$14="",'A22 data'!$AJ$14=""),"...",IFERROR(('A22 data'!$AK$14/'A22 data'!$AJ$14-1)*100,"..."))
A17: Japan | B17: =IF('A22 data'!$AK$15="","...",'A22 data'!$AK$15/1000) | C17: =IFERROR(IF('A22 data'!$X$15="","...",'A22 data'!$X$15/'A22 data'!$X$4*100),"...") | D17: =IFERROR(IF('A22 data'!$AC$15="","...",'A22 data'!$AC$15/'A22 data'!$AC$4*100),"...") | E17: =IFERROR(IF('A22 data'!$AH$15="","...",'A22 data'!$AH$15/'A22 data'!$AH$4*100),"...") | F17: =IFERROR(IF('A22 data'!$AK$15="","...",'A22 data'!$AK$15/'A22 data'!$AK$4*100),"...") | G17: =IF(OR('A22 data'!$AK$15="",'A22 data'!$AH$15=""),"...",IFERROR((('A22 data'!$AK$15/'A22 data'!$AH$15)^(1/3)-1)*100,"...")) | H17: =IF(OR('A22 data'!$AI$15="",'A22 data'!$AH$15=""),"...",IFERROR(('A22 data'!$AI$15/'A22 data'!$AH$15-1)*100,"...")) | I17: =IF(OR('A22 data'!$AJ$15="",'A22 data'!$AI$15=""),"...",IFERROR(('A22 data'!$AJ$15/'A22 data'!$AI$15-1)*100,"...")) | J17: =IF(OR('A22 data'!$AK$15="",'A22 data'!$AJ$15=""),"...",IFERROR(('A22 data'!$AK$15/'A22 data'!$AJ$15-1)*100,"..."))
A18: Above 10 | B18: =IFERROR(B7+B8+B10+B11+B12+B13+B14+B15+B16+B17,"...") | C18: =IFERROR(C7+C8+C10+C11+C12+C13+C14+C15+C16+C17,"...") | D18: =IFERROR(D7+D8+D10+D11+D12+D13+D14+D15+D16+D17,"...") | E18: =IFERROR(E7+E8+E10+E11+E12+E13+E14+E15+E16+E17,"...") | F18: =IFERROR(F7+F8+F10+F11+F12+F13+F14+F15+F16+F17,"...") | G18: - | H18: - | I18: - | J18: -
A19: Importers
A20: European Union | B20: =IF('A22 data'!$AK$17="","...",'A22 data'!$AK$17/1000) | C20: =IFERROR(IF('A22 data'!$X$17="","...",'A22 data'!$X$17/'A22 data'!$X$16*100),"...") | D20: =IFERROR(IF('A22 data'!$AC$17="","...",'A22 data'!$AC$17/'A22 data'!$AC$16*100),"...") | E20: =IFERROR(IF('A22 data'!$AH$17="","...",'A22 data'!$AH$17/'A22 data'!$AH$16*100),"...") | F20: =IFERROR(IF('A22 data'!$AK$17="","...",'A22 data'!$AK$17/'A22 data'!$AK$16*100),"...") | G20: =IF(OR('A22 data'!$AK$17="",'A22 data'!$AH$17=""),"...",IFERROR((('A22 data'!$AK$17/'A22 data'!$AH$17)^(1/3)-1)*100,"...")) | H20: =IF(OR('A22 data'!$AI$17="",'A22 data'!$AH$17=""),"...",IFERROR(('A22 data'!$AI$17/'A22 data'!$AH$17-1)*100,"...")) | I20: =IF(OR('A22 data'!$AJ$17="",'A22 data'!$AI$17=""),"...",IFERROR(('A22 data'!$AJ$17/'A22 data'!$AI$17-1)*100,"...")) | J20: =IF(OR('A22 data'!$AK$17="",'A22 data'!$AJ$17=""),"...",IFERROR(('A22 data'!$AK$17/'A22 data'!$AJ$17-1)*100,"..."))
A21: Extra-EU | B21: =IF('A22 data'!$AK$18="","...",'A22 data'!$AK$18/1000) | C21: =IFERROR(IF('A22 data'!$X$18="","...",'A22 data'!$X$18/'A22 data'!$X$16*100),"...") | D21: =IFERROR(IF('A22 data'!$AC$18="","...",'A22 data'!$AC$18/'A22 data'!$AC$16*100),"...") | E21: =IFERROR(IF('A22 data'!$AH$18="","...",'A22 data'!$AH$18/'A22 data'!$AH$16*100),"...") | F21: =IFERROR(IF('A22 data'!$AK$18="","...",'A22 data'!$AK$18/'A22 data'!$AK$16*100),"...") | G21: =IF(OR('A22 data'!$AK$18="",'A22 data'!$AH$18=""),"...",IFERROR((('A22 data'!$AK$18/'A22 data'!$AH$18)^(1/3)-1)*100,"...")) | H21: =IF(OR('A22 data'!$AI$18="",'A22 data'!$AH$18=""),"...",IFERROR(('A22 data'!$AI$18/'A22 data'!$AH$18-1)*100,"...")) | I21: =IF(OR('A22 data'!$AJ$18="",'A22 data'!$AI$18=""),"...",IFERROR(('A22 data'!$AJ$18/'A22 data'!$AI$18-1)*100,"...")) | J21: =IF(OR('A22 data'!$AK$18="",'A22 data'!$AJ$18=""),"...",IFERROR(('A22 data'!$AK$18/'A22 data'!$AJ$18-1)*100,"..."))
A22: United States of America | B22: =IF('A22 data'!$AK$19="","...",'A22 data'!$AK$19/1000) | C22: =IFERROR(IF('A22 data'!$X$19="","...",'A22 data'!$X$19/'A22 data'!$X$16*100),"...") | D22: =IFERROR(IF('A22 data'!$AC$19="","...",'A22 data'!$AC$19/'A22 data'!$AC$16*100),"...") | E22: =IFERROR(IF('A22 data'!$AH$19="","...",'A22 data'!$AH$19/'A22 data'!$AH$16*100),"...") | F22: =IFERROR(IF('A22 data'!$AK$19="","...",'A22 data'!$AK$19/'A22 data'!$AK$16*100),"...") | G22: =IF(OR('A22 data'!$AK$19="",'A22 data'!$AH$19=""),"...",IFERROR((('A22 data'!$AK$19/'A22 data'!$AH$19)^(1/3)-1)*100,"...")) | H22: =IF(OR('A22 data'!$AI$19="",'A22 data'!$AH$19=""),"...",IFERROR(('A22 data'!$AI$19/'A22 data'!$AH$19-1)*100,"...")) | I22: =IF(OR('A22 data'!$AJ$19="",'A22 data'!$AI$19=""),"...",IFERROR(('A22 data'!$AJ$19/'A22 data'!$AI$19-1)*100,"...")) | J22: =IF(OR('A22 data'!$AK$19="",'A22 data'!$AJ$19=""),"...",IFERROR(('A22 data'!$AK$19/'A22 data'!$AJ$19-1)*100,"..."))
A23: China | B23: =IF('A22 data'!$AK$20="","...",'A22 data'!$AK$20/1000) | C23: =IFERROR(IF('A22 data'!$X$20="","...",'A22 data'!$X$20/'A22 data'!$X$16*100),"...") | D23: =IFERROR(IF('A22 data'!$AC$20="","...",'A22 data'!$AC$20/'A22 data'!$AC$16*100),"...") | E23: =IFERROR(IF('A22 data'!$AH$20="","...",'A22 data'!$AH$20/'A22 data'!$AH$16*100),"...") | F23: =IFERROR(IF('A22 data'!$AK$20="","...",'A22 data'!$AK$20/'A22 data'!$AK$16*100),"...") | G23: =IF(OR('A22 data'!$AK$20="",'A22 data'!$AH$20=""),"...",IFERROR((('A22 data'!$AK$20/'A22 data'!$AH$20)^(1/3)-1)*100,"...")) | H23: =IF(OR('A22 data'!$AI$20="",'A22 data'!$AH$20=""),"...",IFERROR(('A22 data'!$AI$20/'A22 data'!$AH$20-1)*100,"...")) | I23: =IF(OR('A22 data'!$AJ$20="",'A22 data'!$AI$20=""),"...",IFERROR(('A22 data'!$AJ$20/'A22 data'!$AI$20-1)*100,"...")) | J23: =IF(OR('A22 data'!$AK$20="",'A22 data'!$AJ$20=""),"...",IFERROR(('A22 data'!$AK$20/'A22 data'!$AJ$20-1)*100,"..."))
A24: Viet Nam | B24: =IF('A22 data'!$AK$21="","...",'A22 data'!$AK$21/1000) | C24: =IFERROR(IF('A22 data'!$X$21="","...",'A22 data'!$X$21/'A22 data'!$X$16*100),"...") | D24: =IFERROR(IF('A22 data'!$AC$21="","...",'A22 data'!$AC$21/'A22 data'!$AC$16*100),"...") | E24: =IFERROR(IF('A22 data'!$AH$21="","...",'A22 data'!$AH$21/'A22 data'!$AH$16*100),"...") | F24: =IFERROR(IF('A22 data'!$AK$21="","...",'A22 data'!$AK$21/'A22 data'!$AK$16*100),"...") | G24: =IF(OR('A22 data'!$AK$21="",'A22 data'!$AH$21=""),"...",IFERROR((('A22 data'!$AK$21/'A22 data'!$AH$21)^(1/3)-1)*100,"...")) | H24: =IF(OR('A22 data'!$AI$21="",'A22 data'!$AH$21=""),"...",IFERROR(('A22 data'!$AI$21/'A22 data'!$AH$21-1)*100,"...")) | I24: =IF(OR('A22 data'!$AJ$21="",'A22 data'!$AI$21=""),"...",IFERROR(('A22 data'!$AJ$21/'A22 data'!$AI$21-1)*100,"...")) | J24: =IF(OR('A22 data'!$AK$21="",'A22 data'!$AJ$21=""),"...",IFERROR(('A22 data'!$AK$21/'A22 data'!$AJ$21-1)*100,"..."))
A25: Hong Kong, China | B25: =IF('A22 data'!$AK$22="","...",'A22 data'!$AK$22/1000) | C25: =IFERROR(IF('A22 data'!$X$22="","...",'A22 data'!$X$22/'A22 data'!$X$16*100),"...") | D25: =IFERROR(IF('A22 data'!$AC$22="","...",'A22 data'!$AC$22/'A22 data'!$AC$16*100),"...") | E25: =IFERROR(IF('A22 data'!$AH$22="","...",'A22 data'!$AH$22/'A22 data'!$AH$16*100),"...") | F25: =IFERROR(IF('A22 data'!$AK$22="","...",'A22 data'!$AK$22/'A22 data'!$AK$16*100),"...") | G25: =IF(OR('A22 data'!$AK$22="",'A22 data'!$AH$22=""),"...",IFERROR((('A22 data'!$AK$22/'A22 data'!$AH$22)^(1/3)-1)*100,"...")) | H25: =IF(OR('A22 data'!$AI$22="",'A22 data'!$AH$22=""),"...",IFERROR(('A22 data'!$AI$22/'A22 data'!$AH$22-1)*100,"...")) | I25: =IF(OR('A22 data'!$AJ$22="",'A22 data'!$AI$22=""),"...",IFERROR(('A22 data'!$AJ$22/'A22 data'!$AI$22-1)*100,"...")) | J25: =IF(OR('A22 data'!$AK$22="",'A22 data'!$AJ$22=""),"...",IFERROR(('A22 data'!$AK$22/'A22 data'!$AJ$22-1)*100,"..."))
A26: Japan | B26: =IF('A22 data'!$AK$23="","...",'A22 data'!$AK$23/1000) | C26: =IFERROR(IF('A22 data'!$X$23="","...",'A22 data'!$X$23/'A22 data'!$X$16*100),"...") | D26: =IFERROR(IF('A22 data'!$AC$23="","...",'A22 data'!$AC$23/'A22 data'!$AC$16*100),"...") | E26: =IFERROR(IF('A22 data'!$AH$23="","...",'A22 data'!$AH$23/'A22 data'!$AH$16*100),"...") | F26: =IFERROR(IF('A22 data'!$AK$23="","...",'A22 data'!$AK$23/'A22 data'!$AK$16*100),"...") | G26: =IF(OR('A22 data'!$AK$23="",'A22 data'!$AH$23=""),"...",IFERROR((('A22 data'!$AK$23/'A22 data'!$AH$23)^(1/3)-1)*100,"...")) | H26: =IF(OR('A22 data'!$AI$23="",'A22 data'!$AH$23=""),"...",IFERROR(('A22 data'!$AI$23/'A22 data'!$AH$23-1)*100,"...")) | I26: =IF(OR('A22 data'!$AJ$23="",'A22 data'!$AI$23=""),"...",IFERROR(('A22 data'!$AJ$23/'A22 data'!$AI$23-1)*100,"...")) | J26: =IF(OR('A22 data'!$AK$23="",'A22 data'!$AJ$23=""),"...",IFERROR(('A22 data'!$AK$23/'A22 data'!$AJ$23-1)*100,"..."))
A27: United Kingdom | B27: =IF('A22 data'!$AK$24="","...",'A22 data'!$AK$24/1000) | C27: =IFERROR(IF('A22 data'!$X$24="","...",'A22 data'!$X$24/'A22 data'!$X$16*100),"...") | D27: =IFERROR(IF('A22 data'!$AC$24="","...",'A22 data'!$AC$24/'A22 data'!$AC$16*100),"...") | E27: =IFERROR(IF('A22 data'!$AH$24="","...",'A22 data'!$AH$24/'A22 data'!$AH$16*100),"...") | F27: =IFERROR(IF('A22 data'!$AK$24="","...",'A22 data'!$AK$24/'A22 data'!$AK$16*100),"...") | G27: =IF(OR('A22 data'!$AK$24="",'A22 data'!$AH$24=""),"...",IFERROR((('A22 data'!$AK$24/'A22 data'!$AH$24)^(1/3)-1)*100,"...")) | H27: =IF(OR('A22 data'!$AI$24="",'A22 data'!$AH$24=""),"...",IFERROR(('A22 data'!$AI$24/'A22 data'!$AH$24-1)*100,"...")) | I27: =IF(OR('A22 data'!$AJ$24="",'A22 data'!$AI$24=""),"...",IFERROR(('A22 data'!$AJ$24/'A22 data'!$AI$24-1)*100,"...")) | J27: =IF(OR('A22 data'!$AK$24="",'A22 data'!$AJ$24=""),"...",IFERROR(('A22 data'!$AK$24/'A22 data'!$AJ$24-1)*100,"..."))
A28: Türkiye | B28: =IF('A22 data'!$AK$25="","...",'A22 data'!$AK$25/1000) | C28: =IFERROR(IF('A22 data'!$X$25="","...",'A22 data'!$X$25/'A22 data'!$X$16*100),"...") | D28: =IFERROR(IF('A22 data'!$AC$25="","...",'A22 data'!$AC$25/'A22 data'!$AC$16*100),"...") | E28: =IFERROR(IF('A22 data'!$AH$25="","...",'A22 data'!$AH$25/'A22 data'!$AH$16*100),"...") | F28: =IFERROR(IF('A22 data'!$AK$25="","...",'A22 data'!$AK$25/'A22 data'!$AK$16*100),"...") | G28: =IF(OR('A22 data'!$AK$25="",'A22 data'!$AH$25=""),"...",IFERROR((('A22 data'!$AK$25/'A22 data'!$AH$25)^(1/3)-1)*100,"...")) | H28: =IF(OR('A22 data'!$AI$25="",'A22 data'!$AH$25=""),"...",IFERROR(('A22 data'!$AI$25/'A22 data'!$AH$25-1)*100,"...")) | I28: =IF(OR('A22 data'!$AJ$25="",'A22 data'!$AI$25=""),"...",IFERROR(('A22 data'!$AJ$25/'A22 data'!$AI$25-1)*100,"...")) | J28: =IF(OR('A22 data'!$AK$25="",'A22 data'!$AJ$25=""),"...",IFERROR(('A22 data'!$AK$25/'A22 data'!$AJ$25-1)*100,"..."))
A29: Mexico | B29: =IF('A22 data'!$AK$26="","...",'A22 data'!$AK$26/1000) | C29: =IFERROR(IF('A22 data'!$X$26="","...",'A22 data'!$X$26/'A22 data'!$X$16*100),"...") | D29: =IFERROR(IF('A22 data'!$AC$26="","...",'A22 data'!$AC$26/'A22 data'!$AC$16*100),"...") | E29: =IFERROR(IF('A22 data'!$AH$26="","...",'A22 data'!$AH$26/'A22 data'!$AH$16*100),"...") | F29: =IFERROR(IF('A22 data'!$AK$26="","...",'A22 data'!$AK$26/'A22 data'!$AK$16*100),"...") | G29: =IF(OR('A22 data'!$AK$26="",'A22 data'!$AH$26=""),"...",IFERROR((('A22 data'!$AK$26/'A22 data'!$AH$26)^(1/3)-1)*100,"...")) | H29: =IF(OR('A22 data'!$AI$26="",'A22 data'!$AH$26=""),"...",IFERROR(('A22 data'!$AI$26/'A22 data'!$AH$26-1)*100,"...")) | I29: =IF(OR('A22 data'!$AJ$26="",'A22 data'!$AI$26=""),"...",IFERROR(('A22 data'!$AJ$26/'A22 data'!$AI$26-1)*100,"...")) | J29: =IF(OR('A22 data'!$AK$26="",'A22 data'!$AJ$26=""),"...",IFERROR(('A22 data'!$AK$26/'A22 data'!$AJ$26-1)*100,"..."))
A30: Bangladesh | B30: =IF('A22 data'!$AK$27="","...",'A22 data'!$AK$27/1000) | C30: =IFERROR(IF('A22 data'!$X$27="","...",'A22 data'!$X$27/'A22 data'!$X$16*100),"...") | D30: =IFERROR(IF('A22 data'!$AC$27="","...",'A22 data'!$AC$27/'A22 data'!$AC$16*100),"...") | E30: =IFERROR(IF('A22 data'!$AH$27="","...",'A22 data'!$AH$27/'A22 data'!$AH$16*100),"...") | F30: =IFERROR(IF('A22 data'!$AK$27="","...",'A22 data'!$AK$27/'A22 data'!$AK$16*100),"...") | G30: =IF(OR('A22 data'!$AK$27="",'A22 data'!$AH$27=""),"...",IFERROR((('A22 data'!$AK$27/'A22 data'!$AH$27)^(1/3)-1)*100,"...")) | H30: =IF(OR('A22 data'!$AI$27="",'A22 data'!$AH$27=""),"...",IFERROR(('A22 data'!$AI$27/'A22 data'!$AH$27-1)*100,"...")) | I30: =IF(OR('A22 data'!$AJ$27="",'A22 data'!$AI$27=""),"...",IFERROR(('A22 data'!$AJ$27/'A22 data'!$AI$27-1)*100,"...")) | J30: =IF(OR('A22 data'!$AK$27="",'A22 data'!$AJ$27=""),"...",IFERROR(('A22 data'!$AK$27/'A22 data'!$AJ$27-1)*100,"..."))
A31: Above 10 | B31: =IFERROR(B20+B22+B23+B24+B25+B26+B27+B28+B29+B30,"...") | C31: =IFERROR(C20+C22+C23+C24+C25+C26+C27+C28+C29+C30,"...") | D31: =IFERROR(D20+D22+D23+D24+D25+D26+D27+D28+D29+D30,"...") | E31: =IFERROR(E20+E22+E23+E24+E25+E26+E27+E28+E29+E30,"...") | F31: =IFERROR(F20+F22+F23+F24+F25+F26+F27+F28+F29+F30,"...") | G31: - | H31: - | I31: - | J31: -
A33: Notes
A34: The EU is ranked as one economy; its member states are not ranked. Extra-EU (the EU's trade with non-members) is shown beneath it and is not ranked.
A35: From 2000 the EU figure is WTO's own series for today's 27 member states (EU-27), in every year, including years when the membership was different. The United Kingdom is ranked on its own.
A36: Economies ranked in 2013: 142 exporters, 150 importers.
A37: "Above 10" is the sum of the ten ranked economies. "..." means not available.
A38: Shares are of world textiles exports or imports. 2010-13 is the compound annual rate of change.
A39: Figures for every year are as WTO published them on 2026-09-29; WTO revises past figures, so they can differ from the printed review.
A40: Source: WTO Timeseries, indicators ITS_MTV_AX and ITS_MTV_AM, product MATE (SITC 65), via WTO Timeseries API v1 (api.wto.org).
A41: Blue figures on the data sheet are downloaded inputs; every figure on this sheet is a formula.

Sheet A23 clothing
A1: Table A23, 2014 edition (trade data for 2013)
A2: Top 10 exporters and importers of clothing, 2013
A3: (Billion dollars and percentage)
A5: Economy | B5: Value 2013 (US$ bn) | C5: Share 2000 (%) | D5: Share 2005 (%) | E5: Share 2010 (%) | F5: Share 2013 (%) | G5: Change 2010-13 (% p.a.) | H5: Change 2011 (%) | I5: Change 2012 (%) | J5: Change 2013 (%)
A6: Exporters
A7: China | B7: =IF('A23 data'!$AK$5="","...",'A23 data'!$AK$5/1000) | C7: =IFERROR(IF('A23 data'!$X$5="","...",'A23 data'!$X$5/'A23 data'!$X$4*100),"...") | D7: =IFERROR(IF('A23 data'!$AC$5="","...",'A23 data'!$AC$5/'A23 data'!$AC$4*100),"...") | E7: =IFERROR(IF('A23 data'!$AH$5="","...",'A23 data'!$AH$5/'A23 data'!$AH$4*100),"...") | F7: =IFERROR(IF('A23 data'!$AK$5="","...",'A23 data'!$AK$5/'A23 data'!$AK$4*100),"...") | G7: =IF(OR('A23 data'!$AK$5="",'A23 data'!$AH$5=""),"...",IFERROR((('A23 data'!$AK$5/'A23 data'!$AH$5)^(1/3)-1)*100,"...")) | H7: =IF(OR('A23 data'!$AI$5="",'A23 data'!$AH$5=""),"...",IFERROR(('A23 data'!$AI$5/'A23 data'!$AH$5-1)*100,"...")) | I7: =IF(OR('A23 data'!$AJ$5="",'A23 data'!$AI$5=""),"...",IFERROR(('A23 data'!$AJ$5/'A23 data'!$AI$5-1)*100,"...")) | J7: =IF(OR('A23 data'!$AK$5="",'A23 data'!$AJ$5=""),"...",IFERROR(('A23 data'!$AK$5/'A23 data'!$AJ$5-1)*100,"..."))
A8: European Union | B8: =IF('A23 data'!$AK$6="","...",'A23 data'!$AK$6/1000) | C8: =IFERROR(IF('A23 data'!$X$6="","...",'A23 data'!$X$6/'A23 data'!$X$4*100),"...") | D8: =IFERROR(IF('A23 data'!$AC$6="","...",'A23 data'!$AC$6/'A23 data'!$AC$4*100),"...") | E8: =IFERROR(IF('A23 data'!$AH$6="","...",'A23 data'!$AH$6/'A23 data'!$AH$4*100),"...") | F8: =IFERROR(IF('A23 data'!$AK$6="","...",'A23 data'!$AK$6/'A23 data'!$AK$4*100),"...") | G8: =IF(OR('A23 data'!$AK$6="",'A23 data'!$AH$6=""),"...",IFERROR((('A23 data'!$AK$6/'A23 data'!$AH$6)^(1/3)-1)*100,"...")) | H8: =IF(OR('A23 data'!$AI$6="",'A23 data'!$AH$6=""),"...",IFERROR(('A23 data'!$AI$6/'A23 data'!$AH$6-1)*100,"...")) | I8: =IF(OR('A23 data'!$AJ$6="",'A23 data'!$AI$6=""),"...",IFERROR(('A23 data'!$AJ$6/'A23 data'!$AI$6-1)*100,"...")) | J8: =IF(OR('A23 data'!$AK$6="",'A23 data'!$AJ$6=""),"...",IFERROR(('A23 data'!$AK$6/'A23 data'!$AJ$6-1)*100,"..."))
A9: Extra-EU | B9: =IF('A23 data'!$AK$7="","...",'A23 data'!$AK$7/1000) | C9: =IFERROR(IF('A23 data'!$X$7="","...",'A23 data'!$X$7/'A23 data'!$X$4*100),"...") | D9: =IFERROR(IF('A23 data'!$AC$7="","...",'A23 data'!$AC$7/'A23 data'!$AC$4*100),"...") | E9: =IFERROR(IF('A23 data'!$AH$7="","...",'A23 data'!$AH$7/'A23 data'!$AH$4*100),"...") | F9: =IFERROR(IF('A23 data'!$AK$7="","...",'A23 data'!$AK$7/'A23 data'!$AK$4*100),"...") | G9: =IF(OR('A23 data'!$AK$7="",'A23 data'!$AH$7=""),"...",IFERROR((('A23 data'!$AK$7/'A23 data'!$AH$7)^(1/3)-1)*100,"...")) | H9: =IF(OR('A23 data'!$AI$7="",'A23 data'!$AH$7=""),"...",IFERROR(('A23 data'!$AI$7/'A23 data'!$AH$7-1)*100,"...")) | I9: =IF(OR('A23 data'!$AJ$7="",'A23 data'!$AI$7=""),"...",IFERROR(('A23 data'!$AJ$7/'A23 data'!$AI$7-1)*100,"...")) | J9: =IF(OR('A23 data'!$AK$7="",'A23 data'!$AJ$7=""),"...",IFERROR(('A23 data'!$AK$7/'A23 data'!$AJ$7-1)*100,"..."))
A10: Bangladesh | B10: =IF('A23 data'!$AK$8="","...",'A23 data'!$AK$8/1000) | C10: =IFERROR(IF('A23 data'!$X$8="","...",'A23 data'!$X$8/'A23 data'!$X$4*100),"...") | D10: =IFERROR(IF('A23 data'!$AC$8="","...",'A23 data'!$AC$8/'A23 data'!$AC$4*100),"...") | E10: =IFERROR(IF('A23 data'!$AH$8="","...",'A23 data'!$AH$8/'A23 data'!$AH$4*100),"...") | F10: =IFERROR(IF('A23 data'!$AK$8="","...",'A23 data'!$AK$8/'A23 data'!$AK$4*100),"...") | G10: =IF(OR('A23 data'!$AK$8="",'A23 data'!$AH$8=""),"...",IFERROR((('A23 data'!$AK$8/'A23 data'!$AH$8)^(1/3)-1)*100,"...")) | H10: =IF(OR('A23 data'!$AI$8="",'A23 data'!$AH$8=""),"...",IFERROR(('A23 data'!$AI$8/'A23 data'!$AH$8-1)*100,"...")) | I10: =IF(OR('A23 data'!$AJ$8="",'A23 data'!$AI$8=""),"...",IFERROR(('A23 data'!$AJ$8/'A23 data'!$AI$8-1)*100,"...")) | J10: =IF(OR('A23 data'!$AK$8="",'A23 data'!$AJ$8=""),"...",IFERROR(('A23 data'!$AK$8/'A23 data'!$AJ$8-1)*100,"..."))
A11: Hong Kong, China | B11: =IF('A23 data'!$AK$9="","...",'A23 data'!$AK$9/1000) | C11: =IFERROR(IF('A23 data'!$X$9="","...",'A23 data'!$X$9/'A23 data'!$X$4*100),"...") | D11: =IFERROR(IF('A23 data'!$AC$9="","...",'A23 data'!$AC$9/'A23 data'!$AC$4*100),"...") | E11: =IFERROR(IF('A23 data'!$AH$9="","...",'A23 data'!$AH$9/'A23 data'!$AH$4*100),"...") | F11: =IFERROR(IF('A23 data'!$AK$9="","...",'A23 data'!$AK$9/'A23 data'!$AK$4*100),"...") | G11: =IF(OR('A23 data'!$AK$9="",'A23 data'!$AH$9=""),"...",IFERROR((('A23 data'!$AK$9/'A23 data'!$AH$9)^(1/3)-1)*100,"...")) | H11: =IF(OR('A23 data'!$AI$9="",'A23 data'!$AH$9=""),"...",IFERROR(('A23 data'!$AI$9/'A23 data'!$AH$9-1)*100,"...")) | I11: =IF(OR('A23 data'!$AJ$9="",'A23 data'!$AI$9=""),"...",IFERROR(('A23 data'!$AJ$9/'A23 data'!$AI$9-1)*100,"...")) | J11: =IF(OR('A23 data'!$AK$9="",'A23 data'!$AJ$9=""),"...",IFERROR(('A23 data'!$AK$9/'A23 data'!$AJ$9-1)*100,"..."))
A12: Viet Nam | B12: =IF('A23 data'!$AK$10="","...",'A23 data'!$AK$10/1000) | C12: =IFERROR(IF('A23 data'!$X$10="","...",'A23 data'!$X$10/'A23 data'!$X$4*100),"...") | D12: =IFERROR(IF('A23 data'!$AC$10="","...",'A23 data'!$AC$10/'A23 data'!$AC$4*100),"...") | E12: =IFERROR(IF('A23 data'!$AH$10="","...",'A23 data'!$AH$10/'A23 data'!$AH$4*100),"...") | F12: =IFERROR(IF('A23 data'!$AK$10="","...",'A23 data'!$AK$10/'A23 data'!$AK$4*100),"...") | G12: =IF(OR('A23 data'!$AK$10="",'A23 data'!$AH$10=""),"...",IFERROR((('A23 data'!$AK$10/'A23 data'!$AH$10)^(1/3)-1)*100,"...")) | H12: =IF(OR('A23 data'!$AI$10="",'A23 data'!$AH$10=""),"...",IFERROR(('A23 data'!$AI$10/'A23 data'!$AH$10-1)*100,"...")) | I12: =IF(OR('A23 data'!$AJ$10="",'A23 data'!$AI$10=""),"...",IFERROR(('A23 data'!$AJ$10/'A23 data'!$AI$10-1)*100,"...")) | J12: =IF(OR('A23 data'!$AK$10="",'A23 data'!$AJ$10=""),"...",IFERROR(('A23 data'!$AK$10/'A23 data'!$AJ$10-1)*100,"..."))
A13: India | B13: =IF('A23 data'!$AK$11="","...",'A23 data'!$AK$11/1000) | C13: =IFERROR(IF('A23 data'!$X$11="","...",'A23 data'!$X$11/'A23 data'!$X$4*100),"...") | D13: =IFERROR(IF('A23 data'!$AC$11="","...",'A23 data'!$AC$11/'A23 data'!$AC$4*100),"...") | E13: =IFERROR(IF('A23 data'!$AH$11="","...",'A23 data'!$AH$11/'A23 data'!$AH$4*100),"...") | F13: =IFERROR(IF('A23 data'!$AK$11="","...",'A23 data'!$AK$11/'A23 data'!$AK$4*100),"...") | G13: =IF(OR('A23 data'!$AK$11="",'A23 data'!$AH$11=""),"...",IFERROR((('A23 data'!$AK$11/'A23 data'!$AH$11)^(1/3)-1)*100,"...")) | H13: =IF(OR('A23 data'!$AI$11="",'A23 data'!$AH$11=""),"...",IFERROR(('A23 data'!$AI$11/'A23 data'!$AH$11-1)*100,"...")) | I13: =IF(OR('A23 data'!$AJ$11="",'A23 data'!$AI$11=""),"...",IFERROR(('A23 data'!$AJ$11/'A23 data'!$AI$11-1)*100,"...")) | J13: =IF(OR('A23 data'!$AK$11="",'A23 data'!$AJ$11=""),"...",IFERROR(('A23 data'!$AK$11/'A23 data'!$AJ$11-1)*100,"..."))
A14: Türkiye | B14: =IF('A23 data'!$AK$12="","...",'A23 data'!$AK$12/1000) | C14: =IFERROR(IF('A23 data'!$X$12="","...",'A23 data'!$X$12/'A23 data'!$X$4*100),"...") | D14: =IFERROR(IF('A23 data'!$AC$12="","...",'A23 data'!$AC$12/'A23 data'!$AC$4*100),"...") | E14: =IFERROR(IF('A23 data'!$AH$12="","...",'A23 data'!$AH$12/'A23 data'!$AH$4*100),"...") | F14: =IFERROR(IF('A23 data'!$AK$12="","...",'A23 data'!$AK$12/'A23 data'!$AK$4*100),"...") | G14: =IF(OR('A23 data'!$AK$12="",'A23 data'!$AH$12=""),"...",IFERROR((('A23 data'!$AK$12/'A23 data'!$AH$12)^(1/3)-1)*100,"...")) | H14: =IF(OR('A23 data'!$AI$12="",'A23 data'!$AH$12=""),"...",IFERROR(('A23 data'!$AI$12/'A23 data'!$AH$12-1)*100,"...")) | I14: =IF(OR('A23 data'!$AJ$12="",'A23 data'!$AI$12=""),"...",IFERROR(('A23 data'!$AJ$12/'A23 data'!$AI$12-1)*100,"...")) | J14: =IF(OR('A23 data'!$AK$12="",'A23 data'!$AJ$12=""),"...",IFERROR(('A23 data'!$AK$12/'A23 data'!$AJ$12-1)*100,"..."))
A15: United Kingdom | B15: =IF('A23 data'!$AK$13="","...",'A23 data'!$AK$13/1000) | C15: =IFERROR(IF('A23 data'!$X$13="","...",'A23 data'!$X$13/'A23 data'!$X$4*100),"...") | D15: =IFERROR(IF('A23 data'!$AC$13="","...",'A23 data'!$AC$13/'A23 data'!$AC$4*100),"...") | E15: =IFERROR(IF('A23 data'!$AH$13="","...",'A23 data'!$AH$13/'A23 data'!$AH$4*100),"...") | F15: =IFERROR(IF('A23 data'!$AK$13="","...",'A23 data'!$AK$13/'A23 data'!$AK$4*100),"...") | G15: =IF(OR('A23 data'!$AK$13="",'A23 data'!$AH$13=""),"...",IFERROR((('A23 data'!$AK$13/'A23 data'!$AH$13)^(1/3)-1)*100,"...")) | H15: =IF(OR('A23 data'!$AI$13="",'A23 data'!$AH$13=""),"...",IFERROR(('A23 data'!$AI$13/'A23 data'!$AH$13-1)*100,"...")) | I15: =IF(OR('A23 data'!$AJ$13="",'A23 data'!$AI$13=""),"...",IFERROR(('A23 data'!$AJ$13/'A23 data'!$AI$13-1)*100,"...")) | J15: =IF(OR('A23 data'!$AK$13="",'A23 data'!$AJ$13=""),"...",IFERROR(('A23 data'!$AK$13/'A23 data'!$AJ$13-1)*100,"..."))
A16: Indonesia | B16: =IF('A23 data'!$AK$14="","...",'A23 data'!$AK$14/1000) | C16: =IFERROR(IF('A23 data'!$X$14="","...",'A23 data'!$X$14/'A23 data'!$X$4*100),"...") | D16: =IFERROR(IF('A23 data'!$AC$14="","...",'A23 data'!$AC$14/'A23 data'!$AC$4*100),"...") | E16: =IFERROR(IF('A23 data'!$AH$14="","...",'A23 data'!$AH$14/'A23 data'!$AH$4*100),"...") | F16: =IFERROR(IF('A23 data'!$AK$14="","...",'A23 data'!$AK$14/'A23 data'!$AK$4*100),"...") | G16: =IF(OR('A23 data'!$AK$14="",'A23 data'!$AH$14=""),"...",IFERROR((('A23 data'!$AK$14/'A23 data'!$AH$14)^(1/3)-1)*100,"...")) | H16: =IF(OR('A23 data'!$AI$14="",'A23 data'!$AH$14=""),"...",IFERROR(('A23 data'!$AI$14/'A23 data'!$AH$14-1)*100,"...")) | I16: =IF(OR('A23 data'!$AJ$14="",'A23 data'!$AI$14=""),"...",IFERROR(('A23 data'!$AJ$14/'A23 data'!$AI$14-1)*100,"...")) | J16: =IF(OR('A23 data'!$AK$14="",'A23 data'!$AJ$14=""),"...",IFERROR(('A23 data'!$AK$14/'A23 data'!$AJ$14-1)*100,"..."))
A17: United States of America | B17: =IF('A23 data'!$AK$15="","...",'A23 data'!$AK$15/1000) | C17: =IFERROR(IF('A23 data'!$X$15="","...",'A23 data'!$X$15/'A23 data'!$X$4*100),"...") | D17: =IFERROR(IF('A23 data'!$AC$15="","...",'A23 data'!$AC$15/'A23 data'!$AC$4*100),"...") | E17: =IFERROR(IF('A23 data'!$AH$15="","...",'A23 data'!$AH$15/'A23 data'!$AH$4*100),"...") | F17: =IFERROR(IF('A23 data'!$AK$15="","...",'A23 data'!$AK$15/'A23 data'!$AK$4*100),"...") | G17: =IF(OR('A23 data'!$AK$15="",'A23 data'!$AH$15=""),"...",IFERROR((('A23 data'!$AK$15/'A23 data'!$AH$15)^(1/3)-1)*100,"...")) | H17: =IF(OR('A23 data'!$AI$15="",'A23 data'!$AH$15=""),"...",IFERROR(('A23 data'!$AI$15/'A23 data'!$AH$15-1)*100,"...")) | I17: =IF(OR('A23 data'!$AJ$15="",'A23 data'!$AI$15=""),"...",IFERROR(('A23 data'!$AJ$15/'A23 data'!$AI$15-1)*100,"...")) | J17: =IF(OR('A23 data'!$AK$15="",'A23 data'!$AJ$15=""),"...",IFERROR(('A23 data'!$AK$15/'A23 data'!$AJ$15-1)*100,"..."))
A18: Above 10 | B18: =IFERROR(B7+B8+B10+B11+B12+B13+B14+B15+B16+B17,"...") | C18: =IFERROR(C7+C8+C10+C11+C12+C13+C14+C15+C16+C17,"...") | D18: =IFERROR(D7+D8+D10+D11+D12+D13+D14+D15+D16+D17,"...") | E18: =IFERROR(E7+E8+E10+E11+E12+E13+E14+E15+E16+E17,"...") | F18: =IFERROR(F7+F8+F10+F11+F12+F13+F14+F15+F16+F17,"...") | G18: - | H18: - | I18: - | J18: -
A19: Importers
A20: European Union | B20: =IF('A23 data'!$AK$17="","...",'A23 data'!$AK$17/1000) | C20: =IFERROR(IF('A23 data'!$X$17="","...",'A23 data'!$X$17/'A23 data'!$X$16*100),"...") | D20: =IFERROR(IF('A23 data'!$AC$17="","...",'A23 data'!$AC$17/'A23 data'!$AC$16*100),"...") | E20: =IFERROR(IF('A23 data'!$AH$17="","...",'A23 data'!$AH$17/'A23 data'!$AH$16*100),"...") | F20: =IFERROR(IF('A23 data'!$AK$17="","...",'A23 data'!$AK$17/'A23 data'!$AK$16*100),"...") | G20: =IF(OR('A23 data'!$AK$17="",'A23 data'!$AH$17=""),"...",IFERROR((('A23 data'!$AK$17/'A23 data'!$AH$17)^(1/3)-1)*100,"...")) | H20: =IF(OR('A23 data'!$AI$17="",'A23 data'!$AH$17=""),"...",IFERROR(('A23 data'!$AI$17/'A23 data'!$AH$17-1)*100,"...")) | I20: =IF(OR('A23 data'!$AJ$17="",'A23 data'!$AI$17=""),"...",IFERROR(('A23 data'!$AJ$17/'A23 data'!$AI$17-1)*100,"...")) | J20: =IF(OR('A23 data'!$AK$17="",'A23 data'!$AJ$17=""),"...",IFERROR(('A23 data'!$AK$17/'A23 data'!$AJ$17-1)*100,"..."))
A21: Extra-EU | B21: =IF('A23 data'!$AK$18="","...",'A23 data'!$AK$18/1000) | C21: =IFERROR(IF('A23 data'!$X$18="","...",'A23 data'!$X$18/'A23 data'!$X$16*100),"...") | D21: =IFERROR(IF('A23 data'!$AC$18="","...",'A23 data'!$AC$18/'A23 data'!$AC$16*100),"...") | E21: =IFERROR(IF('A23 data'!$AH$18="","...",'A23 data'!$AH$18/'A23 data'!$AH$16*100),"...") | F21: =IFERROR(IF('A23 data'!$AK$18="","...",'A23 data'!$AK$18/'A23 data'!$AK$16*100),"...") | G21: =IF(OR('A23 data'!$AK$18="",'A23 data'!$AH$18=""),"...",IFERROR((('A23 data'!$AK$18/'A23 data'!$AH$18)^(1/3)-1)*100,"...")) | H21: =IF(OR('A23 data'!$AI$18="",'A23 data'!$AH$18=""),"...",IFERROR(('A23 data'!$AI$18/'A23 data'!$AH$18-1)*100,"...")) | I21: =IF(OR('A23 data'!$AJ$18="",'A23 data'!$AI$18=""),"...",IFERROR(('A23 data'!$AJ$18/'A23 data'!$AI$18-1)*100,"...")) | J21: =IF(OR('A23 data'!$AK$18="",'A23 data'!$AJ$18=""),"...",IFERROR(('A23 data'!$AK$18/'A23 data'!$AJ$18-1)*100,"..."))
A22: United States of America | B22: =IF('A23 data'!$AK$19="","...",'A23 data'!$AK$19/1000) | C22: =IFERROR(IF('A23 data'!$X$19="","...",'A23 data'!$X$19/'A23 data'!$X$16*100),"...") | D22: =IFERROR(IF('A23 data'!$AC$19="","...",'A23 data'!$AC$19/'A23 data'!$AC$16*100),"...") | E22: =IFERROR(IF('A23 data'!$AH$19="","...",'A23 data'!$AH$19/'A23 data'!$AH$16*100),"...") | F22: =IFERROR(IF('A23 data'!$AK$19="","...",'A23 data'!$AK$19/'A23 data'!$AK$16*100),"...") | G22: =IF(OR('A23 data'!$AK$19="",'A23 data'!$AH$19=""),"...",IFERROR((('A23 data'!$AK$19/'A23 data'!$AH$19)^(1/3)-1)*100,"...")) | H22: =IF(OR('A23 data'!$AI$19="",'A23 data'!$AH$19=""),"...",IFERROR(('A23 data'!$AI$19/'A23 data'!$AH$19-1)*100,"...")) | I22: =IF(OR('A23 data'!$AJ$19="",'A23 data'!$AI$19=""),"...",IFERROR(('A23 data'!$AJ$19/'A23 data'!$AI$19-1)*100,"...")) | J22: =IF(OR('A23 data'!$AK$19="",'A23 data'!$AJ$19=""),"...",IFERROR(('A23 data'!$AK$19/'A23 data'!$AJ$19-1)*100,"..."))
A23: Japan | B23: =IF('A23 data'!$AK$20="","...",'A23 data'!$AK$20/1000) | C23: =IFERROR(IF('A23 data'!$X$20="","...",'A23 data'!$X$20/'A23 data'!$X$16*100),"...") | D23: =IFERROR(IF('A23 data'!$AC$20="","...",'A23 data'!$AC$20/'A23 data'!$AC$16*100),"...") | E23: =IFERROR(IF('A23 data'!$AH$20="","...",'A23 data'!$AH$20/'A23 data'!$AH$16*100),"...") | F23: =IFERROR(IF('A23 data'!$AK$20="","...",'A23 data'!$AK$20/'A23 data'!$AK$16*100),"...") | G23: =IF(OR('A23 data'!$AK$20="",'A23 data'!$AH$20=""),"...",IFERROR((('A23 data'!$AK$20/'A23 data'!$AH$20)^(1/3)-1)*100,"...")) | H23: =IF(OR('A23 data'!$AI$20="",'A23 data'!$AH$20=""),"...",IFERROR(('A23 data'!$AI$20/'A23 data'!$AH$20-1)*100,"...")) | I23: =IF(OR('A23 data'!$AJ$20="",'A23 data'!$AI$20=""),"...",IFERROR(('A23 data'!$AJ$20/'A23 data'!$AI$20-1)*100,"...")) | J23: =IF(OR('A23 data'!$AK$20="",'A23 data'!$AJ$20=""),"...",IFERROR(('A23 data'!$AK$20/'A23 data'!$AJ$20-1)*100,"..."))
A24: United Kingdom | B24: =IF('A23 data'!$AK$21="","...",'A23 data'!$AK$21/1000) | C24: =IFERROR(IF('A23 data'!$X$21="","...",'A23 data'!$X$21/'A23 data'!$X$16*100),"...") | D24: =IFERROR(IF('A23 data'!$AC$21="","...",'A23 data'!$AC$21/'A23 data'!$AC$16*100),"...") | E24: =IFERROR(IF('A23 data'!$AH$21="","...",'A23 data'!$AH$21/'A23 data'!$AH$16*100),"...") | F24: =IFERROR(IF('A23 data'!$AK$21="","...",'A23 data'!$AK$21/'A23 data'!$AK$16*100),"...") | G24: =IF(OR('A23 data'!$AK$21="",'A23 data'!$AH$21=""),"...",IFERROR((('A23 data'!$AK$21/'A23 data'!$AH$21)^(1/3)-1)*100,"...")) | H24: =IF(OR('A23 data'!$AI$21="",'A23 data'!$AH$21=""),"...",IFERROR(('A23 data'!$AI$21/'A23 data'!$AH$21-1)*100,"...")) | I24: =IF(OR('A23 data'!$AJ$21="",'A23 data'!$AI$21=""),"...",IFERROR(('A23 data'!$AJ$21/'A23 data'!$AI$21-1)*100,"...")) | J24: =IF(OR('A23 data'!$AK$21="",'A23 data'!$AJ$21=""),"...",IFERROR(('A23 data'!$AK$21/'A23 data'!$AJ$21-1)*100,"..."))
A25: Hong Kong, China | B25: =IF('A23 data'!$AK$22="","...",'A23 data'!$AK$22/1000) | C25: =IFERROR(IF('A23 data'!$X$22="","...",'A23 data'!$X$22/'A23 data'!$X$16*100),"...") | D25: =IFERROR(IF('A23 data'!$AC$22="","...",'A23 data'!$AC$22/'A23 data'!$AC$16*100),"...") | E25: =IFERROR(IF('A23 data'!$AH$22="","...",'A23 data'!$AH$22/'A23 data'!$AH$16*100),"...") | F25: =IFERROR(IF('A23 data'!$AK$22="","...",'A23 data'!$AK$22/'A23 data'!$AK$16*100),"...") | G25: =IF(OR('A23 data'!$AK$22="",'A23 data'!$AH$22=""),"...",IFERROR((('A23 data'!$AK$22/'A23 data'!$AH$22)^(1/3)-1)*100,"...")) | H25: =IF(OR('A23 data'!$AI$22="",'A23 data'!$AH$22=""),"...",IFERROR(('A23 data'!$AI$22/'A23 data'!$AH$22-1)*100,"...")) | I25: =IF(OR('A23 data'!$AJ$22="",'A23 data'!$AI$22=""),"...",IFERROR(('A23 data'!$AJ$22/'A23 data'!$AI$22-1)*100,"...")) | J25: =IF(OR('A23 data'!$AK$22="",'A23 data'!$AJ$22=""),"...",IFERROR(('A23 data'!$AK$22/'A23 data'!$AJ$22-1)*100,"..."))
A26: Canada | B26: =IF('A23 data'!$AK$23="","...",'A23 data'!$AK$23/1000) | C26: =IFERROR(IF('A23 data'!$X$23="","...",'A23 data'!$X$23/'A23 data'!$X$16*100),"...") | D26: =IFERROR(IF('A23 data'!$AC$23="","...",'A23 data'!$AC$23/'A23 data'!$AC$16*100),"...") | E26: =IFERROR(IF('A23 data'!$AH$23="","...",'A23 data'!$AH$23/'A23 data'!$AH$16*100),"...") | F26: =IFERROR(IF('A23 data'!$AK$23="","...",'A23 data'!$AK$23/'A23 data'!$AK$16*100),"...") | G26: =IF(OR('A23 data'!$AK$23="",'A23 data'!$AH$23=""),"...",IFERROR((('A23 data'!$AK$23/'A23 data'!$AH$23)^(1/3)-1)*100,"...")) | H26: =IF(OR('A23 data'!$AI$23="",'A23 data'!$AH$23=""),"...",IFERROR(('A23 data'!$AI$23/'A23 data'!$AH$23-1)*100,"...")) | I26: =IF(OR('A23 data'!$AJ$23="",'A23 data'!$AI$23=""),"...",IFERROR(('A23 data'!$AJ$23/'A23 data'!$AI$23-1)*100,"...")) | J26: =IF(OR('A23 data'!$AK$23="",'A23 data'!$AJ$23=""),"...",IFERROR(('A23 data'!$AK$23/'A23 data'!$AJ$23-1)*100,"..."))
A27: Russian Federation | B27: =IF('A23 data'!$AK$24="","...",'A23 data'!$AK$24/1000) | C27: =IFERROR(IF('A23 data'!$X$24="","...",'A23 data'!$X$24/'A23 data'!$X$16*100),"...") | D27: =IFERROR(IF('A23 data'!$AC$24="","...",'A23 data'!$AC$24/'A23 data'!$AC$16*100),"...") | E27: =IFERROR(IF('A23 data'!$AH$24="","...",'A23 data'!$AH$24/'A23 data'!$AH$16*100),"...") | F27: =IFERROR(IF('A23 data'!$AK$24="","...",'A23 data'!$AK$24/'A23 data'!$AK$16*100),"...") | G27: =IF(OR('A23 data'!$AK$24="",'A23 data'!$AH$24=""),"...",IFERROR((('A23 data'!$AK$24/'A23 data'!$AH$24)^(1/3)-1)*100,"...")) | H27: =IF(OR('A23 data'!$AI$24="",'A23 data'!$AH$24=""),"...",IFERROR(('A23 data'!$AI$24/'A23 data'!$AH$24-1)*100,"...")) | I27: =IF(OR('A23 data'!$AJ$24="",'A23 data'!$AI$24=""),"...",IFERROR(('A23 data'!$AJ$24/'A23 data'!$AI$24-1)*100,"...")) | J27: =IF(OR('A23 data'!$AK$24="",'A23 data'!$AJ$24=""),"...",IFERROR(('A23 data'!$AK$24/'A23 data'!$AJ$24-1)*100,"..."))
A28: Korea, Republic of | B28: =IF('A23 data'!$AK$25="","...",'A23 data'!$AK$25/1000) | C28: =IFERROR(IF('A23 data'!$X$25="","...",'A23 data'!$X$25/'A23 data'!$X$16*100),"...") | D28: =IFERROR(IF('A23 data'!$AC$25="","...",'A23 data'!$AC$25/'A23 data'!$AC$16*100),"...") | E28: =IFERROR(IF('A23 data'!$AH$25="","...",'A23 data'!$AH$25/'A23 data'!$AH$16*100),"...") | F28: =IFERROR(IF('A23 data'!$AK$25="","...",'A23 data'!$AK$25/'A23 data'!$AK$16*100),"...") | G28: =IF(OR('A23 data'!$AK$25="",'A23 data'!$AH$25=""),"...",IFERROR((('A23 data'!$AK$25/'A23 data'!$AH$25)^(1/3)-1)*100,"...")) | H28: =IF(OR('A23 data'!$AI$25="",'A23 data'!$AH$25=""),"...",IFERROR(('A23 data'!$AI$25/'A23 data'!$AH$25-1)*100,"...")) | I28: =IF(OR('A23 data'!$AJ$25="",'A23 data'!$AI$25=""),"...",IFERROR(('A23 data'!$AJ$25/'A23 data'!$AI$25-1)*100,"...")) | J28: =IF(OR('A23 data'!$AK$25="",'A23 data'!$AJ$25=""),"...",IFERROR(('A23 data'!$AK$25/'A23 data'!$AJ$25-1)*100,"..."))
A29: Australia | B29: =IF('A23 data'!$AK$26="","...",'A23 data'!$AK$26/1000) | C29: =IFERROR(IF('A23 data'!$X$26="","...",'A23 data'!$X$26/'A23 data'!$X$16*100),"...") | D29: =IFERROR(IF('A23 data'!$AC$26="","...",'A23 data'!$AC$26/'A23 data'!$AC$16*100),"...") | E29: =IFERROR(IF('A23 data'!$AH$26="","...",'A23 data'!$AH$26/'A23 data'!$AH$16*100),"...") | F29: =IFERROR(IF('A23 data'!$AK$26="","...",'A23 data'!$AK$26/'A23 data'!$AK$16*100),"...") | G29: =IF(OR('A23 data'!$AK$26="",'A23 data'!$AH$26=""),"...",IFERROR((('A23 data'!$AK$26/'A23 data'!$AH$26)^(1/3)-1)*100,"...")) | H29: =IF(OR('A23 data'!$AI$26="",'A23 data'!$AH$26=""),"...",IFERROR(('A23 data'!$AI$26/'A23 data'!$AH$26-1)*100,"...")) | I29: =IF(OR('A23 data'!$AJ$26="",'A23 data'!$AI$26=""),"...",IFERROR(('A23 data'!$AJ$26/'A23 data'!$AI$26-1)*100,"...")) | J29: =IF(OR('A23 data'!$AK$26="",'A23 data'!$AJ$26=""),"...",IFERROR(('A23 data'!$AK$26/'A23 data'!$AJ$26-1)*100,"..."))
A30: Switzerland | B30: =IF('A23 data'!$AK$27="","...",'A23 data'!$AK$27/1000) | C30: =IFERROR(IF('A23 data'!$X$27="","...",'A23 data'!$X$27/'A23 data'!$X$16*100),"...") | D30: =IFERROR(IF('A23 data'!$AC$27="","...",'A23 data'!$AC$27/'A23 data'!$AC$16*100),"...") | E30: =IFERROR(IF('A23 data'!$AH$27="","...",'A23 data'!$AH$27/'A23 data'!$AH$16*100),"...") | F30: =IFERROR(IF('A23 data'!$AK$27="","...",'A23 data'!$AK$27/'A23 data'!$AK$16*100),"...") | G30: =IF(OR('A23 data'!$AK$27="",'A23 data'!$AH$27=""),"...",IFERROR((('A23 data'!$AK$27/'A23 data'!$AH$27)^(1/3)-1)*100,"...")) | H30: =IF(OR('A23 data'!$AI$27="",'A23 data'!$AH$27=""),"...",IFERROR(('A23 data'!$AI$27/'A23 data'!$AH$27-1)*100,"...")) | I30: =IF(OR('A23 data'!$AJ$27="",'A23 data'!$AI$27=""),"...",IFERROR(('A23 data'!$AJ$27/'A23 data'!$AI$27-1)*100,"...")) | J30: =IF(OR('A23 data'!$AK$27="",'A23 data'!$AJ$27=""),"...",IFERROR(('A23 data'!$AK$27/'A23 data'!$AJ$27-1)*100,"..."))
A31: Above 10 | B31: =IFERROR(B20+B22+B23+B24+B25+B26+B27+B28+B29+B30,"...") | C31: =IFERROR(C20+C22+C23+C24+C25+C26+C27+C28+C29+C30,"...") | D31: =IFERROR(D20+D22+D23+D24+D25+D26+D27+D28+D29+D30,"...") | E31: =IFERROR(E20+E22+E23+E24+E25+E26+E27+E28+E29+E30,"...") | F31: =IFERROR(F20+F22+F23+F24+F25+F26+F27+F28+F29+F30,"...") | G31: - | H31: - | I31: - | J31: -
A33: Notes
A34: The EU is ranked as one economy; its member states are not ranked. Extra-EU (the EU's trade with non-members) is shown beneath it and is not ranked.
A35: From 2000 the EU figure is WTO's own series for today's 27 member states (EU-27), in every year, including years when the membership was different. The United Kingdom is ranked on its own.
A36: Economies ranked in 2013: 143 exporters, 151 importers.
A37: "Above 10" is the sum of the ten ranked economies. "..." means not available.
A38: Shares are of world clothing exports or imports. 2010-13 is the compound annual rate of change.
A39: Figures for every year are as WTO published them on 2026-09-29; WTO revises past figures, so they can differ from the printed review.
A40: Source: WTO Timeseries, indicators ITS_MTV_AX and ITS_MTV_AM, product MACL (SITC 84), via WTO Timeseries API v1 (api.wto.org).
A41: Blue figures on the data sheet are downloaded inputs; every figure on this sheet is a formula.

Sheet A22 data
A1: Raw data for table A22 (textiles), 2014 edition (trade data for 2013), US$ million. Source: WTO Timeseries via WTO Timeseries API v1 (api.wto.org).
A2: EU: WTO's EU-27 series from 2000; before 2000 added up from the member states of each year. Extra-EU from 2000 only.
A3: Flow | B3: Code | C3: Economy | D3: 1980 | E3: 1981 | F3: 1982 | G3: 1983 | H3: 1984 | I3: 1985 | J3: 1986 | K3: 1987 | L3: 1988 | M3: 1989 | N3: 1990 | O3: 1991 | P3: 1992 | Q3: 1993 | R3: 1994 | S3: 1995 | T3: 1996 | U3: 1997 | V3: 1998 | W3: 1999 | X3: 2000 | Y3: 2001 | Z3: 2002 | AA3: 2003 | AB3: 2004 | AC3: 2005 | AD3: 2006 | AE3: 2007 | AF3: 2008 | AG3: 2009 | AH3: 2010 | AI3: 2011 | AJ3: 2012 | AK3: 2013
A4: Exporters | B4: 000 | C4: World | D4: 54990 | M4: 95950 | N4: 104354 | O4: 108925 | P4: 117195 | Q4: 113452 | R4: 131673 | S4: 152319 | T4: 152744 | U4: 155739 | V4: 149831 | W4: 146255 | X4: 156257 | Y4: 148141 | Z4: 154385 | AA4: 173066 | AB4: 195034 | AC4: 203112 | AD4: 219196 | AE4: 239938 | AF4: 251269 | AG4: 212161 | AH4: 249168 | AI4: 290885 | AJ4: 281210 | AK4: 300956
A5: Exporters | B5: 156 | C5: China | D5: 2540 | E5: 3390 | F5: 2735 | G5: 3270 | H5: 3825 | I5: 3680 | J5: 5440 | K5: 6485 | L5: 6975 | M5: 7215 | N5: 7219 | O5: 8014 | P5: 8583 | Q5: 8699 | R5: 11818 | S5: 13918 | T5: 12112 | U5: 13828 | V5: 12817 | W5: 13043 | X5: 16135 | Y5: 16825 | Z5: 20562 | AA5: 26900 | AB5: 33428 | AC5: 41050 | AD5: 48678 | AE5: 56032 | AF5: 65367 | AG5: 59824 | AH5: 76871 | AI5: 94411 | AJ5: 95450 | AK5: 106578
A6: Exporters | B6: 918 | C6: European Union | D6: 23864 | E6: 21127 | F6: 19943 | G6: 19758 | H6: 20333 | I6: 21713 | J6: 29484 | K6: 35296 | L6: 37863 | M6: 39003 | N6: 47150 | O6: 46380 | P6: 48909 | Q6: 42475 | R6: 48079 | S6: 62200 | T6: 61480 | U6: 59178 | V6: 60365 | W6: 55395 | X6: 52129 | Y6: 51576 | Z6: 53324 | AA6: 60887 | AB6: 68041 | AC6: 65922 | AD6: 69181 | AE6: 77234 | AF6: 76844 | AG6: 59494 | AH6: 64057 | AI6: 72738 | AJ6: 65498 | AK6: 67976
A7: Exporters | B7: EUT | C7: Extra-EU | X7: 17896 | Y7: 17922 | Z7: 18702 | AA7: 20794 | AB7: 23706 | AC7: 22958 | AD7: 24223 | AE7: 26974 | AF7: 26953 | AG7: 20927 | AH7: 22720 | AI7: 25810 | AJ7: 24177 | AK7: 24987
A8: Exporters | B8: 356 | C8: India | D8: 1306 | E8: 1168 | F8: 1064 | G8: 889 | H8: 1175 | I8: 1054 | J8: 1062 | K8: 1573 | L8: 1585 | M8: 1810 | N8: 2180 | O8: 2530 | P8: 2932 | Q8: 2917 | R8: 3829 | S8: 4358 | T8: 4936 | U8: 5243 | V8: 4558 | W8: 5086 | X8: 5593 | Y8: 5523 | Z8: 5813 | AA8: 6435 | AB8: 7406 | AC8: 8331 | AD8: 8880 | AE8: 9617 | AF8: 10372 | AG8: 9111 | AH8: 12833 | AI8: 15340 | AJ8: 15274 | AK8: 18907
A9: Exporters | B9: 840 | C9: United States of America | D9: 3757 | E9: 3742 | F9: 2890 | G9: 2500 | H9: 2535 | I9: 2541 | J9: 2812 | K9: 3127 | L9: 3890 | M9: 4371 | N9: 5039 | O9: 5610 | P9: 5889 | Q9: 6025 | R9: 6592 | S9: 7372 | T9: 8008 | U9: 9187 | V9: 9205 | W9: 9504 | X9: 10947 | Y9: 10467 | Z9: 10659 | AA9: 10887 | AB9: 12027 | AC9: 12398 | AD9: 12665 | AE9: 12386 | AF9: 12470 | AG9: 9915 | AH9: 12169 | AI9: 13852 | AJ9: 13480 | AK9: 13924
A10: Exporters | B10: 792 | C10: Türkiye | D10: 343 | E10: 569 | F10: 767 | G10: 853 | H10: 1006 | I10: 1045 | J10: 935 | K10: 1208 | L10: 1340 | M10: 1331 | N10: 1440 | O10: 1429 | P10: 1619 | Q10: 1592 | R10: 2194 | S10: 2527 | T10: 2722 | U10: 3352 | V10: 3549 | W10: 3478 | X10: 3672 | Y10: 3943 | Z10: 4244 | AA10: 5262 | AB10: 6428 | AC10: 7076 | AD10: 7585 | AE10: 8942 | AF10: 9399 | AG10: 7724 | AH10: 8964 | AI10: 10772 | AJ10: 11047 | AK10: 12308
A11: Exporters | B11: 410 | C11: Korea, Republic of | D11: 2209 | E11: 2460 | F11: 2251 | G11: 2423 | H11: 2615 | I11: 2534 | J11: 3215 | K11: 4080 | L11: 4848 | M11: 5371 | N11: 6076 | O11: 7300 | P11: 8208 | Q11: 8954 | R11: 10693 | S11: 12313 | T11: 12718 | U11: 13337 | V11: 11279 | W11: 11618 | X11: 12710 | Y11: 10941 | Z11: 10945 | AA11: 10779 | AB11: 10839 | AC11: 10391 | AD11: 10110 | AE11: 10373 | AF11: 10371 | AG11: 9155 | AH11: 10968 | AI11: 12369 | AJ11: 11970 | AK11: 12043
A12: Exporters | B12: 344 | C12: Hong Kong, China | D12: 1771 | E12: 2183 | F12: 1888 | G12: 2033 | H12: 2726 | I12: 3038 | J12: 3959 | K12: 5669 | L12: 6371 | M12: 7574 | N12: 8213 | O12: 9770 | P12: 10979 | Q12: 11212 | R12: 12574 | S12: 13815 | T12: 14146 | U12: 14602 | V12: 13040 | W12: 12270 | X12: 13441 | Y12: 12213 | Z12: 12422 | AA12: 13087 | AB12: 14296 | AC12: 13830 | AD12: 13910 | AE12: 13417 | AF12: 12256 | AG12: 9976 | AH12: 11307 | AI12: 11283 | AJ12: 10546 | AK12: 10714
A13: Exporters | B13: 158 | C13: Chinese Taipei | D13: 1771 | E13: 2022 | F13: 1748 | G13: 1803 | H13: 2169 | I13: 2490 | J13: 3045 | K13: 4087 | L13: 4545 | M13: 5442 | N13: 6128 | O13: 7335 | P13: 7554 | Q13: 8160 | R13: 10242 | S13: 11861 | T13: 12024 | U13: 12750 | V13: 11123 | W13: 10863 | X13: 11891 | Y13: 9897 | Z13: 9531 | AA13: 9303 | AB13: 10038 | AC13: 9706 | AD13: 9780 | AE13: 9732 | AF13: 9253 | AG13: 7891 | AH13: 9719 | AI13: 11016 | AJ13: 10293 | AK13: 10217
A14: Exporters | B14: 586 | C14: Pakistan | D14: 876 | E14: 976 | F14: 928 | G14: 1312 | H14: 999 | I14: 970 | J14: 1264 | K14: 1854 | L14: 1803 | M14: 2018 | N14: 2663 | O14: 3200 | P14: 3590 | Q14: 3507 | R14: 3985 | S14: 4256 | T14: 4919 | U14: 4608 | V14: 4302 | W14: 4258 | X14: 4532 | Y14: 4525 | Z14: 4790 | AA14: 5811 | AB14: 6125 | AC14: 7087 | AD14: 7469 | AE14: 7371 | AF14: 7186 | AG14: 6510 | AH14: 7848 | AI14: 9082 | AJ14: 8705 | AK14: 9341
A15: Exporters | B15: 392 | C15: Japan | D15: 5123 | E15: 5869 | F15: 5102 | G15: 5345 | H15: 5358 | I15: 4943 | J15: 5488 | K15: 5597 | L15: 5527 | M15: 5534 | N15: 5871 | O15: 6527 | P15: 7078 | Q15: 6717 | R15: 6780 | S15: 7178 | T15: 6927 | U15: 6751 | V15: 5971 | W15: 6598 | X15: 7023 | Y15: 6197 | Z15: 6030 | AA15: 6431 | AB15: 7138 | AC15: 6905 | AD15: 6934 | AE15: 7108 | AF15: 7340 | AG15: 6109 | AH15: 7086 | AI15: 8035 | AJ15: 7820 | AK15: 6843
A16: Importers | B16: 000 | C16: World | D16: 56975 | I16: 55618 | N16: 107839 | O16: 114665 | P16: 123584 | Q16: 118287 | R16: 135585 | S16: 156515 | T16: 157848 | U16: 160869 | V16: 155336 | W16: 153303 | X16: 165331 | Y16: 156743 | Z16: 163350 | AA16: 183116 | AB16: 206359 | AC16: 214906 | AD16: 231924 | AE16: 253871 | AF16: 265860 | AG16: 224481 | AH16: 216583 | AI16: 251210 | AJ16: 239275 | AK16: 251197
A17: Importers | B17: 918 | C17: European Union | D17: 22886 | E17: 19199 | F17: 18414 | G17: 18191 | H17: 18605 | I17: 19758 | J17: 26864 | K17: 33081 | L17: 35975 | M17: 37346 | N17: 45999 | O17: 45443 | P17: 47101 | Q17: 36078 | R17: 41930 | S17: 53221 | T17: 52480 | U17: 51481 | V17: 54154 | W17: 48987 | X17: 49070 | Y17: 48471 | Z17: 49422 | AA17: 57318 | AB17: 63338 | AC17: 62681 | AD17: 66513 | AE17: 74639 | AF17: 74850 | AG17: 58067 | AH17: 63591 | AI17: 73300 | AJ17: 63576 | AK17: 67106
A18: Importers | B18: EUT | C18: Extra-EU | X18: 15934 | Y18: 15608 | Z18: 15778 | AA18: 18270 | AB18: 20632 | AC18: 21165 | AD18: 23289 | AE18: 26769 | AF18: 27347 | AG18: 21901 | AH18: 25651 | AI18: 30227 | AJ18: 25842 | AK18: 27694
A19: Importers | B19: 840 | C19: United States of America | D19: 2542 | E19: 3072 | F19: 2852 | G19: 3276 | H19: 4617 | I19: 4977 | J19: 5838 | K19: 6512 | L19: 6279 | M19: 6417 | N19: 6730 | O19: 7329 | P19: 8215 | Q19: 8855 | R19: 9658 | S19: 10441 | T19: 10692 | U19: 12449 | V19: 13444 | W19: 14277 | X19: 15191 | Y19: 14632 | Z19: 16952 | AA19: 18253 | AB19: 20662 | AC19: 22534 | AD19: 23498 | AE19: 24089 | AF19: 23128 | AG19: 19211 | AH19: 23379 | AI19: 25363 | AJ19: 25948 | AK19: 27022
A20: Importers | B20: 156 | C20: China | D20: 1100 | E20: 1670 | F20: 1170 | G20: 911 | H20: 1370 | I20: 2040 | J20: 3160 | K20: 3589 | L20: 4219 | M20: 4603 | N20: 5292 | O20: 6751 | P20: 7560 | Q20: 7645 | R20: 9347 | S20: 10914 | T20: 11980 | U20: 12267 | V20: 11082 | W20: 11079 | X20: 12832 | Y20: 12573 | Z20: 13060 | AA20: 14217 | AB20: 15304 | AC20: 15503 | AD20: 16358 | AE20: 16645 | AF20: 16289 | AG20: 14945 | AH20: 17679 | AI20: 18901 | AJ20: 19810 | AK20: 21563
A21: Importers | B21: 704 | C21: Viet Nam | U21: 711 | V21: 902 | W21: 1075 | X21: 1379 | Y21: 1291 | Z21: 2071 | AA21: 2441 | AB21: 2941 | AC21: 3435 | AD21: 3988 | AE21: 5139 | AF21: 5703 | AG21: 5469 | AH21: 7042 | AI21: 8702 | AJ21: 9075 | AK21: 10633
A22: Importers | B22: 344 | C22: Hong Kong, China | D22: 2967 | E22: 3428 | F22: 2970 | G22: 3278 | H22: 4178 | I22: 4281 | J22: 5418 | K22: 7304 | L22: 8007 | M22: 9218 | N22: 10182 | O22: 12068 | P22: 13091 | Q22: 12784 | R22: 15294 | S22: 16859 | T22: 16515 | U22: 16205 | V22: 13483 | W22: 12561 | X22: 13716 | Y22: 12176 | Z22: 12065 | AA22: 12931 | AB22: 14110 | AC22: 13793 | AD22: 13975 | AE22: 13559 | AF22: 12313 | AG22: 9964 | AH22: 11265 | AI22: 11049 | AJ22: 10364 | AK22: 10411
A23: Importers | B23: 392 | C23: Japan | D23: 1722 | E23: 1639 | F23: 1612 | G23: 1496 | H23: 1934 | I23: 1900 | J23: 2185 | K23: 2994 | L23: 3934 | M23: 4347 | N23: 4133 | O23: 4331 | P23: 4175 | Q23: 3933 | R23: 5152 | S23: 5985 | T23: 6075 | U23: 5801 | V23: 4354 | W23: 4543 | X23: 4936 | Y23: 4753 | Z23: 4532 | AA23: 5031 | AB23: 5599 | AC23: 5812 | AD23: 6179 | AE23: 6302 | AF23: 6925 | AG23: 6742 | AH23: 7197 | AI23: 9195 | AJ23: 9011 | AK23: 8766
A24: Importers | B24: 826 | C24: United Kingdom | D24: 3560 | E24: 3508 | F24: 3343 | G24: 3483 | H24: 3589 | I24: 3869 | J24: 4602 | K24: 5703 | L24: 6473 | M24: 6171 | N24: 7018 | O24: 6604 | P24: 6939 | Q24: 5569 | R24: 6645 | S24: 7262 | T24: 7808 | U24: 8376 | V24: 8341 | W24: 7476 | X24: 7265 | Y24: 6782 | Z24: 6870 | AA24: 7275 | AB24: 8195 | AC24: 7614 | AD24: 7946 | AE24: 8672 | AF24: 8112 | AG24: 6357 | AH24: 7164 | AI24: 7967 | AJ24: 6952 | AK24: 7503
A25: Importers | B25: 792 | C25: Türkiye | D25: 80 | E25: 78 | F25: 103 | G25: 98 | H25: 117 | I25: 145 | J25: 159 | K25: 202 | L25: 257 | M25: 293 | N25: 567 | O25: 537 | P25: 707 | Q25: 1011 | R25: 1110 | S25: 1811 | T25: 1933 | U25: 2324 | V25: 2317 | W25: 1907 | X25: 2124 | Y25: 1921 | Z25: 2839 | AA25: 3441 | AB25: 4170 | AC25: 4441 | AD25: 4686 | AE25: 6009 | AF25: 5646 | AG25: 4718 | AH25: 6540 | AI25: 7557 | AJ25: 6441 | AK25: 7010
A26: Importers | B26: 484 | C26: Mexico | D26: 133 | N26: 992 | O26: 1230 | P26: 1532 | Q26: 1900 | R26: 2147 | S26: 1768 | T26: 2220 | U26: 2868 | V26: 3433 | W26: 4837 | X26: 5822 | Y26: 5383 | Z26: 5571 | AA26: 5457 | AB26: 5752 | AC26: 6043 | AD26: 5951 | AE26: 5640 | AF26: 5366 | AG26: 4197 | AH26: 5150 | AI26: 5859 | AJ26: 6003 | AK26: 6180
A27: Importers | B27: 050 | C27: Bangladesh | D27: 93 | E27: 105 | F27: 70 | G27: 73 | H27: 128 | I27: 142 | J27: 128 | K27: 256 | L27: 261 | M27: 297 | N27: 452 | O27: 490 | P27: 630 | Q27: 675 | S27: 1481 | T27: 1380 | U27: 998 | V27: 1522 | W27: 1342 | X27: 1350 | Y27: 1518 | Z27: 1343 | AA27: 1548 | AB27: 1985 | AC27: 2425 | AD27: 1738 | AE27: 2306 | AF27: 3024 | AG27: 2838 | AH27: 4471 | AI27: 6610 | AJ27: 5834 | AK27: 6167

Sheet A23 data
A1: Raw data for table A23 (clothing), 2014 edition (trade data for 2013), US$ million. Source: WTO Timeseries via WTO Timeseries API v1 (api.wto.org).
A2: EU: WTO's EU-27 series from 2000; before 2000 added up from the member states of each year. Extra-EU from 2000 only.
A3: Flow | B3: Code | C3: Economy | D3: 1980 | E3: 1981 | F3: 1982 | G3: 1983 | H3: 1984 | I3: 1985 | J3: 1986 | K3: 1987 | L3: 1988 | M3: 1989 | N3: 1990 | O3: 1991 | P3: 1992 | Q3: 1993 | R3: 1994 | S3: 1995 | T3: 1996 | U3: 1997 | V3: 1998 | W3: 1999 | X3: 2000 | Y3: 2001 | Z3: 2002 | AA3: 2003 | AB3: 2004 | AC3: 2005 | AD3: 2006 | AE3: 2007 | AF3: 2008 | AG3: 2009 | AH3: 2010 | AI3: 2011 | AJ3: 2012 | AK3: 2013
A4: Exporters | B4: 000 | C4: World | D4: 40590 | M4: 97450 | N4: 108129 | O4: 117160 | P4: 132106 | Q4: 128792 | R4: 140757 | S4: 158353 | T4: 166077 | U4: 177616 | V4: 185963 | W4: 184587 | X4: 197723 | Y4: 194364 | Z4: 203726 | AA4: 233281 | AB4: 260436 | AC4: 278465 | AD4: 310876 | AE4: 349061 | AF4: 365091 | AG4: 318214 | AH4: 351640 | AI4: 414156 | AJ4: 412664 | AK4: 452526
A5: Exporters | B5: 156 | C5: China | D5: 1625 | E5: 1930 | F5: 2140 | G5: 2320 | H5: 2755 | I5: 2450 | J5: 4050 | K5: 5790 | L5: 6990 | M5: 8165 | N5: 9669 | O5: 12245 | P5: 16704 | Q5: 18441 | R5: 23731 | S5: 24049 | T5: 25034 | U5: 31803 | V5: 30048 | W5: 30078 | X5: 36071 | Y5: 36650 | Z5: 41302 | AA5: 52061 | AB5: 61856 | AC5: 74163 | AD5: 95379 | AE5: 115520 | AF5: 120405 | AG5: 107264 | AH5: 129820 | AI5: 153774 | AJ5: 159614 | AK5: 177435
A6: Exporters | B6: 918 | C6: European Union | D6: 14026 | E6: 12883 | F6: 12592 | G6: 12575 | H6: 13092 | I6: 14445 | J6: 22006 | K6: 27247 | L6: 28204 | M6: 29629 | N6: 37900 | O6: 39455 | P6: 43202 | Q6: 34978 | R6: 38271 | S6: 48458 | T6: 52628 | U6: 50697 | V6: 52821 | W6: 50227 | X6: 52174 | Y6: 55147 | Z6: 59121 | AA6: 70246 | AB6: 79142 | AC6: 81482 | AD6: 87218 | AE6: 100347 | AF6: 109596 | AG6: 93726 | AH6: 95372 | AI6: 111043 | AJ6: 103178 | AK6: 111444
A7: Exporters | B7: EUT | C7: Extra-EU | X7: 16024 | Y7: 17048 | Z7: 18263 | AA7: 20801 | AB7: 23057 | AC7: 23971 | AD7: 25972 | AE7: 30135 | AF7: 32706 | AG7: 25982 | AH7: 26662 | AI7: 33019 | AJ7: 33334 | AK7: 36275
A8: Exporters | B8: 050 | C8: Bangladesh | D8: 2 | E8: 5 | F8: 11 | G8: 21 | H8: 77 | I8: 168 | J8: 236 | K8: 416 | L8: 416 | M8: 440 | N8: 643 | O8: 840 | P8: 1042 | Q8: 1307 | R8: 1479 | S8: 1969 | T8: 2218 | U8: 2688 | V8: 3786 | W8: 3868 | X8: 5067 | Y8: 4772 | Z8: 4818 | AA8: 5654 | AB8: 6296 | AC8: 6890 | AD8: 8318 | AE8: 8855 | AF8: 11672 | AG8: 11892 | AH8: 14855 | AI8: 19214 | AJ8: 19380 | AK8: 23501
A9: Exporters | B9: 344 | C9: Hong Kong, China | D9: 4976 | E9: 5424 | F9: 5241 | G9: 5308 | H9: 6765 | I9: 6718 | J9: 8398 | K9: 10720 | L9: 11786 | M9: 13994 | N9: 15406 | O9: 17959 | P9: 20060 | Q9: 20998 | R9: 21404 | S9: 21297 | T9: 21976 | U9: 23108 | V9: 22164 | W9: 22371 | X9: 24214 | Y9: 23446 | Z9: 22430 | AA9: 23158 | AB9: 25097 | AC9: 27292 | AD9: 28391 | AE9: 28765 | AF9: 27908 | AG9: 22826 | AH9: 24049 | AI9: 24505 | AJ9: 22573 | AK9: 21922
A10: Exporters | B10: 704 | C10: Viet Nam | U10: 1384 | V10: 1302 | W10: 1622 | X10: 1821 | Y10: 1867 | Z10: 2633 | AA10: 3465 | AB10: 4250 | AC10: 4681 | AD10: 5579 | AE10: 7400 | AF10: 8724 | AG10: 8540 | AH10: 10390 | AI10: 13149 | AJ10: 14443 | AK10: 17148
A11: Exporters | B11: 356 | C11: India | D11: 673 | E11: 755 | F11: 625 | G11: 694 | H11: 831 | I11: 930 | J11: 1061 | K11: 1402 | L11: 1508 | M11: 2060 | N11: 2530 | O11: 2527 | P11: 3099 | Q11: 2970 | R11: 3701 | S11: 4110 | T11: 4217 | U11: 4343 | V11: 4782 | W11: 5153 | X11: 5965 | Y11: 5488 | Z11: 5832 | AA11: 6315 | AB11: 6926 | AC11: 8739 | AD11: 9564 | AE11: 9930 | AF11: 10968 | AG11: 12005 | AH11: 11229 | AI11: 14672 | AJ11: 13833 | AK11: 16843
A12: Exporters | B12: 792 | C12: Türkiye | D12: 131 | E12: 314 | F12: 398 | G12: 648 | H12: 1267 | I12: 1208 | J12: 1245 | K12: 2197 | L12: 2352 | M12: 2741 | N12: 3331 | O12: 3478 | P12: 4179 | Q12: 4339 | R12: 4582 | S12: 6119 | T12: 6067 | U12: 6697 | V12: 7058 | W12: 6516 | X12: 6533 | Y12: 6661 | Z12: 8057 | AA12: 9962 | AB12: 11193 | AC12: 11833 | AD12: 12052 | AE12: 13886 | AF12: 13591 | AG12: 11556 | AH12: 12760 | AI12: 13948 | AJ12: 14276 | AK12: 15850
A13: Exporters | B13: 826 | C13: United Kingdom | D13: 1806 | E13: 1707 | F13: 1467 | G13: 1311 | H13: 1336 | I13: 1516 | J13: 1800 | K13: 2348 | L13: 2520 | M13: 2362 | N13: 3042 | O13: 3392 | P13: 3659 | Q13: 3024 | R13: 3759 | S13: 4315 | T13: 4886 | U13: 5180 | V13: 4974 | W13: 4582 | X13: 4066 | Y13: 3637 | Z13: 3800 | AA13: 4469 | AB13: 5138 | AC13: 4976 | AD13: 5358 | AE13: 6222 | AF13: 6120 | AG13: 5228 | AH13: 5597 | AI13: 6759 | AJ13: 6765 | AK13: 7962
A14: Exporters | B14: 360 | C14: Indonesia | D14: 98 | E14: 95 | F14: 117 | G14: 157 | H14: 296 | I14: 339 | J14: 522 | K14: 596 | L14: 797 | M14: 1146 | N14: 1646 | O14: 2265 | P14: 3164 | Q14: 3502 | R14: 3206 | S14: 3376 | T14: 3591 | U14: 2904 | V14: 2630 | W14: 3857 | X14: 4734 | Y14: 4531 | Z14: 3875 | AA14: 4052 | AB14: 4285 | AC14: 4959 | AD14: 5760 | AE14: 5870 | AF14: 6285 | AG14: 5915 | AH14: 6820 | AI14: 8045 | AJ14: 7524 | AK14: 7692
A15: Exporters | B15: 840 | C15: United States of America | D15: 1263 | E15: 1305 | F15: 1040 | G15: 928 | H15: 900 | I15: 785 | J15: 949 | K15: 1209 | L15: 1640 | M15: 2211 | N15: 2565 | O15: 3316 | P15: 4211 | Q15: 4952 | R15: 5616 | S15: 6651 | T15: 7511 | U15: 8672 | V15: 8793 | W15: 8269 | X15: 8646 | Y15: 6990 | Z15: 6031 | AA15: 5535 | AB15: 5072 | AC15: 5006 | AD15: 4876 | AE15: 4297 | AF15: 4457 | AG15: 4180 | AH15: 4694 | AI15: 5241 | AJ15: 5607 | AK15: 5858
A16: Importers | B16: 000 | C16: World | D16: 42271 | I16: 50822 | N16: 112236 | O16: 123751 | P16: 139571 | Q16: 135297 | R16: 145326 | S16: 162871 | T16: 171461 | U16: 182974 | V16: 191796 | W16: 191972 | X16: 203054 | Y16: 200324 | Z16: 208746 | AA16: 233962 | AB16: 264786 | AC16: 279459 | AD16: 324955 | AE16: 364869 | AF16: 381625 | AG16: 332625 | AH16: 337793 | AI16: 391251 | AJ16: 379130 | AK16: 393767
A17: Importers | B17: 918 | C17: European Union | D17: 20232 | E17: 17938 | F17: 16975 | G17: 16317 | H17: 16790 | I17: 17511 | J17: 25656 | K17: 34459 | L17: 37064 | M17: 38389 | N17: 50682 | O17: 58313 | P17: 63625 | Q17: 54644 | R17: 57417 | S17: 70668 | T17: 74566 | U17: 73861 | V17: 78416 | W17: 77119 | X17: 66309 | Y17: 67537 | Z17: 71454 | AA17: 86347 | AB17: 98238 | AC17: 104467 | AD17: 115209 | AE17: 132724 | AF17: 148284 | AG17: 133617 | AH17: 139428 | AI17: 160326 | AJ17: 143035 | AK17: 149757
A18: Importers | B18: EUT | C18: Extra-EU | X18: 33296 | Y18: 33036 | Z18: 35023 | AA18: 42777 | AB18: 49549 | AC18: 54260 | AD18: 62172 | AE18: 71180 | AF18: 79639 | AG18: 72978 | AH18: 78813 | AI18: 91387 | AJ18: 80639 | AK18: 82989
A19: Importers | B19: 840 | C19: United States of America | D19: 6943 | E19: 8118 | F19: 8791 | G19: 10418 | H19: 14598 | I19: 16201 | J19: 18692 | K19: 22116 | L19: 23061 | M19: 26026 | N19: 26977 | O19: 27696 | P19: 32951 | Q19: 35605 | R19: 38643 | S19: 41367 | T19: 43317 | U19: 50297 | V19: 55720 | W19: 58785 | X19: 64296 | Y19: 63856 | Z19: 66724 | AA19: 71282 | AB19: 75737 | AC19: 80074 | AD19: 82972 | AE19: 84853 | AF19: 82466 | AG19: 72064 | AH19: 81942 | AI19: 88605 | AJ19: 87957 | AK19: 90957
A20: Importers | B20: 392 | C20: Japan | D20: 1537 | E20: 1813 | F20: 1844 | G20: 1511 | H20: 1962 | I20: 2012 | J20: 2878 | K20: 4674 | L20: 6739 | M20: 8972 | N20: 8765 | O20: 9392 | P20: 11191 | Q20: 12588 | R20: 15265 | S20: 18758 | T20: 19672 | U20: 16727 | V20: 14723 | W20: 16402 | X20: 19711 | Y20: 19185 | Z20: 17602 | AA20: 19485 | AB20: 21688 | AC20: 22541 | AD20: 23870 | AE20: 23999 | AF20: 25793 | AG20: 25552 | AH20: 26874 | AI20: 32945 | AJ20: 33952 | AK20: 33632
A21: Importers | B21: 826 | C21: United Kingdom | D21: 2857 | E21: 2888 | F21: 2625 | G21: 2428 | H21: 2700 | I21: 2694 | J21: 3499 | K21: 4562 | L21: 5540 | M21: 5799 | N21: 6961 | O21: 7295 | P21: 7886 | Q21: 6625 | R21: 7297 | S21: 8002 | T21: 9383 | U21: 10896 | V21: 11941 | W21: 12355 | X21: 15178 | Y21: 15589 | Z21: 17687 | AA21: 20231 | AB21: 23101 | AC21: 24380 | AD21: 25819 | AE21: 28428 | AF21: 28702 | AG21: 25170 | AH21: 26424 | AI21: 29421 | AJ21: 25051 | AK21: 26390
A22: Importers | B22: 344 | C22: Hong Kong, China | D22: 695 | E22: 932 | F22: 1061 | G22: 1156 | H22: 1472 | I22: 1671 | J22: 2525 | K22: 3338 | L22: 4102 | M22: 5700 | N22: 6913 | O22: 8600 | P22: 10346 | Q22: 11806 | R22: 12457 | S22: 12654 | T22: 13630 | U22: 15019 | V22: 14297 | W22: 14757 | X22: 16008 | Y22: 16098 | Z22: 15701 | AA22: 15950 | AB22: 17129 | AC22: 18437 | AD22: 18852 | AE22: 19149 | AF22: 18546 | AG22: 15508 | AH22: 16645 | AI22: 17248 | AJ22: 16338 | AK22: 16448
A23: Importers | B23: 124 | C23: Canada | D23: 715 | E23: 844 | F23: 841 | G23: 1027 | H23: 1296 | I23: 1285 | J23: 1534 | K23: 1770 | L23: 1913 | M23: 2179 | N23: 2388 | O23: 2207 | P23: 2433 | Q23: 2510 | R23: 2518 | S23: 2688 | T23: 2546 | U23: 3017 | V23: 3269 | W23: 3282 | X23: 3690 | Y23: 3930 | Z23: 4012 | AA23: 4503 | AB23: 5227 | AC23: 5975 | AD23: 6825 | AE23: 7614 | AF23: 8251 | AG23: 7557 | AH23: 8314 | AI23: 9526 | AJ23: 9371 | AK23: 9951
A24: Importers | B24: 643 | C24: Russian Federation | R24: 1116 | S24: 678 | T24: 427 | U24: 458 | V24: 295 | W24: 148 | X24: 198 | Y24: 378 | Z24: 620 | AA24: 597 | AB24: 747 | AC24: 931 | AD24: 1719 | AE24: 3182 | AF24: 4716 | AG24: 4075 | AH24: 7541 | AI24: 9238 | AJ24: 9245 | AK24: 9014
A25: Importers | B25: 410 | C25: Korea, Republic of | D25: 14 | E25: 10 | F25: 12 | G25: 13 | H25: 15 | I25: 16 | J25: 22 | K25: 22 | L25: 35 | M25: 83 | N25: 151 | O25: 186 | P25: 270 | Q25: 360 | R25: 694 | S25: 1073 | T25: 1507 | U25: 1394 | V25: 504 | W25: 763 | X25: 1307 | Y25: 1631 | Z25: 2256 | AA25: 2547 | AB25: 2747 | AC25: 2913 | AD25: 3744 | AE25: 4318 | AF25: 4223 | AG25: 3379 | AH25: 4443 | AI25: 6110 | AJ25: 6267 | AK25: 7535
A26: Importers | B26: 036 | C26: Australia | D26: 331 | E26: 413 | F26: 417 | G26: 331 | H26: 414 | I26: 396 | J26: 410 | K26: 487 | L26: 548 | M26: 656 | N26: 711 | O26: 798 | P26: 885 | Q26: 987 | R26: 1134 | S26: 1262 | T26: 1411 | U26: 1519 | V26: 1519 | W26: 1659 | X26: 1858 | Y26: 1638 | Z26: 1819 | AA26: 2190 | AB26: 2666 | AC26: 3120 | AD26: 3279 | AE26: 3703 | AF26: 4280 | AG26: 4058 | AH26: 4832 | AI26: 5838 | AJ26: 6080 | AK26: 6257
A27: Importers | B27: 756 | C27: Switzerland | D27: 1456 | E27: 1370 | F27: 1372 | G27: 1376 | H27: 1443 | I27: 1475 | J27: 2101 | K27: 2749 | L27: 2826 | M27: 2800 | N27: 3437 | O27: 3545 | P27: 3563 | Q27: 3326 | R27: 3469 | S27: 3821 | T27: 3685 | U27: 3403 | V27: 3528 | W27: 3410 | X27: 3187 | Y27: 3231 | Z27: 3466 | AA27: 3985 | AB27: 4358 | AC27: 4449 | AD27: 4650 | AE27: 5173 | AF27: 5768 | AG27: 5237 | AH27: 5288 | AI27: 6139 | AJ27: 5721 | AK27: 5904
