Workbook

Sheet A22 textiles
A1: Table A22, 2010 edition (trade data for 2009)
A2: Top 10 exporters and importers of textiles, 2009
A3: (Billion dollars and percentage)
A5: Economy | B5: Value 2009 (US$ bn) | C5: Share 1990 (%) | D5: Share 1995 (%) | E5: Share 2000 (%) | F5: Share 2009 (%) | G5: Change 2000-09 (% p.a.) | H5: Change 2007 (%) | I5: Change 2008 (%) | J5: Change 2009 (%)
A6: Exporters
A7: China | B7: =IF('A22 data'!$AG$5="","...",'A22 data'!$AG$5/1000) | C7: =IFERROR(IF('A22 data'!$N$5="","...",'A22 data'!$N$5/'A22 data'!$N$4*100),"...") | D7: =IFERROR(IF('A22 data'!$S$5="","...",'A22 data'!$S$5/'A22 data'!$S$4*100),"...") | E7: =IFERROR(IF('A22 data'!$X$5="","...",'A22 data'!$X$5/'A22 data'!$X$4*100),"...") | F7: =IFERROR(IF('A22 data'!$AG$5="","...",'A22 data'!$AG$5/'A22 data'!$AG$4*100),"...") | G7: =IF(OR('A22 data'!$AG$5="",'A22 data'!$X$5=""),"...",IFERROR((('A22 data'!$AG$5/'A22 data'!$X$5)^(1/9)-1)*100,"...")) | H7: =IF(OR('A22 data'!$AE$5="",'A22 data'!$AD$5=""),"...",IFERROR(('A22 data'!$AE$5/'A22 data'!$AD$5-1)*100,"...")) | I7: =IF(OR('A22 data'!$AF$5="",'A22 data'!$AE$5=""),"...",IFERROR(('A22 data'!$AF$5/'A22 data'!$AE$5-1)*100,"...")) | J7: =IF(OR('A22 data'!$AG$5="",'A22 data'!$AF$5=""),"...",IFERROR(('A22 data'!$AG$5/'A22 data'!$AF$5-1)*100,"..."))
A8: European Union | B8: =IF('A22 data'!$AG$6="","...",'A22 data'!$AG$6/1000) | C8: =IFERROR(IF('A22 data'!$N$6="","...",'A22 data'!$N$6/'A22 data'!$N$4*100),"...") | D8: =IFERROR(IF('A22 data'!$S$6="","...",'A22 data'!$S$6/'A22 data'!$S$4*100),"...") | E8: =IFERROR(IF('A22 data'!$X$6="","...",'A22 data'!$X$6/'A22 data'!$X$4*100),"...") | F8: =IFERROR(IF('A22 data'!$AG$6="","...",'A22 data'!$AG$6/'A22 data'!$AG$4*100),"...") | G8: =IF(OR('A22 data'!$AG$6="",'A22 data'!$X$6=""),"...",IFERROR((('A22 data'!$AG$6/'A22 data'!$X$6)^(1/9)-1)*100,"...")) | H8: =IF(OR('A22 data'!$AE$6="",'A22 data'!$AD$6=""),"...",IFERROR(('A22 data'!$AE$6/'A22 data'!$AD$6-1)*100,"...")) | I8: =IF(OR('A22 data'!$AF$6="",'A22 data'!$AE$6=""),"...",IFERROR(('A22 data'!$AF$6/'A22 data'!$AE$6-1)*100,"...")) | J8: =IF(OR('A22 data'!$AG$6="",'A22 data'!$AF$6=""),"...",IFERROR(('A22 data'!$AG$6/'A22 data'!$AF$6-1)*100,"..."))
A9: Extra-EU | B9: =IF('A22 data'!$AG$7="","...",'A22 data'!$AG$7/1000) | C9: =IFERROR(IF('A22 data'!$N$7="","...",'A22 data'!$N$7/'A22 data'!$N$4*100),"...") | D9: =IFERROR(IF('A22 data'!$S$7="","...",'A22 data'!$S$7/'A22 data'!$S$4*100),"...") | E9: =IFERROR(IF('A22 data'!$X$7="","...",'A22 data'!$X$7/'A22 data'!$X$4*100),"...") | F9: =IFERROR(IF('A22 data'!$AG$7="","...",'A22 data'!$AG$7/'A22 data'!$AG$4*100),"...") | G9: =IF(OR('A22 data'!$AG$7="",'A22 data'!$X$7=""),"...",IFERROR((('A22 data'!$AG$7/'A22 data'!$X$7)^(1/9)-1)*100,"...")) | H9: =IF(OR('A22 data'!$AE$7="",'A22 data'!$AD$7=""),"...",IFERROR(('A22 data'!$AE$7/'A22 data'!$AD$7-1)*100,"...")) | I9: =IF(OR('A22 data'!$AF$7="",'A22 data'!$AE$7=""),"...",IFERROR(('A22 data'!$AF$7/'A22 data'!$AE$7-1)*100,"...")) | J9: =IF(OR('A22 data'!$AG$7="",'A22 data'!$AF$7=""),"...",IFERROR(('A22 data'!$AG$7/'A22 data'!$AF$7-1)*100,"..."))
A10: Hong Kong, China | B10: =IF('A22 data'!$AG$8="","...",'A22 data'!$AG$8/1000) | C10: =IFERROR(IF('A22 data'!$N$8="","...",'A22 data'!$N$8/'A22 data'!$N$4*100),"...") | D10: =IFERROR(IF('A22 data'!$S$8="","...",'A22 data'!$S$8/'A22 data'!$S$4*100),"...") | E10: =IFERROR(IF('A22 data'!$X$8="","...",'A22 data'!$X$8/'A22 data'!$X$4*100),"...") | F10: =IFERROR(IF('A22 data'!$AG$8="","...",'A22 data'!$AG$8/'A22 data'!$AG$4*100),"...") | G10: =IF(OR('A22 data'!$AG$8="",'A22 data'!$X$8=""),"...",IFERROR((('A22 data'!$AG$8/'A22 data'!$X$8)^(1/9)-1)*100,"...")) | H10: =IF(OR('A22 data'!$AE$8="",'A22 data'!$AD$8=""),"...",IFERROR(('A22 data'!$AE$8/'A22 data'!$AD$8-1)*100,"...")) | I10: =IF(OR('A22 data'!$AF$8="",'A22 data'!$AE$8=""),"...",IFERROR(('A22 data'!$AF$8/'A22 data'!$AE$8-1)*100,"...")) | J10: =IF(OR('A22 data'!$AG$8="",'A22 data'!$AF$8=""),"...",IFERROR(('A22 data'!$AG$8/'A22 data'!$AF$8-1)*100,"..."))
A11: United States of America | B11: =IF('A22 data'!$AG$9="","...",'A22 data'!$AG$9/1000) | C11: =IFERROR(IF('A22 data'!$N$9="","...",'A22 data'!$N$9/'A22 data'!$N$4*100),"...") | D11: =IFERROR(IF('A22 data'!$S$9="","...",'A22 data'!$S$9/'A22 data'!$S$4*100),"...") | E11: =IFERROR(IF('A22 data'!$X$9="","...",'A22 data'!$X$9/'A22 data'!$X$4*100),"...") | F11: =IFERROR(IF('A22 data'!$AG$9="","...",'A22 data'!$AG$9/'A22 data'!$AG$4*100),"...") | G11: =IF(OR('A22 data'!$AG$9="",'A22 data'!$X$9=""),"...",IFERROR((('A22 data'!$AG$9/'A22 data'!$X$9)^(1/9)-1)*100,"...")) | H11: =IF(OR('A22 data'!$AE$9="",'A22 data'!$AD$9=""),"...",IFERROR(('A22 data'!$AE$9/'A22 data'!$AD$9-1)*100,"...")) | I11: =IF(OR('A22 data'!$AF$9="",'A22 data'!$AE$9=""),"...",IFERROR(('A22 data'!$AF$9/'A22 data'!$AE$9-1)*100,"...")) | J11: =IF(OR('A22 data'!$AG$9="",'A22 data'!$AF$9=""),"...",IFERROR(('A22 data'!$AG$9/'A22 data'!$AF$9-1)*100,"..."))
A12: Korea, Republic of | B12: =IF('A22 data'!$AG$10="","...",'A22 data'!$AG$10/1000) | C12: =IFERROR(IF('A22 data'!$N$10="","...",'A22 data'!$N$10/'A22 data'!$N$4*100),"...") | D12: =IFERROR(IF('A22 data'!$S$10="","...",'A22 data'!$S$10/'A22 data'!$S$4*100),"...") | E12: =IFERROR(IF('A22 data'!$X$10="","...",'A22 data'!$X$10/'A22 data'!$X$4*100),"...") | F12: =IFERROR(IF('A22 data'!$AG$10="","...",'A22 data'!$AG$10/'A22 data'!$AG$4*100),"...") | G12: =IF(OR('A22 data'!$AG$10="",'A22 data'!$X$10=""),"...",IFERROR((('A22 data'!$AG$10/'A22 data'!$X$10)^(1/9)-1)*100,"...")) | H12: =IF(OR('A22 data'!$AE$10="",'A22 data'!$AD$10=""),"...",IFERROR(('A22 data'!$AE$10/'A22 data'!$AD$10-1)*100,"...")) | I12: =IF(OR('A22 data'!$AF$10="",'A22 data'!$AE$10=""),"...",IFERROR(('A22 data'!$AF$10/'A22 data'!$AE$10-1)*100,"...")) | J12: =IF(OR('A22 data'!$AG$10="",'A22 data'!$AF$10=""),"...",IFERROR(('A22 data'!$AG$10/'A22 data'!$AF$10-1)*100,"..."))
A13: India | B13: =IF('A22 data'!$AG$11="","...",'A22 data'!$AG$11/1000) | C13: =IFERROR(IF('A22 data'!$N$11="","...",'A22 data'!$N$11/'A22 data'!$N$4*100),"...") | D13: =IFERROR(IF('A22 data'!$S$11="","...",'A22 data'!$S$11/'A22 data'!$S$4*100),"...") | E13: =IFERROR(IF('A22 data'!$X$11="","...",'A22 data'!$X$11/'A22 data'!$X$4*100),"...") | F13: =IFERROR(IF('A22 data'!$AG$11="","...",'A22 data'!$AG$11/'A22 data'!$AG$4*100),"...") | G13: =IF(OR('A22 data'!$AG$11="",'A22 data'!$X$11=""),"...",IFERROR((('A22 data'!$AG$11/'A22 data'!$X$11)^(1/9)-1)*100,"...")) | H13: =IF(OR('A22 data'!$AE$11="",'A22 data'!$AD$11=""),"...",IFERROR(('A22 data'!$AE$11/'A22 data'!$AD$11-1)*100,"...")) | I13: =IF(OR('A22 data'!$AF$11="",'A22 data'!$AE$11=""),"...",IFERROR(('A22 data'!$AF$11/'A22 data'!$AE$11-1)*100,"...")) | J13: =IF(OR('A22 data'!$AG$11="",'A22 data'!$AF$11=""),"...",IFERROR(('A22 data'!$AG$11/'A22 data'!$AF$11-1)*100,"..."))
A14: Chinese Taipei | B14: =IF('A22 data'!$AG$12="","...",'A22 data'!$AG$12/1000) | C14: =IFERROR(IF('A22 data'!$N$12="","...",'A22 data'!$N$12/'A22 data'!$N$4*100),"...") | D14: =IFERROR(IF('A22 data'!$S$12="","...",'A22 data'!$S$12/'A22 data'!$S$4*100),"...") | E14: =IFERROR(IF('A22 data'!$X$12="","...",'A22 data'!$X$12/'A22 data'!$X$4*100),"...") | F14: =IFERROR(IF('A22 data'!$AG$12="","...",'A22 data'!$AG$12/'A22 data'!$AG$4*100),"...") | G14: =IF(OR('A22 data'!$AG$12="",'A22 data'!$X$12=""),"...",IFERROR((('A22 data'!$AG$12/'A22 data'!$X$12)^(1/9)-1)*100,"...")) | H14: =IF(OR('A22 data'!$AE$12="",'A22 data'!$AD$12=""),"...",IFERROR(('A22 data'!$AE$12/'A22 data'!$AD$12-1)*100,"...")) | I14: =IF(OR('A22 data'!$AF$12="",'A22 data'!$AE$12=""),"...",IFERROR(('A22 data'!$AF$12/'A22 data'!$AE$12-1)*100,"...")) | J14: =IF(OR('A22 data'!$AG$12="",'A22 data'!$AF$12=""),"...",IFERROR(('A22 data'!$AG$12/'A22 data'!$AF$12-1)*100,"..."))
A15: Türkiye | B15: =IF('A22 data'!$AG$13="","...",'A22 data'!$AG$13/1000) | C15: =IFERROR(IF('A22 data'!$N$13="","...",'A22 data'!$N$13/'A22 data'!$N$4*100),"...") | D15: =IFERROR(IF('A22 data'!$S$13="","...",'A22 data'!$S$13/'A22 data'!$S$4*100),"...") | E15: =IFERROR(IF('A22 data'!$X$13="","...",'A22 data'!$X$13/'A22 data'!$X$4*100),"...") | F15: =IFERROR(IF('A22 data'!$AG$13="","...",'A22 data'!$AG$13/'A22 data'!$AG$4*100),"...") | G15: =IF(OR('A22 data'!$AG$13="",'A22 data'!$X$13=""),"...",IFERROR((('A22 data'!$AG$13/'A22 data'!$X$13)^(1/9)-1)*100,"...")) | H15: =IF(OR('A22 data'!$AE$13="",'A22 data'!$AD$13=""),"...",IFERROR(('A22 data'!$AE$13/'A22 data'!$AD$13-1)*100,"...")) | I15: =IF(OR('A22 data'!$AF$13="",'A22 data'!$AE$13=""),"...",IFERROR(('A22 data'!$AF$13/'A22 data'!$AE$13-1)*100,"...")) | J15: =IF(OR('A22 data'!$AG$13="",'A22 data'!$AF$13=""),"...",IFERROR(('A22 data'!$AG$13/'A22 data'!$AF$13-1)*100,"..."))
A16: Pakistan | B16: =IF('A22 data'!$AG$14="","...",'A22 data'!$AG$14/1000) | C16: =IFERROR(IF('A22 data'!$N$14="","...",'A22 data'!$N$14/'A22 data'!$N$4*100),"...") | D16: =IFERROR(IF('A22 data'!$S$14="","...",'A22 data'!$S$14/'A22 data'!$S$4*100),"...") | E16: =IFERROR(IF('A22 data'!$X$14="","...",'A22 data'!$X$14/'A22 data'!$X$4*100),"...") | F16: =IFERROR(IF('A22 data'!$AG$14="","...",'A22 data'!$AG$14/'A22 data'!$AG$4*100),"...") | G16: =IF(OR('A22 data'!$AG$14="",'A22 data'!$X$14=""),"...",IFERROR((('A22 data'!$AG$14/'A22 data'!$X$14)^(1/9)-1)*100,"...")) | H16: =IF(OR('A22 data'!$AE$14="",'A22 data'!$AD$14=""),"...",IFERROR(('A22 data'!$AE$14/'A22 data'!$AD$14-1)*100,"...")) | I16: =IF(OR('A22 data'!$AF$14="",'A22 data'!$AE$14=""),"...",IFERROR(('A22 data'!$AF$14/'A22 data'!$AE$14-1)*100,"...")) | J16: =IF(OR('A22 data'!$AG$14="",'A22 data'!$AF$14=""),"...",IFERROR(('A22 data'!$AG$14/'A22 data'!$AF$14-1)*100,"..."))
A17: Japan | B17: =IF('A22 data'!$AG$15="","...",'A22 data'!$AG$15/1000) | C17: =IFERROR(IF('A22 data'!$N$15="","...",'A22 data'!$N$15/'A22 data'!$N$4*100),"...") | D17: =IFERROR(IF('A22 data'!$S$15="","...",'A22 data'!$S$15/'A22 data'!$S$4*100),"...") | E17: =IFERROR(IF('A22 data'!$X$15="","...",'A22 data'!$X$15/'A22 data'!$X$4*100),"...") | F17: =IFERROR(IF('A22 data'!$AG$15="","...",'A22 data'!$AG$15/'A22 data'!$AG$4*100),"...") | G17: =IF(OR('A22 data'!$AG$15="",'A22 data'!$X$15=""),"...",IFERROR((('A22 data'!$AG$15/'A22 data'!$X$15)^(1/9)-1)*100,"...")) | H17: =IF(OR('A22 data'!$AE$15="",'A22 data'!$AD$15=""),"...",IFERROR(('A22 data'!$AE$15/'A22 data'!$AD$15-1)*100,"...")) | I17: =IF(OR('A22 data'!$AF$15="",'A22 data'!$AE$15=""),"...",IFERROR(('A22 data'!$AF$15/'A22 data'!$AE$15-1)*100,"...")) | J17: =IF(OR('A22 data'!$AG$15="",'A22 data'!$AF$15=""),"...",IFERROR(('A22 data'!$AG$15/'A22 data'!$AF$15-1)*100,"..."))
A18: Above 10 | B18: =IFERROR(B7+B8+B10+B11+B12+B13+B14+B15+B16+B17,"...") | C18: =IFERROR(C7+C8+C10+C11+C12+C13+C14+C15+C16+C17,"...") | D18: =IFERROR(D7+D8+D10+D11+D12+D13+D14+D15+D16+D17,"...") | E18: =IFERROR(E7+E8+E10+E11+E12+E13+E14+E15+E16+E17,"...") | F18: =IFERROR(F7+F8+F10+F11+F12+F13+F14+F15+F16+F17,"...") | G18: - | H18: - | I18: - | J18: -
A19: Importers
A20: European Union | B20: =IF('A22 data'!$AG$17="","...",'A22 data'!$AG$17/1000) | C20: =IFERROR(IF('A22 data'!$N$17="","...",'A22 data'!$N$17/'A22 data'!$N$16*100),"...") | D20: =IFERROR(IF('A22 data'!$S$17="","...",'A22 data'!$S$17/'A22 data'!$S$16*100),"...") | E20: =IFERROR(IF('A22 data'!$X$17="","...",'A22 data'!$X$17/'A22 data'!$X$16*100),"...") | F20: =IFERROR(IF('A22 data'!$AG$17="","...",'A22 data'!$AG$17/'A22 data'!$AG$16*100),"...") | G20: =IF(OR('A22 data'!$AG$17="",'A22 data'!$X$17=""),"...",IFERROR((('A22 data'!$AG$17/'A22 data'!$X$17)^(1/9)-1)*100,"...")) | H20: =IF(OR('A22 data'!$AE$17="",'A22 data'!$AD$17=""),"...",IFERROR(('A22 data'!$AE$17/'A22 data'!$AD$17-1)*100,"...")) | I20: =IF(OR('A22 data'!$AF$17="",'A22 data'!$AE$17=""),"...",IFERROR(('A22 data'!$AF$17/'A22 data'!$AE$17-1)*100,"...")) | J20: =IF(OR('A22 data'!$AG$17="",'A22 data'!$AF$17=""),"...",IFERROR(('A22 data'!$AG$17/'A22 data'!$AF$17-1)*100,"..."))
A21: Extra-EU | B21: =IF('A22 data'!$AG$18="","...",'A22 data'!$AG$18/1000) | C21: =IFERROR(IF('A22 data'!$N$18="","...",'A22 data'!$N$18/'A22 data'!$N$16*100),"...") | D21: =IFERROR(IF('A22 data'!$S$18="","...",'A22 data'!$S$18/'A22 data'!$S$16*100),"...") | E21: =IFERROR(IF('A22 data'!$X$18="","...",'A22 data'!$X$18/'A22 data'!$X$16*100),"...") | F21: =IFERROR(IF('A22 data'!$AG$18="","...",'A22 data'!$AG$18/'A22 data'!$AG$16*100),"...") | G21: =IF(OR('A22 data'!$AG$18="",'A22 data'!$X$18=""),"...",IFERROR((('A22 data'!$AG$18/'A22 data'!$X$18)^(1/9)-1)*100,"...")) | H21: =IF(OR('A22 data'!$AE$18="",'A22 data'!$AD$18=""),"...",IFERROR(('A22 data'!$AE$18/'A22 data'!$AD$18-1)*100,"...")) | I21: =IF(OR('A22 data'!$AF$18="",'A22 data'!$AE$18=""),"...",IFERROR(('A22 data'!$AF$18/'A22 data'!$AE$18-1)*100,"...")) | J21: =IF(OR('A22 data'!$AG$18="",'A22 data'!$AF$18=""),"...",IFERROR(('A22 data'!$AG$18/'A22 data'!$AF$18-1)*100,"..."))
A22: United States of America | B22: =IF('A22 data'!$AG$19="","...",'A22 data'!$AG$19/1000) | C22: =IFERROR(IF('A22 data'!$N$19="","...",'A22 data'!$N$19/'A22 data'!$N$16*100),"...") | D22: =IFERROR(IF('A22 data'!$S$19="","...",'A22 data'!$S$19/'A22 data'!$S$16*100),"...") | E22: =IFERROR(IF('A22 data'!$X$19="","...",'A22 data'!$X$19/'A22 data'!$X$16*100),"...") | F22: =IFERROR(IF('A22 data'!$AG$19="","...",'A22 data'!$AG$19/'A22 data'!$AG$16*100),"...") | G22: =IF(OR('A22 data'!$AG$19="",'A22 data'!$X$19=""),"...",IFERROR((('A22 data'!$AG$19/'A22 data'!$X$19)^(1/9)-1)*100,"...")) | H22: =IF(OR('A22 data'!$AE$19="",'A22 data'!$AD$19=""),"...",IFERROR(('A22 data'!$AE$19/'A22 data'!$AD$19-1)*100,"...")) | I22: =IF(OR('A22 data'!$AF$19="",'A22 data'!$AE$19=""),"...",IFERROR(('A22 data'!$AF$19/'A22 data'!$AE$19-1)*100,"...")) | J22: =IF(OR('A22 data'!$AG$19="",'A22 data'!$AF$19=""),"...",IFERROR(('A22 data'!$AG$19/'A22 data'!$AF$19-1)*100,"..."))
A23: China | B23: =IF('A22 data'!$AG$20="","...",'A22 data'!$AG$20/1000) | C23: =IFERROR(IF('A22 data'!$N$20="","...",'A22 data'!$N$20/'A22 data'!$N$16*100),"...") | D23: =IFERROR(IF('A22 data'!$S$20="","...",'A22 data'!$S$20/'A22 data'!$S$16*100),"...") | E23: =IFERROR(IF('A22 data'!$X$20="","...",'A22 data'!$X$20/'A22 data'!$X$16*100),"...") | F23: =IFERROR(IF('A22 data'!$AG$20="","...",'A22 data'!$AG$20/'A22 data'!$AG$16*100),"...") | G23: =IF(OR('A22 data'!$AG$20="",'A22 data'!$X$20=""),"...",IFERROR((('A22 data'!$AG$20/'A22 data'!$X$20)^(1/9)-1)*100,"...")) | H23: =IF(OR('A22 data'!$AE$20="",'A22 data'!$AD$20=""),"...",IFERROR(('A22 data'!$AE$20/'A22 data'!$AD$20-1)*100,"...")) | I23: =IF(OR('A22 data'!$AF$20="",'A22 data'!$AE$20=""),"...",IFERROR(('A22 data'!$AF$20/'A22 data'!$AE$20-1)*100,"...")) | J23: =IF(OR('A22 data'!$AG$20="",'A22 data'!$AF$20=""),"...",IFERROR(('A22 data'!$AG$20/'A22 data'!$AF$20-1)*100,"..."))
A24: Hong Kong, China | B24: =IF('A22 data'!$AG$21="","...",'A22 data'!$AG$21/1000) | C24: =IFERROR(IF('A22 data'!$N$21="","...",'A22 data'!$N$21/'A22 data'!$N$16*100),"...") | D24: =IFERROR(IF('A22 data'!$S$21="","...",'A22 data'!$S$21/'A22 data'!$S$16*100),"...") | E24: =IFERROR(IF('A22 data'!$X$21="","...",'A22 data'!$X$21/'A22 data'!$X$16*100),"...") | F24: =IFERROR(IF('A22 data'!$AG$21="","...",'A22 data'!$AG$21/'A22 data'!$AG$16*100),"...") | G24: =IF(OR('A22 data'!$AG$21="",'A22 data'!$X$21=""),"...",IFERROR((('A22 data'!$AG$21/'A22 data'!$X$21)^(1/9)-1)*100,"...")) | H24: =IF(OR('A22 data'!$AE$21="",'A22 data'!$AD$21=""),"...",IFERROR(('A22 data'!$AE$21/'A22 data'!$AD$21-1)*100,"...")) | I24: =IF(OR('A22 data'!$AF$21="",'A22 data'!$AE$21=""),"...",IFERROR(('A22 data'!$AF$21/'A22 data'!$AE$21-1)*100,"...")) | J24: =IF(OR('A22 data'!$AG$21="",'A22 data'!$AF$21=""),"...",IFERROR(('A22 data'!$AG$21/'A22 data'!$AF$21-1)*100,"..."))
A25: Japan | B25: =IF('A22 data'!$AG$22="","...",'A22 data'!$AG$22/1000) | C25: =IFERROR(IF('A22 data'!$N$22="","...",'A22 data'!$N$22/'A22 data'!$N$16*100),"...") | D25: =IFERROR(IF('A22 data'!$S$22="","...",'A22 data'!$S$22/'A22 data'!$S$16*100),"...") | E25: =IFERROR(IF('A22 data'!$X$22="","...",'A22 data'!$X$22/'A22 data'!$X$16*100),"...") | F25: =IFERROR(IF('A22 data'!$AG$22="","...",'A22 data'!$AG$22/'A22 data'!$AG$16*100),"...") | G25: =IF(OR('A22 data'!$AG$22="",'A22 data'!$X$22=""),"...",IFERROR((('A22 data'!$AG$22/'A22 data'!$X$22)^(1/9)-1)*100,"...")) | H25: =IF(OR('A22 data'!$AE$22="",'A22 data'!$AD$22=""),"...",IFERROR(('A22 data'!$AE$22/'A22 data'!$AD$22-1)*100,"...")) | I25: =IF(OR('A22 data'!$AF$22="",'A22 data'!$AE$22=""),"...",IFERROR(('A22 data'!$AF$22/'A22 data'!$AE$22-1)*100,"...")) | J25: =IF(OR('A22 data'!$AG$22="",'A22 data'!$AF$22=""),"...",IFERROR(('A22 data'!$AG$22/'A22 data'!$AF$22-1)*100,"..."))
A26: United Kingdom | B26: =IF('A22 data'!$AG$23="","...",'A22 data'!$AG$23/1000) | C26: =IFERROR(IF('A22 data'!$N$23="","...",'A22 data'!$N$23/'A22 data'!$N$16*100),"...") | D26: =IFERROR(IF('A22 data'!$S$23="","...",'A22 data'!$S$23/'A22 data'!$S$16*100),"...") | E26: =IFERROR(IF('A22 data'!$X$23="","...",'A22 data'!$X$23/'A22 data'!$X$16*100),"...") | F26: =IFERROR(IF('A22 data'!$AG$23="","...",'A22 data'!$AG$23/'A22 data'!$AG$16*100),"...") | G26: =IF(OR('A22 data'!$AG$23="",'A22 data'!$X$23=""),"...",IFERROR((('A22 data'!$AG$23/'A22 data'!$X$23)^(1/9)-1)*100,"...")) | H26: =IF(OR('A22 data'!$AE$23="",'A22 data'!$AD$23=""),"...",IFERROR(('A22 data'!$AE$23/'A22 data'!$AD$23-1)*100,"...")) | I26: =IF(OR('A22 data'!$AF$23="",'A22 data'!$AE$23=""),"...",IFERROR(('A22 data'!$AF$23/'A22 data'!$AE$23-1)*100,"...")) | J26: =IF(OR('A22 data'!$AG$23="",'A22 data'!$AF$23=""),"...",IFERROR(('A22 data'!$AG$23/'A22 data'!$AF$23-1)*100,"..."))
A27: Viet Nam | B27: =IF('A22 data'!$AG$24="","...",'A22 data'!$AG$24/1000) | C27: =IFERROR(IF('A22 data'!$N$24="","...",'A22 data'!$N$24/'A22 data'!$N$16*100),"...") | D27: =IFERROR(IF('A22 data'!$S$24="","...",'A22 data'!$S$24/'A22 data'!$S$16*100),"...") | E27: =IFERROR(IF('A22 data'!$X$24="","...",'A22 data'!$X$24/'A22 data'!$X$16*100),"...") | F27: =IFERROR(IF('A22 data'!$AG$24="","...",'A22 data'!$AG$24/'A22 data'!$AG$16*100),"...") | G27: =IF(OR('A22 data'!$AG$24="",'A22 data'!$X$24=""),"...",IFERROR((('A22 data'!$AG$24/'A22 data'!$X$24)^(1/9)-1)*100,"...")) | H27: =IF(OR('A22 data'!$AE$24="",'A22 data'!$AD$24=""),"...",IFERROR(('A22 data'!$AE$24/'A22 data'!$AD$24-1)*100,"...")) | I27: =IF(OR('A22 data'!$AF$24="",'A22 data'!$AE$24=""),"...",IFERROR(('A22 data'!$AF$24/'A22 data'!$AE$24-1)*100,"...")) | J27: =IF(OR('A22 data'!$AG$24="",'A22 data'!$AF$24=""),"...",IFERROR(('A22 data'!$AG$24/'A22 data'!$AF$24-1)*100,"..."))
A28: Türkiye | B28: =IF('A22 data'!$AG$25="","...",'A22 data'!$AG$25/1000) | C28: =IFERROR(IF('A22 data'!$N$25="","...",'A22 data'!$N$25/'A22 data'!$N$16*100),"...") | D28: =IFERROR(IF('A22 data'!$S$25="","...",'A22 data'!$S$25/'A22 data'!$S$16*100),"...") | E28: =IFERROR(IF('A22 data'!$X$25="","...",'A22 data'!$X$25/'A22 data'!$X$16*100),"...") | F28: =IFERROR(IF('A22 data'!$AG$25="","...",'A22 data'!$AG$25/'A22 data'!$AG$16*100),"...") | G28: =IF(OR('A22 data'!$AG$25="",'A22 data'!$X$25=""),"...",IFERROR((('A22 data'!$AG$25/'A22 data'!$X$25)^(1/9)-1)*100,"...")) | H28: =IF(OR('A22 data'!$AE$25="",'A22 data'!$AD$25=""),"...",IFERROR(('A22 data'!$AE$25/'A22 data'!$AD$25-1)*100,"...")) | I28: =IF(OR('A22 data'!$AF$25="",'A22 data'!$AE$25=""),"...",IFERROR(('A22 data'!$AF$25/'A22 data'!$AE$25-1)*100,"...")) | J28: =IF(OR('A22 data'!$AG$25="",'A22 data'!$AF$25=""),"...",IFERROR(('A22 data'!$AG$25/'A22 data'!$AF$25-1)*100,"..."))
A29: Mexico | B29: =IF('A22 data'!$AG$26="","...",'A22 data'!$AG$26/1000) | C29: =IFERROR(IF('A22 data'!$N$26="","...",'A22 data'!$N$26/'A22 data'!$N$16*100),"...") | D29: =IFERROR(IF('A22 data'!$S$26="","...",'A22 data'!$S$26/'A22 data'!$S$16*100),"...") | E29: =IFERROR(IF('A22 data'!$X$26="","...",'A22 data'!$X$26/'A22 data'!$X$16*100),"...") | F29: =IFERROR(IF('A22 data'!$AG$26="","...",'A22 data'!$AG$26/'A22 data'!$AG$16*100),"...") | G29: =IF(OR('A22 data'!$AG$26="",'A22 data'!$X$26=""),"...",IFERROR((('A22 data'!$AG$26/'A22 data'!$X$26)^(1/9)-1)*100,"...")) | H29: =IF(OR('A22 data'!$AE$26="",'A22 data'!$AD$26=""),"...",IFERROR(('A22 data'!$AE$26/'A22 data'!$AD$26-1)*100,"...")) | I29: =IF(OR('A22 data'!$AF$26="",'A22 data'!$AE$26=""),"...",IFERROR(('A22 data'!$AF$26/'A22 data'!$AE$26-1)*100,"...")) | J29: =IF(OR('A22 data'!$AG$26="",'A22 data'!$AF$26=""),"...",IFERROR(('A22 data'!$AG$26/'A22 data'!$AF$26-1)*100,"..."))
A30: Canada | B30: =IF('A22 data'!$AG$27="","...",'A22 data'!$AG$27/1000) | C30: =IFERROR(IF('A22 data'!$N$27="","...",'A22 data'!$N$27/'A22 data'!$N$16*100),"...") | D30: =IFERROR(IF('A22 data'!$S$27="","...",'A22 data'!$S$27/'A22 data'!$S$16*100),"...") | E30: =IFERROR(IF('A22 data'!$X$27="","...",'A22 data'!$X$27/'A22 data'!$X$16*100),"...") | F30: =IFERROR(IF('A22 data'!$AG$27="","...",'A22 data'!$AG$27/'A22 data'!$AG$16*100),"...") | G30: =IF(OR('A22 data'!$AG$27="",'A22 data'!$X$27=""),"...",IFERROR((('A22 data'!$AG$27/'A22 data'!$X$27)^(1/9)-1)*100,"...")) | H30: =IF(OR('A22 data'!$AE$27="",'A22 data'!$AD$27=""),"...",IFERROR(('A22 data'!$AE$27/'A22 data'!$AD$27-1)*100,"...")) | I30: =IF(OR('A22 data'!$AF$27="",'A22 data'!$AE$27=""),"...",IFERROR(('A22 data'!$AF$27/'A22 data'!$AE$27-1)*100,"...")) | J30: =IF(OR('A22 data'!$AG$27="",'A22 data'!$AF$27=""),"...",IFERROR(('A22 data'!$AG$27/'A22 data'!$AF$27-1)*100,"..."))
A31: Above 10 | B31: =IFERROR(B20+B22+B23+B24+B25+B26+B27+B28+B29+B30,"...") | C31: =IFERROR(C20+C22+C23+C24+C25+C27+C28+C29+C30,"...") | D31: =IFERROR(D20+D22+D23+D24+D25+D27+D28+D29+D30,"...") | E31: =IFERROR(E20+E22+E23+E24+E25+E26+E27+E28+E29+E30,"...") | F31: =IFERROR(F20+F22+F23+F24+F25+F26+F27+F28+F29+F30,"...") | G31: - | H31: - | I31: - | J31: -
A33: Notes
A34: The EU is ranked as one economy; its member states are not ranked. Extra-EU (the EU's trade with non-members) is shown beneath it and is not ranked.
A35: From 2000 the EU figure is WTO's own series for today's 27 member states (EU-27), in every year, including years when the membership was different. The United Kingdom is ranked on its own.
A36: Before 2000 the EU figure is added up from the member states of each year (EC-9 in 1980, EC-10 in 1981-1985, EC-12 in 1986-1994, EU-15 in 1995-1999), the United Kingdom included; economies that joined later are ranked on their own. Extra-EU cannot be added up and shows "...". If a member state has no data for a year, the EU shows "...".
A37: Break at 2000: EU figures before 2000 (members of that year, added up) and from 2000 (WTO's EU-27) are on different bases, so no EU change or growth rate is shown across 2000.
A38: Economies ranked in 2009: 141 exporters, 148 importers.
A39: "Above 10" is the sum of the ten ranked economies. "..." means not available.
A40: In the "Above 10" shares for years before 2000, the United Kingdom is counted once, as part of the added-up EU, not a second time on its own.
A41: Shares are of world textiles exports or imports. 2000-09 is the compound annual rate of change.
A42: Figures for every year are as WTO published them on 2026-09-29; WTO revises past figures, so they can differ from the printed review.
...

Sheet A23 clothing
A1: Table A23, 2010 edition (trade data for 2009)
A2: Top 10 exporters and importers of clothing, 2009
A3: (Billion dollars and percentage)
A5: Economy | B5: Value 2009 (US$ bn) | C5: Share 1990 (%) | D5: Share 1995 (%) | E5: Share 2000 (%) | F5: Share 2009 (%) | G5: Change 2000-09 (% p.a.) | H5: Change 2007 (%) | I5: Change 2008 (%) | J5: Change 2009 (%)
A6: Exporters
A7: China | B7: =IF('A23 data'!$AG$5="","...",'A23 data'!$AG$5/1000) | C7: =IFERROR(IF('A23 data'!$N$5="","...",'A23 data'!$N$5/'A23 data'!$N$4*100),"...") | D7: =IFERROR(IF('A23 data'!$S$5="","...",'A23 data'!$S$5/'A23 data'!$S$4*100),"...") | E7: =IFERROR(IF('A23 data'!$X$5="","...",'A23 data'!$X$5/'A23 data'!$X$4*100),"...") | F7: =IFERROR(IF('A23 data'!$AG$5="","...",'A23 data'!$AG$5/'A23 data'!$AG$4*100),"...") | G7: =IF(OR('A23 data'!$AG$5="",'A23 data'!$X$5=""),"...",IFERROR((('A23 data'!$AG$5/'A23 data'!$X$5)^(1/9)-1)*100,"...")) | H7: =IF(OR('A23 data'!$AE$5="",'A23 data'!$AD$5=""),"...",IFERROR(('A23 data'!$AE$5/'A23 data'!$AD$5-1)*100,"...")) | I7: =IF(OR('A23 data'!$AF$5="",'A23 data'!$AE$5=""),"...",IFERROR(('A23 data'!$AF$5/'A23 data'!$AE$5-1)*100,"...")) | J7: =IF(OR('A23 data'!$AG$5="",'A23 data'!$AF$5=""),"...",IFERROR(('A23 data'!$AG$5/'A23 data'!$AF$5-1)*100,"..."))
A8: European Union | B8: =IF('A23 data'!$AG$6="","...",'A23 data'!$AG$6/1000) | C8: =IFERROR(IF('A23 data'!$N$6="","...",'A23 data'!$N$6/'A23 data'!$N$4*100),"...") | D8: =IFERROR(IF('A23 data'!$S$6="","...",'A23 data'!$S$6/'A23 data'!$S$4*100),"...") | E8: =IFERROR(IF('A23 data'!$X$6="","...",'A23 data'!$X$6/'A23 data'!$X$4*100),"...") | F8: =IFERROR(IF('A23 data'!$AG$6="","...",'A23 data'!$AG$6/'A23 data'!$AG$4*100),"...") | G8: =IF(OR('A23 data'!$AG$6="",'A23 data'!$X$6=""),"...",IFERROR((('A23 data'!$AG$6/'A23 data'!$X$6)^(1/9)-1)*100,"...")) | H8: =IF(OR('A23 data'!$AE$6="",'A23 data'!$AD$6=""),"...",IFERROR(('A23 data'!$AE$6/'A23 data'!$AD$6-1)*100,"...")) | I8: =IF(OR('A23 data'!$AF$6="",'A23 data'!$AE$6=""),"...",IFERROR(('A23 data'!$AF$6/'A23 data'!$AE$6-1)*100,"...")) | J8: =IF(OR('A23 data'!$AG$6="",'A23 data'!$AF$6=""),"...",IFERROR(('A23 data'!$AG$6/'A23 data'!$AF$6-1)*100,"..."))
A9: Extra-EU | B9: =IF('A23 data'!$AG$7="","...",'A23 data'!$AG$7/1000) | C9: =IFERROR(IF('A23 data'!$N$7="","...",'A23 data'!$N$7/'A23 data'!$N$4*100),"...") | D9: =IFERROR(IF('A23 data'!$S$7="","...",'A23 data'!$S$7/'A23 data'!$S$4*100),"...") | E9: =IFERROR(IF('A23 data'!$X$7="","...",'A23 data'!$X$7/'A23 data'!$X$4*100),"...") | F9: =IFERROR(IF('A23 data'!$AG$7="","...",'A23 data'!$AG$7/'A23 data'!$AG$4*100),"...") | G9: =IF(OR('A23 data'!$AG$7="",'A23 data'!$X$7=""),"...",IFERROR((('A23 data'!$AG$7/'A23 data'!$X$7)^(1/9)-1)*100,"...")) | H9: =IF(OR('A23 data'!$AE$7="",'A23 data'!$AD$7=""),"...",IFERROR(('A23 data'!$AE$7/'A23 data'!$AD$7-1)*100,"...")) | I9: =IF(OR('A23 data'!$AF$7="",'A23 data'!$AE$7=""),"...",IFERROR(('A23 data'!$AF$7/'A23 data'!$AE$7-1)*100,"...")) | J9: =IF(OR('A23 data'!$AG$7="",'A23 data'!$AF$7=""),"...",IFERROR(('A23 data'!$AG$7/'A23 data'!$AF$7-1)*100,"..."))
A10: Hong Kong, China | B10: =IF('A23 data'!$AG$8="","...",'A23 data'!$AG$8/1000) | C10: =IFERROR(IF('A23 data'!$N$8="","...",'A23 data'!$N$8/'A23 data'!$N$4*100),"...") | D10: =IFERROR(IF('A23 data'!$S$8="","...",'A23 data'!$S$8/'A23 data'!$S$4*100),"...") | E10: =IFERROR(IF('A23 data'!$X$8="","...",'A23 data'!$X$8/'A23 data'!$X$4*100),"...") | F10: =IFERROR(IF('A23 data'!$AG$8="","...",'A23 data'!$AG$8/'A23 data'!$AG$4*100),"...") | G10: =IF(OR('A23 data'!$AG$8="",'A23 data'!$X$8=""),"...",IFERROR((('A23 data'!$AG$8/'A23 data'!$X$8)^(1/9)-1)*100,"...")) | H10: =IF(OR('A23 data'!$AE$8="",'A23 data'!$AD$8=""),"...",IFERROR(('A23 data'!$AE$8/'A23 data'!$AD$8-1)*100,"...")) | I10: =IF(OR('A23 data'!$AF$8="",'A23 data'!$AE$8=""),"...",IFERROR(('A23 data'!$AF$8/'A23 data'!$AE$8-1)*100,"...")) | J10: =IF(OR('A23 data'!$AG$8="",'A23 data'!$AF$8=""),"...",IFERROR(('A23 data'!$AG$8/'A23 data'!$AF$8-1)*100,"..."))
A11: India | B11: =IF('A23 data'!$AG$9="","...",'A23 data'!$AG$9/1000) | C11: =IFERROR(IF('A23 data'!$N$9="","...",'A23 data'!$N$9/'A23 data'!$N$4*100),"...") | D11: =IFERROR(IF('A23 data'!$S$9="","...",'A23 data'!$S$9/'A23 data'!$S$4*100),"...") | E11: =IFERROR(IF('A23 data'!$X$9="","...",'A23 data'!$X$9/'A23 data'!$X$4*100),"...") | F11: =IFERROR(IF('A23 data'!$AG$9="","...",'A23 data'!$AG$9/'A23 data'!$AG$4*100),"...") | G11: =IF(OR('A23 data'!$AG$9="",'A23 data'!$X$9=""),"...",IFERROR((('A23 data'!$AG$9/'A23 data'!$X$9)^(1/9)-1)*100,"...")) | H11: =IF(OR('A23 data'!$AE$9="",'A23 data'!$AD$9=""),"...",IFERROR(('A23 data'!$AE$9/'A23 data'!$AD$9-1)*100,"...")) | I11: =IF(OR('A23 data'!$AF$9="",'A23 data'!$AE$9=""),"...",IFERROR(('A23 data'!$AF$9/'A23 data'!$AE$9-1)*100,"...")) | J11: =IF(OR('A23 data'!$AG$9="",'A23 data'!$AF$9=""),"...",IFERROR(('A23 data'!$AG$9/'A23 data'!$AF$9-1)*100,"..."))
A12: Bangladesh | B12: =IF('A23 data'!$AG$10="","...",'A23 data'!$AG$10/1000) | C12: =IFERROR(IF('A23 data'!$N$10="","...",'A23 data'!$N$10/'A23 data'!$N$4*100),"...") | D12: =IFERROR(IF('A23 data'!$S$10="","...",'A23 data'!$S$10/'A23 data'!$S$4*100),"...") | E12: =IFERROR(IF('A23 data'!$X$10="","...",'A23 data'!$X$10/'A23 data'!$X$4*100),"...") | F12: =IFERROR(IF('A23 data'!$AG$10="","...",'A23 data'!$AG$10/'A23 data'!$AG$4*100),"...") | G12: =IF(OR('A23 data'!$AG$10="",'A23 data'!$X$10=""),"...",IFERROR((('A23 data'!$AG$10/'A23 data'!$X$10)^(1/9)-1)*100,"...")) | H12: =IF(OR('A23 data'!$AE$10="",'A23 data'!$AD$10=""),"...",IFERROR(('A23 data'!$AE$10/'A23 data'!$AD$10-1)*100,"...")) | I12: =IF(OR('A23 data'!$AF$10="",'A23 data'!$AE$10=""),"...",IFERROR(('A23 data'!$AF$10/'A23 data'!$AE$10-1)*100,"...")) | J12: =IF(OR('A23 data'!$AG$10="",'A23 data'!$AF$10=""),"...",IFERROR(('A23 data'!$AG$10/'A23 data'!$AF$10-1)*100,"..."))
A13: Türkiye | B13: =IF('A23 data'!$AG$11="","...",'A23 data'!$AG$11/1000) | C13: =IFERROR(IF('A23 data'!$N$11="","...",'A23 data'!$N$11/'A23 data'!$N$4*100),"...") | D13: =IFERROR(IF('A23 data'!$S$11="","...",'A23 data'!$S$11/'A23 data'!$S$4*100),"...") | E13: =IFERROR(IF('A23 data'!$X$11="","...",'A23 data'!$X$11/'A23 data'!$X$4*100),"...") | F13: =IFERROR(IF('A23 data'!$AG$11="","...",'A23 data'!$AG$11/'A23 data'!$AG$4*100),"...") | G13: =IF(OR('A23 data'!$AG$11="",'A23 data'!$X$11=""),"...",IFERROR((('A23 data'!$AG$11/'A23 data'!$X$11)^(1/9)-1)*100,"...")) | H13: =IF(OR('A23 data'!$AE$11="",'A23 data'!$AD$11=""),"...",IFERROR(('A23 data'!$AE$11/'A23 data'!$AD$11-1)*100,"...")) | I13: =IF(OR('A23 data'!$AF$11="",'A23 data'!$AE$11=""),"...",IFERROR(('A23 data'!$AF$11/'A23 data'!$AE$11-1)*100,"...")) | J13: =IF(OR('A23 data'!$AG$11="",'A23 data'!$AF$11=""),"...",IFERROR(('A23 data'!$AG$11/'A23 data'!$AF$11-1)*100,"..."))
A14: Viet Nam | B14: =IF('A23 data'!$AG$12="","...",'A23 data'!$AG$12/1000) | C14: =IFERROR(IF('A23 data'!$N$12="","...",'A23 data'!$N$12/'A23 data'!$N$4*100),"...") | D14: =IFERROR(IF('A23 data'!$S$12="","...",'A23 data'!$S$12/'A23 data'!$S$4*100),"...") | E14: =IFERROR(IF('A23 data'!$X$12="","...",'A23 data'!$X$12/'A23 data'!$X$4*100),"...") | F14: =IFERROR(IF('A23 data'!$AG$12="","...",'A23 data'!$AG$12/'A23 data'!$AG$4*100),"...") | G14: =IF(OR('A23 data'!$AG$12="",'A23 data'!$X$12=""),"...",IFERROR((('A23 data'!$AG$12/'A23 data'!$X$12)^(1/9)-1)*100,"...")) | H14: =IF(OR('A23 data'!$AE$12="",'A23 data'!$AD$12=""),"...",IFERROR(('A23 data'!$AE$12/'A23 data'!$AD$12-1)*100,"...")) | I14: =IF(OR('A23 data'!$AF$12="",'A23 data'!$AE$12=""),"...",IFERROR(('A23 data'!$AF$12/'A23 data'!$AE$12-1)*100,"...")) | J14: =IF(OR('A23 data'!$AG$12="",'A23 data'!$AF$12=""),"...",IFERROR(('A23 data'!$AG$12/'A23 data'!$AF$12-1)*100,"..."))
A15: Indonesia | B15: =IF('A23 data'!$AG$13="","...",'A23 data'!$AG$13/1000) | C15: =IFERROR(IF('A23 data'!$N$13="","...",'A23 data'!$N$13/'A23 data'!$N$4*100),"...") | D15: =IFERROR(IF('A23 data'!$S$13="","...",'A23 data'!$S$13/'A23 data'!$S$4*100),"...") | E15: =IFERROR(IF('A23 data'!$X$13="","...",'A23 data'!$X$13/'A23 data'!$X$4*100),"...") | F15: =IFERROR(IF('A23 data'!$AG$13="","...",'A23 data'!$AG$13/'A23 data'!$AG$4*100),"...") | G15: =IF(OR('A23 data'!$AG$13="",'A23 data'!$X$13=""),"...",IFERROR((('A23 data'!$AG$13/'A23 data'!$X$13)^(1/9)-1)*100,"...")) | H15: =IF(OR('A23 data'!$AE$13="",'A23 data'!$AD$13=""),"...",IFERROR(('A23 data'!$AE$13/'A23 data'!$AD$13-1)*100,"...")) | I15: =IF(OR('A23 data'!$AF$13="",'A23 data'!$AE$13=""),"...",IFERROR(('A23 data'!$AF$13/'A23 data'!$AE$13-1)*100,"...")) | J15: =IF(OR('A23 data'!$AG$13="",'A23 data'!$AF$13=""),"...",IFERROR(('A23 data'!$AG$13/'A23 data'!$AF$13-1)*100,"..."))
A16: United Kingdom | B16: =IF('A23 data'!$AG$14="","...",'A23 data'!$AG$14/1000) | C16: =IFERROR(IF('A23 data'!$N$14="","...",'A23 data'!$N$14/'A23 data'!$N$4*100),"...") | D16: =IFERROR(IF('A23 data'!$S$14="","...",'A23 data'!$S$14/'A23 data'!$S$4*100),"...") | E16: =IFERROR(IF('A23 data'!$X$14="","...",'A23 data'!$X$14/'A23 data'!$X$4*100),"...") | F16: =IFERROR(IF('A23 data'!$AG$14="","...",'A23 data'!$AG$14/'A23 data'!$AG$4*100),"...") | G16: =IF(OR('A23 data'!$AG$14="",'A23 data'!$X$14=""),"...",IFERROR((('A23 data'!$AG$14/'A23 data'!$X$14)^(1/9)-1)*100,"...")) | H16: =IF(OR('A23 data'!$AE$14="",'A23 data'!$AD$14=""),"...",IFERROR(('A23 data'!$AE$14/'A23 data'!$AD$14-1)*100,"...")) | I16: =IF(OR('A23 data'!$AF$14="",'A23 data'!$AE$14=""),"...",IFERROR(('A23 data'!$AF$14/'A23 data'!$AE$14-1)*100,"...")) | J16: =IF(OR('A23 data'!$AG$14="",'A23 data'!$AF$14=""),"...",IFERROR(('A23 data'!$AG$14/'A23 data'!$AF$14-1)*100,"..."))
A17: United States of America | B17: =IF('A23 data'!$AG$15="","...",'A23 data'!$AG$15/1000) | C17: =IFERROR(IF('A23 data'!$N$15="","...",'A23 data'!$N$15/'A23 data'!$N$4*100),"...") | D17: =IFERROR(IF('A23 data'!$S$15="","...",'A23 data'!$S$15/'A23 data'!$S$4*100),"...") | E17: =IFERROR(IF('A23 data'!$X$15="","...",'A23 data'!$X$15/'A23 data'!$X$4*100),"...") | F17: =IFERROR(IF('A23 data'!$AG$15="","...",'A23 data'!$AG$15/'A23 data'!$AG$4*100),"...") | G17: =IF(OR('A23 data'!$AG$15="",'A23 data'!$X$15=""),"...",IFERROR((('A23 data'!$AG$15/'A23 data'!$X$15)^(1/9)-1)*100,"...")) | H17: =IF(OR('A23 data'!$AE$15="",'A23 data'!$AD$15=""),"...",IFERROR(('A23 data'!$AE$15/'A23 data'!$AD$15-1)*100,"...")) | I17: =IF(OR('A23 data'!$AF$15="",'A23 data'!$AE$15=""),"...",IFERROR(('A23 data'!$AF$15/'A23 data'!$AE$15-1)*100,"...")) | J17: =IF(OR('A23 data'!$AG$15="",'A23 data'!$AF$15=""),"...",IFERROR(('A23 data'!$AG$15/'A23 data'!$AF$15-1)*100,"..."))
A18: Above 10 | B18: =IFERROR(B7+B8+B10+B11+B12+B13+B14+B15+B16+B17,"...") | C18: =IFERROR(C7+C8+C10+C11+C12+C13+C14+C15+C17,"...") | D18: =IFERROR(D7+D8+D10+D11+D12+D13+D14+D15+D17,"...") | E18: =IFERROR(E7+E8+E10+E11+E12+E13+E14+E15+E16+E17,"...") | F18: =IFERROR(F7+F8+F10+F11+F12+F13+F14+F15+F16+F17,"...") | G18: - | H18: - | I18: - | J18: -
A19: Importers
A20: European Union | B20: =IF('A23 data'!$AG$17="","...",'A23 data'!$AG$17/1000) | C20: =IFERROR(IF('A23 data'!$N$17="","...",'A23 data'!$N$17/'A23 data'!$N$16*100),"...") | D20: =IFERROR(IF('A23 data'!$S$17="","...",'A23 data'!$S$17/'A23 data'!$S$16*100),"...") | E20: =IFERROR(IF('A23 data'!$X$17="","...",'A23 data'!$X$17/'A23 data'!$X$16*100),"...") | F20: =IFERROR(IF('A23 data'!$AG$17="","...",'A23 data'!$AG$17/'A23 data'!$AG$16*100),"...") | G20: =IF(OR('A23 data'!$AG$17="",'A23 data'!$X$17=""),"...",IFERROR((('A23 data'!$AG$17/'A23 data'!$X$17)^(1/9)-1)*100,"...")) | H20: =IF(OR('A23 data'!$AE$17="",'A23 data'!$AD$17=""),"...",IFERROR(('A23 data'!$AE$17/'A23 data'!$AD$17-1)*100,"...")) | I20: =IF(OR('A23 data'!$AF$17="",'A23 data'!$AE$17=""),"...",IFERROR(('A23 data'!$AF$17/'A23 data'!$AE$17-1)*100,"...")) | J20: =IF(OR('A23 data'!$AG$17="",'A23 data'!$AF$17=""),"...",IFERROR(('A23 data'!$AG$17/'A23 data'!$AF$17-1)*100,"..."))
A21: Extra-EU | B21: =IF('A23 data'!$AG$18="","...",'A23 data'!$AG$18/1000) | C21: =IFERROR(IF('A23 data'!$N$18="","...",'A23 data'!$N$18/'A23 data'!$N$16*100),"...") | D21: =IFERROR(IF('A23 data'!$S$18="","...",'A23 data'!$S$18/'A23 data'!$S$16*100),"...") | E21: =IFERROR(IF('A23 data'!$X$18="","...",'A23 data'!$X$18/'A23 data'!$X$16*100),"...") | F21: =IFERROR(IF('A23 data'!$AG$18="","...",'A23 data'!$AG$18/'A23 data'!$AG$16*100),"...") | G21: =IF(OR('A23 data'!$AG$18="",'A23 data'!$X$18=""),"...",IFERROR((('A23 data'!$AG$18/'A23 data'!$X$18)^(1/9)-1)*100,"...")) | H21: =IF(OR('A23 data'!$AE$18="",'A23 data'!$AD$18=""),"...",IFERROR(('A23 data'!$AE$18/'A23 data'!$AD$18-1)*100,"...")) | I21: =IF(OR('A23 data'!$AF$18="",'A23 data'!$AE$18=""),"...",IFERROR(('A23 data'!$AF$18/'A23 data'!$AE$18-1)*100,"...")) | J21: =IF(OR('A23 data'!$AG$18="",'A23 data'!$AF$18=""),"...",IFERROR(('A23 data'!$AG$18/'A23 data'!$AF$18-1)*100,"..."))
A22: United States of America | B22: =IF('A23 data'!$AG$19="","...",'A23 data'!$AG$19/1000) | C22: =IFERROR(IF('A23 data'!$N$19="","...",'A23 data'!$N$19/'A23 data'!$N$16*100),"...") | D22: =IFERROR(IF('A23 data'!$S$19="","...",'A23 data'!$S$19/'A23 data'!$S$16*100),"...") | E22: =IFERROR(IF('A23 data'!$X$19="","...",'A23 data'!$X$19/'A23 data'!$X$16*100),"...") | F22: =IFERROR(IF('A23 data'!$AG$19="","...",'A23 data'!$AG$19/'A23 data'!$AG$16*100),"...") | G22: =IF(OR('A23 data'!$AG$19="",'A23 data'!$X$19=""),"...",IFERROR((('A23 data'!$AG$19/'A23 data'!$X$19)^(1/9)-1)*100,"...")) | H22: =IF(OR('A23 data'!$AE$19="",'A23 data'!$AD$19=""),"...",IFERROR(('A23 data'!$AE$19/'A23 data'!$AD$19-1)*100,"...")) | I22: =IF(OR('A23 data'!$AF$19="",'A23 data'!$AE$19=""),"...",IFERROR(('A23 data'!$AF$19/'A23 data'!$AE$19-1)*100,"...")) | J22: =IF(OR('A23 data'!$AG$19="",'A23 data'!$AF$19=""),"...",IFERROR(('A23 data'!$AG$19/'A23 data'!$AF$19-1)*100,"..."))
A23: Japan | B23: =IF('A23 data'!$AG$20="","...",'A23 data'!$AG$20/1000) | C23: =IFERROR(IF('A23 data'!$N$20="","...",'A23 data'!$N$20/'A23 data'!$N$16*100),"...") | D23: =IFERROR(IF('A23 data'!$S$20="","...",'A23 data'!$S$20/'A23 data'!$S$16*100),"...") | E23: =IFERROR(IF('A23 data'!$X$20="","...",'A23 data'!$X$20/'A23 data'!$X$16*100),"...") | F23: =IFERROR(IF('A23 data'!$AG$20="","...",'A23 data'!$AG$20/'A23 data'!$AG$16*100),"...") | G23: =IF(OR('A23 data'!$AG$20="",'A23 data'!$X$20=""),"...",IFERROR((('A23 data'!$AG$20/'A23 data'!$X$20)^(1/9)-1)*100,"...")) | H23: =IF(OR('A23 data'!$AE$20="",'A23 data'!$AD$20=""),"...",IFERROR(('A23 data'!$AE$20/'A23 data'!$AD$20-1)*100,"...")) | I23: =IF(OR('A23 data'!$AF$20="",'A23 data'!$AE$20=""),"...",IFERROR(('A23 data'!$AF$20/'A23 data'!$AE$20-1)*100,"...")) | J23: =IF(OR('A23 data'!$AG$20="",'A23 data'!$AF$20=""),"...",IFERROR(('A23 data'!$AG$20/'A23 data'!$AF$20-1)*100,"..."))
A24: United Kingdom | B24: =IF('A23 data'!$AG$21="","...",'A23 data'!$AG$21/1000) | C24: =IFERROR(IF('A23 data'!$N$21="","...",'A23 data'!$N$21/'A23 data'!$N$16*100),"...") | D24: =IFERROR(IF('A23 data'!$S$21="","...",'A23 data'!$S$21/'A23 data'!$S$16*100),"...") | E24: =IFERROR(IF('A23 data'!$X$21="","...",'A23 data'!$X$21/'A23 data'!$X$16*100),"...") | F24: =IFERROR(IF('A23 data'!$AG$21="","...",'A23 data'!$AG$21/'A23 data'!$AG$16*100),"...") | G24: =IF(OR('A23 data'!$AG$21="",'A23 data'!$X$21=""),"...",IFERROR((('A23 data'!$AG$21/'A23 data'!$X$21)^(1/9)-1)*100,"...")) | H24: =IF(OR('A23 data'!$AE$21="",'A23 data'!$AD$21=""),"...",IFERROR(('A23 data'!$AE$21/'A23 data'!$AD$21-1)*100,"...")) | I24: =IF(OR('A23 data'!$AF$21="",'A23 data'!$AE$21=""),"...",IFERROR(('A23 data'!$AF$21/'A23 data'!$AE$21-1)*100,"...")) | J24: =IF(OR('A23 data'!$AG$21="",'A23 data'!$AF$21=""),"...",IFERROR(('A23 data'!$AG$21/'A23 data'!$AF$21-1)*100,"..."))
A25: Hong Kong, China | B25: =IF('A23 data'!$AG$22="","...",'A23 data'!$AG$22/1000) | C25: =IFERROR(IF('A23 data'!$N$22="","...",'A23 data'!$N$22/'A23 data'!$N$16*100),"...") | D25: =IFERROR(IF('A23 data'!$S$22="","...",'A23 data'!$S$22/'A23 data'!$S$16*100),"...") | E25: =IFERROR(IF('A23 data'!$X$22="","...",'A23 data'!$X$22/'A23 data'!$X$16*100),"...") | F25: =IFERROR(IF('A23 data'!$AG$22="","...",'A23 data'!$AG$22/'A23 data'!$AG$16*100),"...") | G25: =IF(OR('A23 data'!$AG$22="",'A23 data'!$X$22=""),"...",IFERROR((('A23 data'!$AG$22/'A23 data'!$X$22)^(1/9)-1)*100,"...")) | H25: =IF(OR('A23 data'!$AE$22="",'A23 data'!$AD$22=""),"...",IFERROR(('A23 data'!$AE$22/'A23 data'!$AD$22-1)*100,"...")) | I25: =IF(OR('A23 data'!$AF$22="",'A23 data'!$AE$22=""),"...",IFERROR(('A23 data'!$AF$22/'A23 data'!$AE$22-1)*100,"...")) | J25: =IF(OR('A23 data'!$AG$22="",'A23 data'!$AF$22=""),"...",IFERROR(('A23 data'!$AG$22/'A23 data'!$AF$22-1)*100,"..."))
A26: Canada | B26: =IF('A23 data'!$AG$23="","...",'A23 data'!$AG$23/1000) | C26: =IFERROR(IF('A23 data'!$N$23="","...",'A23 data'!$N$23/'A23 data'!$N$16*100),"...") | D26: =IFERROR(IF('A23 data'!$S$23="","...",'A23 data'!$S$23/'A23 data'!$S$16*100),"...") | E26: =IFERROR(IF('A23 data'!$X$23="","...",'A23 data'!$X$23/'A23 data'!$X$16*100),"...") | F26: =IFERROR(IF('A23 data'!$AG$23="","...",'A23 data'!$AG$23/'A23 data'!$AG$16*100),"...") | G26: =IF(OR('A23 data'!$AG$23="",'A23 data'!$X$23=""),"...",IFERROR((('A23 data'!$AG$23/'A23 data'!$X$23)^(1/9)-1)*100,"...")) | H26: =IF(OR('A23 data'!$AE$23="",'A23 data'!$AD$23=""),"...",IFERROR(('A23 data'!$AE$23/'A23 data'!$AD$23-1)*100,"...")) | I26: =IF(OR('A23 data'!$AF$23="",'A23 data'!$AE$23=""),"...",IFERROR(('A23 data'!$AF$23/'A23 data'!$AE$23-1)*100,"...")) | J26: =IF(OR('A23 data'!$AG$23="",'A23 data'!$AF$23=""),"...",IFERROR(('A23 data'!$AG$23/'A23 data'!$AF$23-1)*100,"..."))
A27: Switzerland | B27: =IF('A23 data'!$AG$24="","...",'A23 data'!$AG$24/1000) | C27: =IFERROR(IF('A23 data'!$N$24="","...",'A23 data'!$N$24/'A23 data'!$N$16*100),"...") | D27: =IFERROR(IF('A23 data'!$S$24="","...",'A23 data'!$S$24/'A23 data'!$S$16*100),"...") | E27: =IFERROR(IF('A23 data'!$X$24="","...",'A23 data'!$X$24/'A23 data'!$X$16*100),"...") | F27: =IFERROR(IF('A23 data'!$AG$24="","...",'A23 data'!$AG$24/'A23 data'!$AG$16*100),"...") | G27: =IF(OR('A23 data'!$AG$24="",'A23 data'!$X$24=""),"...",IFERROR((('A23 data'!$AG$24/'A23 data'!$X$24)^(1/9)-1)*100,"...")) | H27: =IF(OR('A23 data'!$AE$24="",'A23 data'!$AD$24=""),"...",IFERROR(('A23 data'!$AE$24/'A23 data'!$AD$24-1)*100,"...")) | I27: =IF(OR('A23 data'!$AF$24="",'A23 data'!$AE$24=""),"...",IFERROR(('A23 data'!$AF$24/'A23 data'!$AE$24-1)*100,"...")) | J27: =IF(OR('A23 data'!$AG$24="",'A23 data'!$AF$24=""),"...",IFERROR(('A23 data'!$AG$24/'A23 data'!$AF$24-1)*100,"..."))
A28: Russian Federation | B28: =IF('A23 data'!$AG$25="","...",'A23 data'!$AG$25/1000) | C28: =IFERROR(IF('A23 data'!$N$25="","...",'A23 data'!$N$25/'A23 data'!$N$16*100),"...") | D28: =IFERROR(IF('A23 data'!$S$25="","...",'A23 data'!$S$25/'A23 data'!$S$16*100),"...") | E28: =IFERROR(IF('A23 data'!$X$25="","...",'A23 data'!$X$25/'A23 data'!$X$16*100),"...") | F28: =IFERROR(IF('A23 data'!$AG$25="","...",'A23 data'!$AG$25/'A23 data'!$AG$16*100),"...") | G28: =IF(OR('A23 data'!$AG$25="",'A23 data'!$X$25=""),"...",IFERROR((('A23 data'!$AG$25/'A23 data'!$X$25)^(1/9)-1)*100,"...")) | H28: =IF(OR('A23 data'!$AE$25="",'A23 data'!$AD$25=""),"...",IFERROR(('A23 data'!$AE$25/'A23 data'!$AD$25-1)*100,"...")) | I28: =IF(OR('A23 data'!$AF$25="",'A23 data'!$AE$25=""),"...",IFERROR(('A23 data'!$AF$25/'A23 data'!$AE$25-1)*100,"...")) | J28: =IF(OR('A23 data'!$AG$25="",'A23 data'!$AF$25=""),"...",IFERROR(('A23 data'!$AG$25/'A23 data'!$AF$25-1)*100,"..."))
A29: Australia | B29: =IF('A23 data'!$AG$26="","...",'A23 data'!$AG$26/1000) | C29: =IFERROR(IF('A23 data'!$N$26="","...",'A23 data'!$N$26/'A23 data'!$N$16*100),"...") | D29: =IFERROR(IF('A23 data'!$S$26="","...",'A23 data'!$S$26/'A23 data'!$S$16*100),"...") | E29: =IFERROR(IF('A23 data'!$X$26="","...",'A23 data'!$X$26/'A23 data'!$X$16*100),"...") | F29: =IFERROR(IF('A23 data'!$AG$26="","...",'A23 data'!$AG$26/'A23 data'!$AG$16*100),"...") | G29: =IF(OR('A23 data'!$AG$26="",'A23 data'!$X$26=""),"...",IFERROR((('A23 data'!$AG$26/'A23 data'!$X$26)^(1/9)-1)*100,"...")) | H29: =IF(OR('A23 data'!$AE$26="",'A23 data'!$AD$26=""),"...",IFERROR(('A23 data'!$AE$26/'A23 data'!$AD$26-1)*100,"...")) | I29: =IF(OR('A23 data'!$AF$26="",'A23 data'!$AE$26=""),"...",IFERROR(('A23 data'!$AF$26/'A23 data'!$AE$26-1)*100,"...")) | J29: =IF(OR('A23 data'!$AG$26="",'A23 data'!$AF$26=""),"...",IFERROR(('A23 data'!$AG$26/'A23 data'!$AF$26-1)*100,"..."))
A30: Korea, Republic of | B30: =IF('A23 data'!$AG$27="","...",'A23 data'!$AG$27/1000) | C30: =IFERROR(IF('A23 data'!$N$27="","...",'A23 data'!$N$27/'A23 data'!$N$16*100),"...") | D30: =IFERROR(IF('A23 data'!$S$27="","...",'A23 data'!$S$27/'A23 data'!$S$16*100),"...") | E30: =IFERROR(IF('A23 data'!$X$27="","...",'A23 data'!$X$27/'A23 data'!$X$16*100),"...") | F30: =IFERROR(IF('A23 data'!$AG$27="","...",'A23 data'!$AG$27/'A23 data'!$AG$16*100),"...") | G30: =IF(OR('A23 data'!$AG$27="",'A23 data'!$X$27=""),"...",IFERROR((('A23 data'!$AG$27/'A23 data'!$X$27)^(1/9)-1)*100,"...")) | H30: =IF(OR('A23 data'!$AE$27="",'A23 data'!$AD$27=""),"...",IFERROR(('A23 data'!$AE$27/'A23 data'!$AD$27-1)*100,"...")) | I30: =IF(OR('A23 data'!$AF$27="",'A23 data'!$AE$27=""),"...",IFERROR(('A23 data'!$AF$27/'A23 data'!$AE$27-1)*100,"...")) | J30: =IF(OR('A23 data'!$AG$27="",'A23 data'!$AF$27=""),"...",IFERROR(('A23 data'!$AG$27/'A23 data'!$AF$27-1)*100,"..."))
A31: Above 10 | B31: =IFERROR(B20+B22+B23+B24+B25+B26+B27+B28+B29+B30,"...") | C31: =IFERROR(C20+C22+C23+C25+C26+C27+C28+C29+C30,"...") | D31: =IFERROR(D20+D22+D23+D25+D26+D27+D28+D29+D30,"...") | E31: =IFERROR(E20+E22+E23+E24+E25+E26+E27+E28+E29+E30,"...") | F31: =IFERROR(F20+F22+F23+F24+F25+F26+F27+F28+F29+F30,"...") | G31: - | H31: - | I31: - | J31: -
A33: Notes
A34: The EU is ranked as one economy; its member states are not ranked. Extra-EU (the EU's trade with non-members) is shown beneath it and is not ranked.
A35: From 2000 the EU figure is WTO's own series for today's 27 member states (EU-27), in every year, including years when the membership was different. The United Kingdom is ranked on its own.
A36: Before 2000 the EU figure is added up from the member states of each year (EC-9 in 1980, EC-10 in 1981-1985, EC-12 in 1986-1994, EU-15 in 1995-1999), the United Kingdom included; economies that joined later are ranked on their own. Extra-EU cannot be added up and shows "...". If a member state has no data for a year, the EU shows "...".
A37: Break at 2000: EU figures before 2000 (members of that year, added up) and from 2000 (WTO's EU-27) are on different bases, so no EU change or growth rate is shown across 2000.
A38: Economies ranked in 2009: 142 exporters, 148 importers.
A39: "Above 10" is the sum of the ten ranked economies. "..." means not available.
A40: In the "Above 10" shares for years before 2000, the United Kingdom is counted once, as part of the added-up EU, not a second time on its own.
A41: Shares are of world clothing exports or imports. 2000-09 is the compound annual rate of change.
A42: Figures for every year are as WTO published them on 2026-09-29; WTO revises past figures, so they can differ from the printed review.
...

Sheet A22 data
A1: Raw data for table A22 (textiles), 2010 edition (trade data for 2009), US$ million. Source: WTO Timeseries via WTO Timeseries API v1 (api.wto.org).
A2: EU: WTO's EU-27 series from 2000; before 2000 added up from the member states of each year. Extra-EU from 2000 only.
A3: Flow | B3: Code | C3: Economy | D3: 1980 | E3: 1981 | F3: 1982 | G3: 1983 | H3: 1984 | I3: 1985 | J3: 1986 | K3: 1987 | L3: 1988 | M3: 1989 | N3: 1990 | O3: 1991 | P3: 1992 | Q3: 1993 | R3: 1994 | S3: 1995 | T3: 1996 | U3: 1997 | V3: 1998 | W3: 1999 | X3: 2000 | Y3: 2001 | Z3: 2002 | AA3: 2003 | AB3: 2004 | AC3: 2005 | AD3: 2006 | AE3: 2007 | AF3: 2008 | AG3: 2009
A4: Exporters | B4: 000 | C4: World | D4: 54990 | M4: 95950 | N4: 104354 | O4: 108925 | P4: 117195 | Q4: 113452 | R4: 131673 | S4: 152319 | T4: 152744 | U4: 155739 | V4: 149831 | W4: 146255 | X4: 156257 | Y4: 148141 | Z4: 154385 | AA4: 173066 | AB4: 195034 | AC4: 203112 | AD4: 219196 | AE4: 239938 | AF4: 251269 | AG4: 212161
A5: Exporters | B5: 156 | C5: China | D5: 2540 | E5: 3390 | F5: 2735 | G5: 3270 | H5: 3825 | I5: 3680 | J5: 5440 | K5: 6485 | L5: 6975 | M5: 7215 | N5: 7219 | O5: 8014 | P5: 8583 | Q5: 8699 | R5: 11818 | S5: 13918 | T5: 12112 | U5: 13828 | V5: 12817 | W5: 13043 | X5: 16135 | Y5: 16825 | Z5: 20562 | AA5: 26900 | AB5: 33428 | AC5: 41050 | AD5: 48678 | AE5: 56032 | AF5: 65367 | AG5: 59824
A6: Exporters | B6: 918 | C6: European Union | D6: 23864 | E6: 21127 | F6: 19943 | G6: 19758 | H6: 20333 | I6: 21713 | J6: 29484 | K6: 35296 | L6: 37863 | M6: 39003 | N6: 47150 | O6: 46380 | P6: 48909 | Q6: 42475 | R6: 48079 | S6: 62200 | T6: 61480 | U6: 59178 | V6: 60365 | W6: 55395 | X6: 52129 | Y6: 51576 | Z6: 53324 | AA6: 60887 | AB6: 68041 | AC6: 65922 | AD6: 69181 | AE6: 77234 | AF6: 76844 | AG6: 59494
A7: Exporters | B7: EUT | C7: Extra-EU | X7: 17896 | Y7: 17922 | Z7: 18702 | AA7: 20794 | AB7: 23706 | AC7: 22958 | AD7: 24223 | AE7: 26974 | AF7: 26953 | AG7: 20927
A8: Exporters | B8: 344 | C8: Hong Kong, China | D8: 1771 | E8: 2183 | F8: 1888 | G8: 2033 | H8: 2726 | I8: 3038 | J8: 3959 | K8: 5669 | L8: 6371 | M8: 7574 | N8: 8213 | O8: 9770 | P8: 10979 | Q8: 11212 | R8: 12574 | S8: 13815 | T8: 14146 | U8: 14602 | V8: 13040 | W8: 12270 | X8: 13441 | Y8: 12213 | Z8: 12422 | AA8: 13087 | AB8: 14296 | AC8: 13830 | AD8: 13910 | AE8: 13417 | AF8: 12256 | AG8: 9976
A9: Exporters | B9: 840 | C9: United States of America | D9: 3757 | E9: 3742 | F9: 2890 | G9: 2500 | H9: 2535 | I9: 2541 | J9: 2812 | K9: 3127 | L9: 3890 | M9: 4371 | N9: 5039 | O9: 5610 | P9: 5889 | Q9: 6025 | R9: 6592 | S9: 7372 | T9: 8008 | U9: 9187 | V9: 9205 | W9: 9504 | X9: 10947 | Y9: 10467 | Z9: 10659 | AA9: 10887 | AB9: 12027 | AC9: 12398 | AD9: 12665 | AE9: 12386 | AF9: 12470 | AG9: 9915
A10: Exporters | B10: 410 | C10: Korea, Republic of | D10: 2209 | E10: 2460 | F10: 2251 | G10: 2423 | H10: 2615 | I10: 2534 | J10: 3215 | K10: 4080 | L10: 4848 | M10: 5371 | N10: 6076 | O10: 7300 | P10: 8208 | Q10: 8954 | R10: 10693 | S10: 12313 | T10: 12718 | U10: 13337 | V10: 11279 | W10: 11618 | X10: 12710 | Y10: 10941 | Z10: 10945 | AA10: 10779 | AB10: 10839 | AC10: 10391 | AD10: 10110 | AE10: 10373 | AF10: 10371 | AG10: 9155
A11: Exporters | B11: 356 | C11: India | D11: 1306 | E11: 1168 | F11: 1064 | G11: 889 | H11: 1175 | I11: 1054 | J11: 1062 | K11: 1573 | L11: 1585 | M11: 1810 | N11: 2180 | O11: 2530 | P11: 2932 | Q11: 2917 | R11: 3829 | S11: 4358 | T11: 4936 | U11: 5243 | V11: 4558 | W11: 5086 | X11: 5593 | Y11: 5523 | Z11: 5813 | AA11: 6435 | AB11: 7406 | AC11: 8331 | AD11: 8880 | AE11: 9617 | AF11: 10372 | AG11: 9111
A12: Exporters | B12: 158 | C12: Chinese Taipei | D12: 1771 | E12: 2022 | F12: 1748 | G12: 1803 | H12: 2169 | I12: 2490 | J12: 3045 | K12: 4087 | L12: 4545 | M12: 5442 | N12: 6128 | O12: 7335 | P12: 7554 | Q12: 8160 | R12: 10242 | S12: 11861 | T12: 12024 | U12: 12750 | V12: 11123 | W12: 10863 | X12: 11891 | Y12: 9897 | Z12: 9531 | AA12: 9303 | AB12: 10038 | AC12: 9706 | AD12: 9780 | AE12: 9732 | AF12: 9253 | AG12: 7891
A13: Exporters | B13: 792 | C13: Türkiye | D13: 343 | E13: 569 | F13: 767 | G13: 853 | H13: 1006 | I13: 1045 | J13: 935 | K13: 1208 | L13: 1340 | M13: 1331 | N13: 1440 | O13: 1429 | P13: 1619 | Q13: 1592 | R13: 2194 | S13: 2527 | T13: 2722 | U13: 3352 | V13: 3549 | W13: 3478 | X13: 3672 | Y13: 3943 | Z13: 4244 | AA13: 5262 | AB13: 6428 | AC13: 7076 | AD13: 7585 | AE13: 8942 | AF13: 9399 | AG13: 7724
A14: Exporters | B14: 586 | C14: Pakistan | D14: 876 | E14: 976 | F14: 928 | G14: 1312 | H14: 999 | I14: 970 | J14: 1264 | K14: 1854 | L14: 1803 | M14: 2018 | N14: 2663 | O14: 3200 | P14: 3590 | Q14: 3507 | R14: 3985 | S14: 4256 | T14: 4919 | U14: 4608 | V14: 4302 | W14: 4258 | X14: 4532 | Y14: 4525 | Z14: 4790 | AA14: 5811 | AB14: 6125 | AC14: 7087 | AD14: 7469 | AE14: 7371 | AF14: 7186 | AG14: 6510
A15: Exporters | B15: 392 | C15: Japan | D15: 5123 | E15: 5869 | F15: 5102 | G15: 5345 | H15: 5358 | I15: 4943 | J15: 5488 | K15: 5597 | L15: 5527 | M15: 5534 | N15: 5871 | O15: 6527 | P15: 7078 | Q15: 6717 | R15: 6780 | S15: 7178 | T15: 6927 | U15: 6751 | V15: 5971 | W15: 6598 | X15: 7023 | Y15: 6197 | Z15: 6030 | AA15: 6431 | AB15: 7138 | AC15: 6905 | AD15: 6934 | AE15: 7108 | AF15: 7340 | AG15: 6109
A16: Importers | B16: 000 | C16: World | D16: 56975 | I16: 55618 | N16: 107839 | O16: 114665 | P16: 123584 | Q16: 118287 | R16: 135585 | S16: 156515 | T16: 157848 | U16: 160869 | V16: 155336 | W16: 153303 | X16: 165331 | Y16: 156743 | Z16: 163350 | AA16: 183116 | AB16: 206359 | AC16: 214906 | AD16: 231924 | AE16: 253871 | AF16: 265860 | AG16: 224481
A17: Importers | B17: 918 | C17: European Union | D17: 22886 | E17: 19199 | F17: 18414 | G17: 18191 | H17: 18605 | I17: 19758 | J17: 26864 | K17: 33081 | L17: 35975 | M17: 37346 | N17: 45999 | O17: 45443 | P17: 47101 | Q17: 36078 | R17: 41930 | S17: 53221 | T17: 52480 | U17: 51481 | V17: 54154 | W17: 48987 | X17: 49070 | Y17: 48471 | Z17: 49422 | AA17: 57318 | AB17: 63338 | AC17: 62681 | AD17: 66513 | AE17: 74639 | AF17: 74850 | AG17: 58067
A18: Importers | B18: EUT | C18: Extra-EU | X18: 15934 | Y18: 15608 | Z18: 15778 | AA18: 18270 | AB18: 20632 | AC18: 21165 | AD18: 23289 | AE18: 26769 | AF18: 27347 | AG18: 21901
A19: Importers | B19: 840 | C19: United States of America | D19: 2542 | E19: 3072 | F19: 2852 | G19: 3276 | H19: 4617 | I19: 4977 | J19: 5838 | K19: 6512 | L19: 6279 | M19: 6417 | N19: 6730 | O19: 7329 | P19: 8215 | Q19: 8855 | R19: 9658 | S19: 10441 | T19: 10692 | U19: 12449 | V19: 13444 | W19: 14277 | X19: 15191 | Y19: 14632 | Z19: 16952 | AA19: 18253 | AB19: 20662 | AC19: 22534 | AD19: 23498 | AE19: 24089 | AF19: 23128 | AG19: 19211
A20: Importers | B20: 156 | C20: China | D20: 1100 | E20: 1670 | F20: 1170 | G20: 911 | H20: 1370 | I20: 2040 | J20: 3160 | K20: 3589 | L20: 4219 | M20: 4603 | N20: 5292 | O20: 6751 | P20: 7560 | Q20: 7645 | R20: 9347 | S20: 10914 | T20: 11980 | U20: 12267 | V20: 11082 | W20: 11079 | X20: 12832 | Y20: 12573 | Z20: 13060 | AA20: 14217 | AB20: 15304 | AC20: 15503 | AD20: 16358 | AE20: 16645 | AF20: 16289 | AG20: 14945
A21: Importers | B21: 344 | C21: Hong Kong, China | D21: 2967 | E21: 3428 | F21: 2970 | G21: 3278 | H21: 4178 | I21: 4281 | J21: 5418 | K21: 7304 | L21: 8007 | M21: 9218 | N21: 10182 | O21: 12068 | P21: 13091 | Q21: 12784 | R21: 15294 | S21: 16859 | T21: 16515 | U21: 16205 | V21: 13483 | W21: 12561 | X21: 13716 | Y21: 12176 | Z21: 12065 | AA21: 12931 | AB21: 14110 | AC21: 13793 | AD21: 13975 | AE21: 13559 | AF21: 12313 | AG21: 9964
A22: Importers | B22: 392 | C22: Japan | D22: 1722 | E22: 1639 | F22: 1612 | G22: 1496 | H22: 1934 | I22: 1900 | J22: 2185 | K22: 2994 | L22: 3934 | M22: 4347 | N22: 4133 | O22: 4331 | P22: 4175 | Q22: 3933 | R22: 5152 | S22: 5985 | T22: 6075 | U22: 5801 | V22: 4354 | W22: 4543 | X22: 4936 | Y22: 4753 | Z22: 4532 | AA22: 5031 | AB22: 5599 | AC22: 5812 | AD22: 6179 | AE22: 6302 | AF22: 6925 | AG22: 6742
A23: Importers | B23: 826 | C23: United Kingdom | D23: 3560 | E23: 3508 | F23: 3343 | G23: 3483 | H23: 3589 | I23: 3869 | J23: 4602 | K23: 5703 | L23: 6473 | M23: 6171 | N23: 7018 | O23: 6604 | P23: 6939 | Q23: 5569 | R23: 6645 | S23: 7262 | T23: 7808 | U23: 8376 | V23: 8341 | W23: 7476 | X23: 7265 | Y23: 6782 | Z23: 6870 | AA23: 7275 | AB23: 8195 | AC23: 7614 | AD23: 7946 | AE23: 8672 | AF23: 8112 | AG23: 6357
A24: Importers | B24: 704 | C24: Viet Nam | U24: 711 | V24: 902 | W24: 1075 | X24: 1379 | Y24: 1291 | Z24: 2071 | AA24: 2441 | AB24: 2941 | AC24: 3435 | AD24: 3988 | AE24: 5139 | AF24: 5703 | AG24: 5469
A25: Importers | B25: 792 | C25: Türkiye | D25: 80 | E25: 78 | F25: 103 | G25: 98 | H25: 117 | I25: 145 | J25: 159 | K25: 202 | L25: 257 | M25: 293 | N25: 567 | O25: 537 | P25: 707 | Q25: 1011 | R25: 1110 | S25: 1811 | T25: 1933 | U25: 2324 | V25: 2317 | W25: 1907 | X25: 2124 | Y25: 1921 | Z25: 2839 | AA25: 3441 | AB25: 4170 | AC25: 4441 | AD25: 4686 | AE25: 6009 | AF25: 5646 | AG25: 4718
A26: Importers | B26: 484 | C26: Mexico | D26: 133 | N26: 992 | O26: 1230 | P26: 1532 | Q26: 1900 | R26: 2147 | S26: 1768 | T26: 2220 | U26: 2868 | V26: 3433 | W26: 4837 | X26: 5822 | Y26: 5383 | Z26: 5571 | AA26: 5457 | AB26: 5752 | AC26: 6043 | AD26: 5951 | AE26: 5640 | AF26: 5366 | AG26: 4197
A27: Importers | B27: 124 | C27: Canada | D27: 1306 | E27: 1413 | F27: 1138 | G27: 1406 | H27: 1570 | I27: 1618 | J27: 1789 | K27: 2005 | L27: 2176 | M27: 2357 | N27: 2325 | O27: 2425 | P27: 2504 | Q27: 2714 | R27: 2917 | S27: 3204 | T27: 3313 | U27: 3885 | V27: 4027 | W27: 3991 | X27: 4126 | Y27: 3808 | Z27: 3799 | AA27: 3847 | AB27: 4109 | AC27: 4303 | AD27: 4361 | AE27: 4425 | AF27: 4317 | AG27: 3560

Sheet A23 data
A1: Raw data for table A23 (clothing), 2010 edition (trade data for 2009), US$ million. Source: WTO Timeseries via WTO Timeseries API v1 (api.wto.org).
A2: EU: WTO's EU-27 series from 2000; before 2000 added up from the member states of each year. Extra-EU from 2000 only.
A3: Flow | B3: Code | C3: Economy | D3: 1980 | E3: 1981 | F3: 1982 | G3: 1983 | H3: 1984 | I3: 1985 | J3: 1986 | K3: 1987 | L3: 1988 | M3: 1989 | N3: 1990 | O3: 1991 | P3: 1992 | Q3: 1993 | R3: 1994 | S3: 1995 | T3: 1996 | U3: 1997 | V3: 1998 | W3: 1999 | X3: 2000 | Y3: 2001 | Z3: 2002 | AA3: 2003 | AB3: 2004 | AC3: 2005 | AD3: 2006 | AE3: 2007 | AF3: 2008 | AG3: 2009
A4: Exporters | B4: 000 | C4: World | D4: 40590 | M4: 97450 | N4: 108129 | O4: 117160 | P4: 132106 | Q4: 128792 | R4: 140757 | S4: 158353 | T4: 166077 | U4: 177616 | V4: 185963 | W4: 184587 | X4: 197723 | Y4: 194364 | Z4: 203726 | AA4: 233281 | AB4: 260436 | AC4: 278465 | AD4: 310876 | AE4: 349061 | AF4: 365091 | AG4: 318214
A5: Exporters | B5: 156 | C5: China | D5: 1625 | E5: 1930 | F5: 2140 | G5: 2320 | H5: 2755 | I5: 2450 | J5: 4050 | K5: 5790 | L5: 6990 | M5: 8165 | N5: 9669 | O5: 12245 | P5: 16704 | Q5: 18441 | R5: 23731 | S5: 24049 | T5: 25034 | U5: 31803 | V5: 30048 | W5: 30078 | X5: 36071 | Y5: 36650 | Z5: 41302 | AA5: 52061 | AB5: 61856 | AC5: 74163 | AD5: 95379 | AE5: 115520 | AF5: 120405 | AG5: 107264
A6: Exporters | B6: 918 | C6: European Union | D6: 14026 | E6: 12883 | F6: 12592 | G6: 12575 | H6: 13092 | I6: 14445 | J6: 22006 | K6: 27247 | L6: 28204 | M6: 29629 | N6: 37900 | O6: 39455 | P6: 43202 | Q6: 34978 | R6: 38271 | S6: 48458 | T6: 52628 | U6: 50697 | V6: 52821 | W6: 50227 | X6: 52174 | Y6: 55147 | Z6: 59121 | AA6: 70246 | AB6: 79142 | AC6: 81482 | AD6: 87218 | AE6: 100347 | AF6: 109596 | AG6: 93726
A7: Exporters | B7: EUT | C7: Extra-EU | X7: 16024 | Y7: 17048 | Z7: 18263 | AA7: 20801 | AB7: 23057 | AC7: 23971 | AD7: 25972 | AE7: 30135 | AF7: 32706 | AG7: 25982
A8: Exporters | B8: 344 | C8: Hong Kong, China | D8: 4976 | E8: 5424 | F8: 5241 | G8: 5308 | H8: 6765 | I8: 6718 | J8: 8398 | K8: 10720 | L8: 11786 | M8: 13994 | N8: 15406 | O8: 17959 | P8: 20060 | Q8: 20998 | R8: 21404 | S8: 21297 | T8: 21976 | U8: 23108 | V8: 22164 | W8: 22371 | X8: 24214 | Y8: 23446 | Z8: 22430 | AA8: 23158 | AB8: 25097 | AC8: 27292 | AD8: 28391 | AE8: 28765 | AF8: 27908 | AG8: 22826
A9: Exporters | B9: 356 | C9: India | D9: 673 | E9: 755 | F9: 625 | G9: 694 | H9: 831 | I9: 930 | J9: 1061 | K9: 1402 | L9: 1508 | M9: 2060 | N9: 2530 | O9: 2527 | P9: 3099 | Q9: 2970 | R9: 3701 | S9: 4110 | T9: 4217 | U9: 4343 | V9: 4782 | W9: 5153 | X9: 5965 | Y9: 5488 | Z9: 5832 | AA9: 6315 | AB9: 6926 | AC9: 8739 | AD9: 9564 | AE9: 9930 | AF9: 10968 | AG9: 12005
A10: Exporters | B10: 050 | C10: Bangladesh | D10: 2 | E10: 5 | F10: 11 | G10: 21 | H10: 77 | I10: 168 | J10: 236 | K10: 416 | L10: 416 | M10: 440 | N10: 643 | O10: 840 | P10: 1042 | Q10: 1307 | R10: 1479 | S10: 1969 | T10: 2218 | U10: 2688 | V10: 3786 | W10: 3868 | X10: 5067 | Y10: 4772 | Z10: 4818 | AA10: 5654 | AB10: 6296 | AC10: 6890 | AD10: 8318 | AE10: 8855 | AF10: 11672 | AG10: 11892
A11: Exporters | B11: 792 | C11: Türkiye | D11: 131 | E11: 314 | F11: 398 | G11: 648 | H11: 1267 | I11: 1208 | J11: 1245 | K11: 2197 | L11: 2352 | M11: 2741 | N11: 3331 | O11: 3478 | P11: 4179 | Q11: 4339 | R11: 4582 | S11: 6119 | T11: 6067 | U11: 6697 | V11: 7058 | W11: 6516 | X11: 6533 | Y11: 6661 | Z11: 8057 | AA11: 9962 | AB11: 11193 | AC11: 11833 | AD11: 12052 | AE11: 13886 | AF11: 13591 | AG11: 11556
A12: Exporters | B12: 704 | C12: Viet Nam | U12: 1384 | V12: 1302 | W12: 1622 | X12: 1821 | Y12: 1867 | Z12: 2633 | AA12: 3465 | AB12: 4250 | AC12: 4681 | AD12: 5579 | AE12: 7400 | AF12: 8724 | AG12: 8540
A13: Exporters | B13: 360 | C13: Indonesia | D13: 98 | E13: 95 | F13: 117 | G13: 157 | H13: 296 | I13: 339 | J13: 522 | K13: 596 | L13: 797 | M13: 1146 | N13: 1646 | O13: 2265 | P13: 3164 | Q13: 3502 | R13: 3206 | S13: 3376 | T13: 3591 | U13: 2904 | V13: 2630 | W13: 3857 | X13: 4734 | Y13: 4531 | Z13: 3875 | AA13: 4052 | AB13: 4285 | AC13: 4959 | AD13: 5760 | AE13: 5870 | AF13: 6285 | AG13: 5915
