Workbook

Sheet A22 textiles
A1: Table A22, 2008 edition (trade data for 2007)
A2: Top 10 exporters and importers of textiles, 2007
A3: (Billion dollars and percentage)
A5: Economy | B5: Value 2007 (US$ bn) | C5: Share 1990 (%) | D5: Share 1995 (%) | E5: Share 2000 (%) | F5: Share 2007 (%) | G5: Change 2000-07 (% p.a.) | H5: Change 2005 (%) | I5: Change 2006 (%) | J5: Change 2007 (%)
A6: Exporters
A7: European Union | B7: =IF('A22 data'!$AE$5="","...",'A22 data'!$AE$5/1000) | C7: =IFERROR(IF('A22 data'!$N$5="","...",'A22 data'!$N$5/'A22 data'!$N$4*100),"...") | D7: =IFERROR(IF('A22 data'!$S$5="","...",'A22 data'!$S$5/'A22 data'!$S$4*100),"...") | E7: =IFERROR(IF('A22 data'!$X$5="","...",'A22 data'!$X$5/'A22 data'!$X$4*100),"...") | F7: =IFERROR(IF('A22 data'!$AE$5="","...",'A22 data'!$AE$5/'A22 data'!$AE$4*100),"...") | G7: =IF(OR('A22 data'!$AE$5="",'A22 data'!$X$5=""),"...",IFERROR((('A22 data'!$AE$5/'A22 data'!$X$5)^(1/7)-1)*100,"...")) | H7: =IF(OR('A22 data'!$AC$5="",'A22 data'!$AB$5=""),"...",IFERROR(('A22 data'!$AC$5/'A22 data'!$AB$5-1)*100,"...")) | I7: =IF(OR('A22 data'!$AD$5="",'A22 data'!$AC$5=""),"...",IFERROR(('A22 data'!$AD$5/'A22 data'!$AC$5-1)*100,"...")) | J7: =IF(OR('A22 data'!$AE$5="",'A22 data'!$AD$5=""),"...",IFERROR(('A22 data'!$AE$5/'A22 data'!$AD$5-1)*100,"..."))
A8: Extra-EU | B8: =IF('A22 data'!$AE$6="","...",'A22 data'!$AE$6/1000) | C8: =IFERROR(IF('A22 data'!$N$6="","...",'A22 data'!$N$6/'A22 data'!$N$4*100),"...") | D8: =IFERROR(IF('A22 data'!$S$6="","...",'A22 data'!$S$6/'A22 data'!$S$4*100),"...") | E8: =IFERROR(IF('A22 data'!$X$6="","...",'A22 data'!$X$6/'A22 data'!$X$4*100),"...") | F8: =IFERROR(IF('A22 data'!$AE$6="","...",'A22 data'!$AE$6/'A22 data'!$AE$4*100),"...") | G8: =IF(OR('A22 data'!$AE$6="",'A22 data'!$X$6=""),"...",IFERROR((('A22 data'!$AE$6/'A22 data'!$X$6)^(1/7)-1)*100,"...")) | H8: =IF(OR('A22 data'!$AC$6="",'A22 data'!$AB$6=""),"...",IFERROR(('A22 data'!$AC$6/'A22 data'!$AB$6-1)*100,"...")) | I8: =IF(OR('A22 data'!$AD$6="",'A22 data'!$AC$6=""),"...",IFERROR(('A22 data'!$AD$6/'A22 data'!$AC$6-1)*100,"...")) | J8: =IF(OR('A22 data'!$AE$6="",'A22 data'!$AD$6=""),"...",IFERROR(('A22 data'!$AE$6/'A22 data'!$AD$6-1)*100,"..."))
A9: China | B9: =IF('A22 data'!$AE$7="","...",'A22 data'!$AE$7/1000) | C9: =IFERROR(IF('A22 data'!$N$7="","...",'A22 data'!$N$7/'A22 data'!$N$4*100),"...") | D9: =IFERROR(IF('A22 data'!$S$7="","...",'A22 data'!$S$7/'A22 data'!$S$4*100),"...") | E9: =IFERROR(IF('A22 data'!$X$7="","...",'A22 data'!$X$7/'A22 data'!$X$4*100),"...") | F9: =IFERROR(IF('A22 data'!$AE$7="","...",'A22 data'!$AE$7/'A22 data'!$AE$4*100),"...") | G9: =IF(OR('A22 data'!$AE$7="",'A22 data'!$X$7=""),"...",IFERROR((('A22 data'!$AE$7/'A22 data'!$X$7)^(1/7)-1)*100,"...")) | H9: =IF(OR('A22 data'!$AC$7="",'A22 data'!$AB$7=""),"...",IFERROR(('A22 data'!$AC$7/'A22 data'!$AB$7-1)*100,"...")) | I9: =IF(OR('A22 data'!$AD$7="",'A22 data'!$AC$7=""),"...",IFERROR(('A22 data'!$AD$7/'A22 data'!$AC$7-1)*100,"...")) | J9: =IF(OR('A22 data'!$AE$7="",'A22 data'!$AD$7=""),"...",IFERROR(('A22 data'!$AE$7/'A22 data'!$AD$7-1)*100,"..."))
A10: Hong Kong, China | B10: =IF('A22 data'!$AE$8="","...",'A22 data'!$AE$8/1000) | C10: =IFERROR(IF('A22 data'!$N$8="","...",'A22 data'!$N$8/'A22 data'!$N$4*100),"...") | D10: =IFERROR(IF('A22 data'!$S$8="","...",'A22 data'!$S$8/'A22 data'!$S$4*100),"...") | E10: =IFERROR(IF('A22 data'!$X$8="","...",'A22 data'!$X$8/'A22 data'!$X$4*100),"...") | F10: =IFERROR(IF('A22 data'!$AE$8="","...",'A22 data'!$AE$8/'A22 data'!$AE$4*100),"...") | G10: =IF(OR('A22 data'!$AE$8="",'A22 data'!$X$8=""),"...",IFERROR((('A22 data'!$AE$8/'A22 data'!$X$8)^(1/7)-1)*100,"...")) | H10: =IF(OR('A22 data'!$AC$8="",'A22 data'!$AB$8=""),"...",IFERROR(('A22 data'!$AC$8/'A22 data'!$AB$8-1)*100,"...")) | I10: =IF(OR('A22 data'!$AD$8="",'A22 data'!$AC$8=""),"...",IFERROR(('A22 data'!$AD$8/'A22 data'!$AC$8-1)*100,"...")) | J10: =IF(OR('A22 data'!$AE$8="",'A22 data'!$AD$8=""),"...",IFERROR(('A22 data'!$AE$8/'A22 data'!$AD$8-1)*100,"..."))
A11: United States of America | B11: =IF('A22 data'!$AE$9="","...",'A22 data'!$AE$9/1000) | C11: =IFERROR(IF('A22 data'!$N$9="","...",'A22 data'!$N$9/'A22 data'!$N$4*100),"...") | D11: =IFERROR(IF('A22 data'!$S$9="","...",'A22 data'!$S$9/'A22 data'!$S$4*100),"...") | E11: =IFERROR(IF('A22 data'!$X$9="","...",'A22 data'!$X$9/'A22 data'!$X$4*100),"...") | F11: =IFERROR(IF('A22 data'!$AE$9="","...",'A22 data'!$AE$9/'A22 data'!$AE$4*100),"...") | G11: =IF(OR('A22 data'!$AE$9="",'A22 data'!$X$9=""),"...",IFERROR((('A22 data'!$AE$9/'A22 data'!$X$9)^(1/7)-1)*100,"...")) | H11: =IF(OR('A22 data'!$AC$9="",'A22 data'!$AB$9=""),"...",IFERROR(('A22 data'!$AC$9/'A22 data'!$AB$9-1)*100,"...")) | I11: =IF(OR('A22 data'!$AD$9="",'A22 data'!$AC$9=""),"...",IFERROR(('A22 data'!$AD$9/'A22 data'!$AC$9-1)*100,"...")) | J11: =IF(OR('A22 data'!$AE$9="",'A22 data'!$AD$9=""),"...",IFERROR(('A22 data'!$AE$9/'A22 data'!$AD$9-1)*100,"..."))
A12: Korea, Republic of | B12: =IF('A22 data'!$AE$10="","...",'A22 data'!$AE$10/1000) | C12: =IFERROR(IF('A22 data'!$N$10="","...",'A22 data'!$N$10/'A22 data'!$N$4*100),"...") | D12: =IFERROR(IF('A22 data'!$S$10="","...",'A22 data'!$S$10/'A22 data'!$S$4*100),"...") | E12: =IFERROR(IF('A22 data'!$X$10="","...",'A22 data'!$X$10/'A22 data'!$X$4*100),"...") | F12: =IFERROR(IF('A22 data'!$AE$10="","...",'A22 data'!$AE$10/'A22 data'!$AE$4*100),"...") | G12: =IF(OR('A22 data'!$AE$10="",'A22 data'!$X$10=""),"...",IFERROR((('A22 data'!$AE$10/'A22 data'!$X$10)^(1/7)-1)*100,"...")) | H12: =IF(OR('A22 data'!$AC$10="",'A22 data'!$AB$10=""),"...",IFERROR(('A22 data'!$AC$10/'A22 data'!$AB$10-1)*100,"...")) | I12: =IF(OR('A22 data'!$AD$10="",'A22 data'!$AC$10=""),"...",IFERROR(('A22 data'!$AD$10/'A22 data'!$AC$10-1)*100,"...")) | J12: =IF(OR('A22 data'!$AE$10="",'A22 data'!$AD$10=""),"...",IFERROR(('A22 data'!$AE$10/'A22 data'!$AD$10-1)*100,"..."))
A13: Chinese Taipei | B13: =IF('A22 data'!$AE$11="","...",'A22 data'!$AE$11/1000) | C13: =IFERROR(IF('A22 data'!$N$11="","...",'A22 data'!$N$11/'A22 data'!$N$4*100),"...") | D13: =IFERROR(IF('A22 data'!$S$11="","...",'A22 data'!$S$11/'A22 data'!$S$4*100),"...") | E13: =IFERROR(IF('A22 data'!$X$11="","...",'A22 data'!$X$11/'A22 data'!$X$4*100),"...") | F13: =IFERROR(IF('A22 data'!$AE$11="","...",'A22 data'!$AE$11/'A22 data'!$AE$4*100),"...") | G13: =IF(OR('A22 data'!$AE$11="",'A22 data'!$X$11=""),"...",IFERROR((('A22 data'!$AE$11/'A22 data'!$X$11)^(1/7)-1)*100,"...")) | H13: =IF(OR('A22 data'!$AC$11="",'A22 data'!$AB$11=""),"...",IFERROR(('A22 data'!$AC$11/'A22 data'!$AB$11-1)*100,"...")) | I13: =IF(OR('A22 data'!$AD$11="",'A22 data'!$AC$11=""),"...",IFERROR(('A22 data'!$AD$11/'A22 data'!$AC$11-1)*100,"...")) | J13: =IF(OR('A22 data'!$AE$11="",'A22 data'!$AD$11=""),"...",IFERROR(('A22 data'!$AE$11/'A22 data'!$AD$11-1)*100,"..."))
A14: India | B14: =IF('A22 data'!$AE$12="","...",'A22 data'!$AE$12/1000) | C14: =IFERROR(IF('A22 data'!$N$12="","...",'A22 data'!$N$12/'A22 data'!$N$4*100),"...") | D14: =IFERROR(IF('A22 data'!$S$12="","...",'A22 data'!$S$12/'A22 data'!$S$4*100),"...") | E14: =IFERROR(IF('A22 data'!$X$12="","...",'A22 data'!$X$12/'A22 data'!$X$4*100),"...") | F14: =IFERROR(IF('A22 data'!$AE$12="","...",'A22 data'!$AE$12/'A22 data'!$AE$4*100),"...") | G14: =IF(OR('A22 data'!$AE$12="",'A22 data'!$X$12=""),"...",IFERROR((('A22 data'!$AE$12/'A22 data'!$X$12)^(1/7)-1)*100,"...")) | H14: =IF(OR('A22 data'!$AC$12="",'A22 data'!$AB$12=""),"...",IFERROR(('A22 data'!$AC$12/'A22 data'!$AB$12-1)*100,"...")) | I14: =IF(OR('A22 data'!$AD$12="",'A22 data'!$AC$12=""),"...",IFERROR(('A22 data'!$AD$12/'A22 data'!$AC$12-1)*100,"...")) | J14: =IF(OR('A22 data'!$AE$12="",'A22 data'!$AD$12=""),"...",IFERROR(('A22 data'!$AE$12/'A22 data'!$AD$12-1)*100,"..."))
A15: Türkiye | B15: =IF('A22 data'!$AE$13="","...",'A22 data'!$AE$13/1000) | C15: =IFERROR(IF('A22 data'!$N$13="","...",'A22 data'!$N$13/'A22 data'!$N$4*100),"...") | D15: =IFERROR(IF('A22 data'!$S$13="","...",'A22 data'!$S$13/'A22 data'!$S$4*100),"...") | E15: =IFERROR(IF('A22 data'!$X$13="","...",'A22 data'!$X$13/'A22 data'!$X$4*100),"...") | F15: =IFERROR(IF('A22 data'!$AE$13="","...",'A22 data'!$AE$13/'A22 data'!$AE$4*100),"...") | G15: =IF(OR('A22 data'!$AE$13="",'A22 data'!$X$13=""),"...",IFERROR((('A22 data'!$AE$13/'A22 data'!$X$13)^(1/7)-1)*100,"...")) | H15: =IF(OR('A22 data'!$AC$13="",'A22 data'!$AB$13=""),"...",IFERROR(('A22 data'!$AC$13/'A22 data'!$AB$13-1)*100,"...")) | I15: =IF(OR('A22 data'!$AD$13="",'A22 data'!$AC$13=""),"...",IFERROR(('A22 data'!$AD$13/'A22 data'!$AC$13-1)*100,"...")) | J15: =IF(OR('A22 data'!$AE$13="",'A22 data'!$AD$13=""),"...",IFERROR(('A22 data'!$AE$13/'A22 data'!$AD$13-1)*100,"..."))
A16: Pakistan | B16: =IF('A22 data'!$AE$14="","...",'A22 data'!$AE$14/1000) | C16: =IFERROR(IF('A22 data'!$N$14="","...",'A22 data'!$N$14/'A22 data'!$N$4*100),"...") | D16: =IFERROR(IF('A22 data'!$S$14="","...",'A22 data'!$S$14/'A22 data'!$S$4*100),"...") | E16: =IFERROR(IF('A22 data'!$X$14="","...",'A22 data'!$X$14/'A22 data'!$X$4*100),"...") | F16: =IFERROR(IF('A22 data'!$AE$14="","...",'A22 data'!$AE$14/'A22 data'!$AE$4*100),"...") | G16: =IF(OR('A22 data'!$AE$14="",'A22 data'!$X$14=""),"...",IFERROR((('A22 data'!$AE$14/'A22 data'!$X$14)^(1/7)-1)*100,"...")) | H16: =IF(OR('A22 data'!$AC$14="",'A22 data'!$AB$14=""),"...",IFERROR(('A22 data'!$AC$14/'A22 data'!$AB$14-1)*100,"...")) | I16: =IF(OR('A22 data'!$AD$14="",'A22 data'!$AC$14=""),"...",IFERROR(('A22 data'!$AD$14/'A22 data'!$AC$14-1)*100,"...")) | J16: =IF(OR('A22 data'!$AE$14="",'A22 data'!$AD$14=""),"...",IFERROR(('A22 data'!$AE$14/'A22 data'!$AD$14-1)*100,"..."))
A17: Japan | B17: =IF('A22 data'!$AE$15="","...",'A22 data'!$AE$15/1000) | C17: =IFERROR(IF('A22 data'!$N$15="","...",'A22 data'!$N$15/'A22 data'!$N$4*100),"...") | D17: =IFERROR(IF('A22 data'!$S$15="","...",'A22 data'!$S$15/'A22 data'!$S$4*100),"...") | E17: =IFERROR(IF('A22 data'!$X$15="","...",'A22 data'!$X$15/'A22 data'!$X$4*100),"...") | F17: =IFERROR(IF('A22 data'!$AE$15="","...",'A22 data'!$AE$15/'A22 data'!$AE$4*100),"...") | G17: =IF(OR('A22 data'!$AE$15="",'A22 data'!$X$15=""),"...",IFERROR((('A22 data'!$AE$15/'A22 data'!$X$15)^(1/7)-1)*100,"...")) | H17: =IF(OR('A22 data'!$AC$15="",'A22 data'!$AB$15=""),"...",IFERROR(('A22 data'!$AC$15/'A22 data'!$AB$15-1)*100,"...")) | I17: =IF(OR('A22 data'!$AD$15="",'A22 data'!$AC$15=""),"...",IFERROR(('A22 data'!$AD$15/'A22 data'!$AC$15-1)*100,"...")) | J17: =IF(OR('A22 data'!$AE$15="",'A22 data'!$AD$15=""),"...",IFERROR(('A22 data'!$AE$15/'A22 data'!$AD$15-1)*100,"..."))
A18: Above 10 | B18: =IFERROR(B7+B9+B10+B11+B12+B13+B14+B15+B16+B17,"...") | C18: =IFERROR(C7+C9+C10+C11+C12+C13+C14+C15+C16+C17,"...") | D18: =IFERROR(D7+D9+D10+D11+D12+D13+D14+D15+D16+D17,"...") | E18: =IFERROR(E7+E9+E10+E11+E12+E13+E14+E15+E16+E17,"...") | F18: =IFERROR(F7+F9+F10+F11+F12+F13+F14+F15+F16+F17,"...") | G18: - | H18: - | I18: - | J18: -
A19: Importers
A20: European Union | B20: =IF('A22 data'!$AE$17="","...",'A22 data'!$AE$17/1000) | C20: =IFERROR(IF('A22 data'!$N$17="","...",'A22 data'!$N$17/'A22 data'!$N$16*100),"...") | D20: =IFERROR(IF('A22 data'!$S$17="","...",'A22 data'!$S$17/'A22 data'!$S$16*100),"...") | E20: =IFERROR(IF('A22 data'!$X$17="","...",'A22 data'!$X$17/'A22 data'!$X$16*100),"...") | F20: =IFERROR(IF('A22 data'!$AE$17="","...",'A22 data'!$AE$17/'A22 data'!$AE$16*100),"...") | G20: =IF(OR('A22 data'!$AE$17="",'A22 data'!$X$17=""),"...",IFERROR((('A22 data'!$AE$17/'A22 data'!$X$17)^(1/7)-1)*100,"...")) | H20: =IF(OR('A22 data'!$AC$17="",'A22 data'!$AB$17=""),"...",IFERROR(('A22 data'!$AC$17/'A22 data'!$AB$17-1)*100,"...")) | I20: =IF(OR('A22 data'!$AD$17="",'A22 data'!$AC$17=""),"...",IFERROR(('A22 data'!$AD$17/'A22 data'!$AC$17-1)*100,"...")) | J20: =IF(OR('A22 data'!$AE$17="",'A22 data'!$AD$17=""),"...",IFERROR(('A22 data'!$AE$17/'A22 data'!$AD$17-1)*100,"..."))
A21: Extra-EU | B21: =IF('A22 data'!$AE$18="","...",'A22 data'!$AE$18/1000) | C21: =IFERROR(IF('A22 data'!$N$18="","...",'A22 data'!$N$18/'A22 data'!$N$16*100),"...") | D21: =IFERROR(IF('A22 data'!$S$18="","...",'A22 data'!$S$18/'A22 data'!$S$16*100),"...") | E21: =IFERROR(IF('A22 data'!$X$18="","...",'A22 data'!$X$18/'A22 data'!$X$16*100),"...") | F21: =IFERROR(IF('A22 data'!$AE$18="","...",'A22 data'!$AE$18/'A22 data'!$AE$16*100),"...") | G21: =IF(OR('A22 data'!$AE$18="",'A22 data'!$X$18=""),"...",IFERROR((('A22 data'!$AE$18/'A22 data'!$X$18)^(1/7)-1)*100,"...")) | H21: =IF(OR('A22 data'!$AC$18="",'A22 data'!$AB$18=""),"...",IFERROR(('A22 data'!$AC$18/'A22 data'!$AB$18-1)*100,"...")) | I21: =IF(OR('A22 data'!$AD$18="",'A22 data'!$AC$18=""),"...",IFERROR(('A22 data'!$AD$18/'A22 data'!$AC$18-1)*100,"...")) | J21: =IF(OR('A22 data'!$AE$18="",'A22 data'!$AD$18=""),"...",IFERROR(('A22 data'!$AE$18/'A22 data'!$AD$18-1)*100,"..."))
A22: United States of America | B22: =IF('A22 data'!$AE$19="","...",'A22 data'!$AE$19/1000) | C22: =IFERROR(IF('A22 data'!$N$19="","...",'A22 data'!$N$19/'A22 data'!$N$16*100),"...") | D22: =IFERROR(IF('A22 data'!$S$19="","...",'A22 data'!$S$19/'A22 data'!$S$16*100),"...") | E22: =IFERROR(IF('A22 data'!$X$19="","...",'A22 data'!$X$19/'A22 data'!$X$16*100),"...") | F22: =IFERROR(IF('A22 data'!$AE$19="","...",'A22 data'!$AE$19/'A22 data'!$AE$16*100),"...") | G22: =IF(OR('A22 data'!$AE$19="",'A22 data'!$X$19=""),"...",IFERROR((('A22 data'!$AE$19/'A22 data'!$X$19)^(1/7)-1)*100,"...")) | H22: =IF(OR('A22 data'!$AC$19="",'A22 data'!$AB$19=""),"...",IFERROR(('A22 data'!$AC$19/'A22 data'!$AB$19-1)*100,"...")) | I22: =IF(OR('A22 data'!$AD$19="",'A22 data'!$AC$19=""),"...",IFERROR(('A22 data'!$AD$19/'A22 data'!$AC$19-1)*100,"...")) | J22: =IF(OR('A22 data'!$AE$19="",'A22 data'!$AD$19=""),"...",IFERROR(('A22 data'!$AE$19/'A22 data'!$AD$19-1)*100,"..."))
A23: China | B23: =IF('A22 data'!$AE$20="","...",'A22 data'!$AE$20/1000) | C23: =IFERROR(IF('A22 data'!$N$20="","...",'A22 data'!$N$20/'A22 data'!$N$16*100),"...") | D23: =IFERROR(IF('A22 data'!$S$20="","...",'A22 data'!$S$20/'A22 data'!$S$16*100),"...") | E23: =IFERROR(IF('A22 data'!$X$20="","...",'A22 data'!$X$20/'A22 data'!$X$16*100),"...") | F23: =IFERROR(IF('A22 data'!$AE$20="","...",'A22 data'!$AE$20/'A22 data'!$AE$16*100),"...") | G23: =IF(OR('A22 data'!$AE$20="",'A22 data'!$X$20=""),"...",IFERROR((('A22 data'!$AE$20/'A22 data'!$X$20)^(1/7)-1)*100,"...")) | H23: =IF(OR('A22 data'!$AC$20="",'A22 data'!$AB$20=""),"...",IFERROR(('A22 data'!$AC$20/'A22 data'!$AB$20-1)*100,"...")) | I23: =IF(OR('A22 data'!$AD$20="",'A22 data'!$AC$20=""),"...",IFERROR(('A22 data'!$AD$20/'A22 data'!$AC$20-1)*100,"...")) | J23: =IF(OR('A22 data'!$AE$20="",'A22 data'!$AD$20=""),"...",IFERROR(('A22 data'!$AE$20/'A22 data'!$AD$20-1)*100,"..."))
A24: Hong Kong, China | B24: =IF('A22 data'!$AE$21="","...",'A22 data'!$AE$21/1000) | C24: =IFERROR(IF('A22 data'!$N$21="","...",'A22 data'!$N$21/'A22 data'!$N$16*100),"...") | D24: =IFERROR(IF('A22 data'!$S$21="","...",'A22 data'!$S$21/'A22 data'!$S$16*100),"...") | E24: =IFERROR(IF('A22 data'!$X$21="","...",'A22 data'!$X$21/'A22 data'!$X$16*100),"...") | F24: =IFERROR(IF('A22 data'!$AE$21="","...",'A22 data'!$AE$21/'A22 data'!$AE$16*100),"...") | G24: =IF(OR('A22 data'!$AE$21="",'A22 data'!$X$21=""),"...",IFERROR((('A22 data'!$AE$21/'A22 data'!$X$21)^(1/7)-1)*100,"...")) | H24: =IF(OR('A22 data'!$AC$21="",'A22 data'!$AB$21=""),"...",IFERROR(('A22 data'!$AC$21/'A22 data'!$AB$21-1)*100,"...")) | I24: =IF(OR('A22 data'!$AD$21="",'A22 data'!$AC$21=""),"...",IFERROR(('A22 data'!$AD$21/'A22 data'!$AC$21-1)*100,"...")) | J24: =IF(OR('A22 data'!$AE$21="",'A22 data'!$AD$21=""),"...",IFERROR(('A22 data'!$AE$21/'A22 data'!$AD$21-1)*100,"..."))
A25: United Kingdom | B25: =IF('A22 data'!$AE$22="","...",'A22 data'!$AE$22/1000) | C25: =IFERROR(IF('A22 data'!$N$22="","...",'A22 data'!$N$22/'A22 data'!$N$16*100),"...") | D25: =IFERROR(IF('A22 data'!$S$22="","...",'A22 data'!$S$22/'A22 data'!$S$16*100),"...") | E25: =IFERROR(IF('A22 data'!$X$22="","...",'A22 data'!$X$22/'A22 data'!$X$16*100),"...") | F25: =IFERROR(IF('A22 data'!$AE$22="","...",'A22 data'!$AE$22/'A22 data'!$AE$16*100),"...") | G25: =IF(OR('A22 data'!$AE$22="",'A22 data'!$X$22=""),"...",IFERROR((('A22 data'!$AE$22/'A22 data'!$X$22)^(1/7)-1)*100,"...")) | H25: =IF(OR('A22 data'!$AC$22="",'A22 data'!$AB$22=""),"...",IFERROR(('A22 data'!$AC$22/'A22 data'!$AB$22-1)*100,"...")) | I25: =IF(OR('A22 data'!$AD$22="",'A22 data'!$AC$22=""),"...",IFERROR(('A22 data'!$AD$22/'A22 data'!$AC$22-1)*100,"...")) | J25: =IF(OR('A22 data'!$AE$22="",'A22 data'!$AD$22=""),"...",IFERROR(('A22 data'!$AE$22/'A22 data'!$AD$22-1)*100,"..."))
A26: Japan | B26: =IF('A22 data'!$AE$23="","...",'A22 data'!$AE$23/1000) | C26: =IFERROR(IF('A22 data'!$N$23="","...",'A22 data'!$N$23/'A22 data'!$N$16*100),"...") | D26: =IFERROR(IF('A22 data'!$S$23="","...",'A22 data'!$S$23/'A22 data'!$S$16*100),"...") | E26: =IFERROR(IF('A22 data'!$X$23="","...",'A22 data'!$X$23/'A22 data'!$X$16*100),"...") | F26: =IFERROR(IF('A22 data'!$AE$23="","...",'A22 data'!$AE$23/'A22 data'!$AE$16*100),"...") | G26: =IF(OR('A22 data'!$AE$23="",'A22 data'!$X$23=""),"...",IFERROR((('A22 data'!$AE$23/'A22 data'!$X$23)^(1/7)-1)*100,"...")) | H26: =IF(OR('A22 data'!$AC$23="",'A22 data'!$AB$23=""),"...",IFERROR(('A22 data'!$AC$23/'A22 data'!$AB$23-1)*100,"...")) | I26: =IF(OR('A22 data'!$AD$23="",'A22 data'!$AC$23=""),"...",IFERROR(('A22 data'!$AD$23/'A22 data'!$AC$23-1)*100,"...")) | J26: =IF(OR('A22 data'!$AE$23="",'A22 data'!$AD$23=""),"...",IFERROR(('A22 data'!$AE$23/'A22 data'!$AD$23-1)*100,"..."))
A27: Türkiye | B27: =IF('A22 data'!$AE$24="","...",'A22 data'!$AE$24/1000) | C27: =IFERROR(IF('A22 data'!$N$24="","...",'A22 data'!$N$24/'A22 data'!$N$16*100),"...") | D27: =IFERROR(IF('A22 data'!$S$24="","...",'A22 data'!$S$24/'A22 data'!$S$16*100),"...") | E27: =IFERROR(IF('A22 data'!$X$24="","...",'A22 data'!$X$24/'A22 data'!$X$16*100),"...") | F27: =IFERROR(IF('A22 data'!$AE$24="","...",'A22 data'!$AE$24/'A22 data'!$AE$16*100),"...") | G27: =IF(OR('A22 data'!$AE$24="",'A22 data'!$X$24=""),"...",IFERROR((('A22 data'!$AE$24/'A22 data'!$X$24)^(1/7)-1)*100,"...")) | H27: =IF(OR('A22 data'!$AC$24="",'A22 data'!$AB$24=""),"...",IFERROR(('A22 data'!$AC$24/'A22 data'!$AB$24-1)*100,"...")) | I27: =IF(OR('A22 data'!$AD$24="",'A22 data'!$AC$24=""),"...",IFERROR(('A22 data'!$AD$24/'A22 data'!$AC$24-1)*100,"...")) | J27: =IF(OR('A22 data'!$AE$24="",'A22 data'!$AD$24=""),"...",IFERROR(('A22 data'!$AE$24/'A22 data'!$AD$24-1)*100,"..."))
A28: Mexico | B28: =IF('A22 data'!$AE$25="","...",'A22 data'!$AE$25/1000) | C28: =IFERROR(IF('A22 data'!$N$25="","...",'A22 data'!$N$25/'A22 data'!$N$16*100),"...") | D28: =IFERROR(IF('A22 data'!$S$25="","...",'A22 data'!$S$25/'A22 data'!$S$16*100),"...") | E28: =IFERROR(IF('A22 data'!$X$25="","...",'A22 data'!$X$25/'A22 data'!$X$16*100),"...") | F28: =IFERROR(IF('A22 data'!$AE$25="","...",'A22 data'!$AE$25/'A22 data'!$AE$16*100),"...") | G28: =IF(OR('A22 data'!$AE$25="",'A22 data'!$X$25=""),"...",IFERROR((('A22 data'!$AE$25/'A22 data'!$X$25)^(1/7)-1)*100,"...")) | H28: =IF(OR('A22 data'!$AC$25="",'A22 data'!$AB$25=""),"...",IFERROR(('A22 data'!$AC$25/'A22 data'!$AB$25-1)*100,"...")) | I28: =IF(OR('A22 data'!$AD$25="",'A22 data'!$AC$25=""),"...",IFERROR(('A22 data'!$AD$25/'A22 data'!$AC$25-1)*100,"...")) | J28: =IF(OR('A22 data'!$AE$25="",'A22 data'!$AD$25=""),"...",IFERROR(('A22 data'!$AE$25/'A22 data'!$AD$25-1)*100,"..."))
A29: Viet Nam | B29: =IF('A22 data'!$AE$26="","...",'A22 data'!$AE$26/1000) | C29: =IFERROR(IF('A22 data'!$N$26="","...",'A22 data'!$N$26/'A22 data'!$N$16*100),"...") | D29: =IFERROR(IF('A22 data'!$S$26="","...",'A22 data'!$S$26/'A22 data'!$S$16*100),"...") | E29: =IFERROR(IF('A22 data'!$X$26="","...",'A22 data'!$X$26/'A22 data'!$X$16*100),"...") | F29: =IFERROR(IF('A22 data'!$AE$26="","...",'A22 data'!$AE$26/'A22 data'!$AE$16*100),"...") | G29: =IF(OR('A22 data'!$AE$26="",'A22 data'!$X$26=""),"...",IFERROR((('A22 data'!$AE$26/'A22 data'!$X$26)^(1/7)-1)*100,"...")) | H29: =IF(OR('A22 data'!$AC$26="",'A22 data'!$AB$26=""),"...",IFERROR(('A22 data'!$AC$26/'A22 data'!$AB$26-1)*100,"...")) | I29: =IF(OR('A22 data'!$AD$26="",'A22 data'!$AC$26=""),"...",IFERROR(('A22 data'!$AD$26/'A22 data'!$AC$26-1)*100,"...")) | J29: =IF(OR('A22 data'!$AE$26="",'A22 data'!$AD$26=""),"...",IFERROR(('A22 data'!$AE$26/'A22 data'!$AD$26-1)*100,"..."))
A30: Canada | B30: =IF('A22 data'!$AE$27="","...",'A22 data'!$AE$27/1000) | C30: =IFERROR(IF('A22 data'!$N$27="","...",'A22 data'!$N$27/'A22 data'!$N$16*100),"...") | D30: =IFERROR(IF('A22 data'!$S$27="","...",'A22 data'!$S$27/'A22 data'!$S$16*100),"...") | E30: =IFERROR(IF('A22 data'!$X$27="","...",'A22 data'!$X$27/'A22 data'!$X$16*100),"...") | F30: =IFERROR(IF('A22 data'!$AE$27="","...",'A22 data'!$AE$27/'A22 data'!$AE$16*100),"...") | G30: =IF(OR('A22 data'!$AE$27="",'A22 data'!$X$27=""),"...",IFERROR((('A22 data'!$AE$27/'A22 data'!$X$27)^(1/7)-1)*100,"...")) | H30: =IF(OR('A22 data'!$AC$27="",'A22 data'!$AB$27=""),"...",IFERROR(('A22 data'!$AC$27/'A22 data'!$AB$27-1)*100,"...")) | I30: =IF(OR('A22 data'!$AD$27="",'A22 data'!$AC$27=""),"...",IFERROR(('A22 data'!$AD$27/'A22 data'!$AC$27-1)*100,"...")) | J30: =IF(OR('A22 data'!$AE$27="",'A22 data'!$AD$27=""),"...",IFERROR(('A22 data'!$AE$27/'A22 data'!$AD$27-1)*100,"..."))
A31: Above 10 | B31: =IFERROR(B20+B22+B23+B24+B25+B26+B27+B28+B29+B30,"...") | C31: =IFERROR(C20+C22+C23+C24+C26+C27+C28+C29+C30,"...") | D31: =IFERROR(D20+D22+D23+D24+D26+D27+D28+D29+D30,"...") | E31: =IFERROR(E20+E22+E23+E24+E25+E26+E27+E28+E29+E30,"...") | F31: =IFERROR(F20+F22+F23+F24+F25+F26+F27+F28+F29+F30,"...") | G31: - | H31: - | I31: - | J31: -
A33: Notes
A34: The EU is ranked as one economy; its member states are not ranked. Extra-EU (the EU's trade with non-members) is shown beneath it and is not ranked.
A35: From 2000 the EU figure is WTO's own series for today's 27 member states (EU-27), in every year, including years when the membership was different. The United Kingdom is ranked on its own.
A36: Before 2000 the EU figure is added up from the member states of each year (EC-9 in 1980, EC-10 in 1981-1985, EC-12 in 1986-1994, EU-15 in 1995-1999), the United Kingdom included; economies that joined later are ranked on their own. Extra-EU cannot be added up and shows "...". If a member state has no data for a year, the EU shows "...".
A37: Break at 2000: EU figures before 2000 (members of that year, added up) and from 2000 (WTO's EU-27) are on different bases, so no EU change or growth rate is shown across 2000.
A38: Economies ranked in 2007: 136 exporters, 147 importers.
A39: "Above 10" is the sum of the ten ranked economies. "..." means not available.
A40: In the "Above 10" shares for years before 2000, the United Kingdom is counted once, as part of the added-up EU, not a second time on its own.
A41: Shares are of world textiles exports or imports. 2000-07 is the compound annual rate of change.
A42: Figures for every year are as WTO published them on 2026-09-29; WTO revises past figures, so they can differ from the printed review.
...

Sheet A23 clothing
A1: Table A23, 2008 edition (trade data for 2007)
A2: Top 10 exporters and importers of clothing, 2007
A3: (Billion dollars and percentage)
A5: Economy | B5: Value 2007 (US$ bn) | C5: Share 1990 (%) | D5: Share 1995 (%) | E5: Share 2000 (%) | F5: Share 2007 (%) | G5: Change 2000-07 (% p.a.) | H5: Change 2005 (%) | I5: Change 2006 (%) | J5: Change 2007 (%)
A6: Exporters
A7: China | B7: =IF('A23 data'!$AE$5="","...",'A23 data'!$AE$5/1000) | C7: =IFERROR(IF('A23 data'!$N$5="","...",'A23 data'!$N$5/'A23 data'!$N$4*100),"...") | D7: =IFERROR(IF('A23 data'!$S$5="","...",'A23 data'!$S$5/'A23 data'!$S$4*100),"...") | E7: =IFERROR(IF('A23 data'!$X$5="","...",'A23 data'!$X$5/'A23 data'!$X$4*100),"...") | F7: =IFERROR(IF('A23 data'!$AE$5="","...",'A23 data'!$AE$5/'A23 data'!$AE$4*100),"...") | G7: =IF(OR('A23 data'!$AE$5="",'A23 data'!$X$5=""),"...",IFERROR((('A23 data'!$AE$5/'A23 data'!$X$5)^(1/7)-1)*100,"...")) | H7: =IF(OR('A23 data'!$AC$5="",'A23 data'!$AB$5=""),"...",IFERROR(('A23 data'!$AC$5/'A23 data'!$AB$5-1)*100,"...")) | I7: =IF(OR('A23 data'!$AD$5="",'A23 data'!$AC$5=""),"...",IFERROR(('A23 data'!$AD$5/'A23 data'!$AC$5-1)*100,"...")) | J7: =IF(OR('A23 data'!$AE$5="",'A23 data'!$AD$5=""),"...",IFERROR(('A23 data'!$AE$5/'A23 data'!$AD$5-1)*100,"..."))
A8: European Union | B8: =IF('A23 data'!$AE$6="","...",'A23 data'!$AE$6/1000) | C8: =IFERROR(IF('A23 data'!$N$6="","...",'A23 data'!$N$6/'A23 data'!$N$4*100),"...") | D8: =IFERROR(IF('A23 data'!$S$6="","...",'A23 data'!$S$6/'A23 data'!$S$4*100),"...") | E8: =IFERROR(IF('A23 data'!$X$6="","...",'A23 data'!$X$6/'A23 data'!$X$4*100),"...") | F8: =IFERROR(IF('A23 data'!$AE$6="","...",'A23 data'!$AE$6/'A23 data'!$AE$4*100),"...") | G8: =IF(OR('A23 data'!$AE$6="",'A23 data'!$X$6=""),"...",IFERROR((('A23 data'!$AE$6/'A23 data'!$X$6)^(1/7)-1)*100,"...")) | H8: =IF(OR('A23 data'!$AC$6="",'A23 data'!$AB$6=""),"...",IFERROR(('A23 data'!$AC$6/'A23 data'!$AB$6-1)*100,"...")) | I8: =IF(OR('A23 data'!$AD$6="",'A23 data'!$AC$6=""),"...",IFERROR(('A23 data'!$AD$6/'A23 data'!$AC$6-1)*100,"...")) | J8: =IF(OR('A23 data'!$AE$6="",'A23 data'!$AD$6=""),"...",IFERROR(('A23 data'!$AE$6/'A23 data'!$AD$6-1)*100,"..."))
A9: Extra-EU | B9: =IF('A23 data'!$AE$7="","...",'A23 data'!$AE$7/1000) | C9: =IFERROR(IF('A23 data'!$N$7="","...",'A23 data'!$N$7/'A23 data'!$N$4*100),"...") | D9: =IFERROR(IF('A23 data'!$S$7="","...",'A23 data'!$S$7/'A23 data'!$S$4*100),"...") | E9: =IFERROR(IF('A23 data'!$X$7="","...",'A23 data'!$X$7/'A23 data'!$X$4*100),"...") | F9: =IFERROR(IF('A23 data'!$AE$7="","...",'A23 data'!$AE$7/'A23 data'!$AE$4*100),"...") | G9: =IF(OR('A23 data'!$AE$7="",'A23 data'!$X$7=""),"...",IFERROR((('A23 data'!$AE$7/'A23 data'!$X$7)^(1/7)-1)*100,"...")) | H9: =IF(OR('A23 data'!$AC$7="",'A23 data'!$AB$7=""),"...",IFERROR(('A23 data'!$AC$7/'A23 data'!$AB$7-1)*100,"...")) | I9: =IF(OR('A23 data'!$AD$7="",'A23 data'!$AC$7=""),"...",IFERROR(('A23 data'!$AD$7/'A23 data'!$AC$7-1)*100,"...")) | J9: =IF(OR('A23 data'!$AE$7="",'A23 data'!$AD$7=""),"...",IFERROR(('A23 data'!$AE$7/'A23 data'!$AD$7-1)*100,"..."))
A10: Hong Kong, China | B10: =IF('A23 data'!$AE$8="","...",'A23 data'!$AE$8/1000) | C10: =IFERROR(IF('A23 data'!$N$8="","...",'A23 data'!$N$8/'A23 data'!$N$4*100),"...") | D10: =IFERROR(IF('A23 data'!$S$8="","...",'A23 data'!$S$8/'A23 data'!$S$4*100),"...") | E10: =IFERROR(IF('A23 data'!$X$8="","...",'A23 data'!$X$8/'A23 data'!$X$4*100),"...") | F10: =IFERROR(IF('A23 data'!$AE$8="","...",'A23 data'!$AE$8/'A23 data'!$AE$4*100),"...") | G10: =IF(OR('A23 data'!$AE$8="",'A23 data'!$X$8=""),"...",IFERROR((('A23 data'!$AE$8/'A23 data'!$X$8)^(1/7)-1)*100,"...")) | H10: =IF(OR('A23 data'!$AC$8="",'A23 data'!$AB$8=""),"...",IFERROR(('A23 data'!$AC$8/'A23 data'!$AB$8-1)*100,"...")) | I10: =IF(OR('A23 data'!$AD$8="",'A23 data'!$AC$8=""),"...",IFERROR(('A23 data'!$AD$8/'A23 data'!$AC$8-1)*100,"...")) | J10: =IF(OR('A23 data'!$AE$8="",'A23 data'!$AD$8=""),"...",IFERROR(('A23 data'!$AE$8/'A23 data'!$AD$8-1)*100,"..."))
A11: Türkiye | B11: =IF('A23 data'!$AE$9="","...",'A23 data'!$AE$9/1000) | C11: =IFERROR(IF('A23 data'!$N$9="","...",'A23 data'!$N$9/'A23 data'!$N$4*100),"...") | D11: =IFERROR(IF('A23 data'!$S$9="","...",'A23 data'!$S$9/'A23 data'!$S$4*100),"...") | E11: =IFERROR(IF('A23 data'!$X$9="","...",'A23 data'!$X$9/'A23 data'!$X$4*100),"...") | F11: =IFERROR(IF('A23 data'!$AE$9="","...",'A23 data'!$AE$9/'A23 data'!$AE$4*100),"...") | G11: =IF(OR('A23 data'!$AE$9="",'A23 data'!$X$9=""),"...",IFERROR((('A23 data'!$AE$9/'A23 data'!$X$9)^(1/7)-1)*100,"...")) | H11: =IF(OR('A23 data'!$AC$9="",'A23 data'!$AB$9=""),"...",IFERROR(('A23 data'!$AC$9/'A23 data'!$AB$9-1)*100,"...")) | I11: =IF(OR('A23 data'!$AD$9="",'A23 data'!$AC$9=""),"...",IFERROR(('A23 data'!$AD$9/'A23 data'!$AC$9-1)*100,"...")) | J11: =IF(OR('A23 data'!$AE$9="",'A23 data'!$AD$9=""),"...",IFERROR(('A23 data'!$AE$9/'A23 data'!$AD$9-1)*100,"..."))
A12: India | B12: =IF('A23 data'!$AE$10="","...",'A23 data'!$AE$10/1000) | C12: =IFERROR(IF('A23 data'!$N$10="","...",'A23 data'!$N$10/'A23 data'!$N$4*100),"...") | D12: =IFERROR(IF('A23 data'!$S$10="","...",'A23 data'!$S$10/'A23 data'!$S$4*100),"...") | E12: =IFERROR(IF('A23 data'!$X$10="","...",'A23 data'!$X$10/'A23 data'!$X$4*100),"...") | F12: =IFERROR(IF('A23 data'!$AE$10="","...",'A23 data'!$AE$10/'A23 data'!$AE$4*100),"...") | G12: =IF(OR('A23 data'!$AE$10="",'A23 data'!$X$10=""),"...",IFERROR((('A23 data'!$AE$10/'A23 data'!$X$10)^(1/7)-1)*100,"...")) | H12: =IF(OR('A23 data'!$AC$10="",'A23 data'!$AB$10=""),"...",IFERROR(('A23 data'!$AC$10/'A23 data'!$AB$10-1)*100,"...")) | I12: =IF(OR('A23 data'!$AD$10="",'A23 data'!$AC$10=""),"...",IFERROR(('A23 data'!$AD$10/'A23 data'!$AC$10-1)*100,"...")) | J12: =IF(OR('A23 data'!$AE$10="",'A23 data'!$AD$10=""),"...",IFERROR(('A23 data'!$AE$10/'A23 data'!$AD$10-1)*100,"..."))
A13: Bangladesh | B13: =IF('A23 data'!$AE$11="","...",'A23 data'!$AE$11/1000) | C13: =IFERROR(IF('A23 data'!$N$11="","...",'A23 data'!$N$11/'A23 data'!$N$4*100),"...") | D13: =IFERROR(IF('A23 data'!$S$11="","...",'A23 data'!$S$11/'A23 data'!$S$4*100),"...") | E13: =IFERROR(IF('A23 data'!$X$11="","...",'A23 data'!$X$11/'A23 data'!$X$4*100),"...") | F13: =IFERROR(IF('A23 data'!$AE$11="","...",'A23 data'!$AE$11/'A23 data'!$AE$4*100),"...") | G13: =IF(OR('A23 data'!$AE$11="",'A23 data'!$X$11=""),"...",IFERROR((('A23 data'!$AE$11/'A23 data'!$X$11)^(1/7)-1)*100,"...")) | H13: =IF(OR('A23 data'!$AC$11="",'A23 data'!$AB$11=""),"...",IFERROR(('A23 data'!$AC$11/'A23 data'!$AB$11-1)*100,"...")) | I13: =IF(OR('A23 data'!$AD$11="",'A23 data'!$AC$11=""),"...",IFERROR(('A23 data'!$AD$11/'A23 data'!$AC$11-1)*100,"...")) | J13: =IF(OR('A23 data'!$AE$11="",'A23 data'!$AD$11=""),"...",IFERROR(('A23 data'!$AE$11/'A23 data'!$AD$11-1)*100,"..."))
A14: Viet Nam | B14: =IF('A23 data'!$AE$12="","...",'A23 data'!$AE$12/1000) | C14: =IFERROR(IF('A23 data'!$N$12="","...",'A23 data'!$N$12/'A23 data'!$N$4*100),"...") | D14: =IFERROR(IF('A23 data'!$S$12="","...",'A23 data'!$S$12/'A23 data'!$S$4*100),"...") | E14: =IFERROR(IF('A23 data'!$X$12="","...",'A23 data'!$X$12/'A23 data'!$X$4*100),"...") | F14: =IFERROR(IF('A23 data'!$AE$12="","...",'A23 data'!$AE$12/'A23 data'!$AE$4*100),"...") | G14: =IF(OR('A23 data'!$AE$12="",'A23 data'!$X$12=""),"...",IFERROR((('A23 data'!$AE$12/'A23 data'!$X$12)^(1/7)-1)*100,"...")) | H14: =IF(OR('A23 data'!$AC$12="",'A23 data'!$AB$12=""),"...",IFERROR(('A23 data'!$AC$12/'A23 data'!$AB$12-1)*100,"...")) | I14: =IF(OR('A23 data'!$AD$12="",'A23 data'!$AC$12=""),"...",IFERROR(('A23 data'!$AD$12/'A23 data'!$AC$12-1)*100,"...")) | J14: =IF(OR('A23 data'!$AE$12="",'A23 data'!$AD$12=""),"...",IFERROR(('A23 data'!$AE$12/'A23 data'!$AD$12-1)*100,"..."))
A15: United Kingdom | B15: =IF('A23 data'!$AE$13="","...",'A23 data'!$AE$13/1000) | C15: =IFERROR(IF('A23 data'!$N$13="","...",'A23 data'!$N$13/'A23 data'!$N$4*100),"...") | D15: =IFERROR(IF('A23 data'!$S$13="","...",'A23 data'!$S$13/'A23 data'!$S$4*100),"...") | E15: =IFERROR(IF('A23 data'!$X$13="","...",'A23 data'!$X$13/'A23 data'!$X$4*100),"...") | F15: =IFERROR(IF('A23 data'!$AE$13="","...",'A23 data'!$AE$13/'A23 data'!$AE$4*100),"...") | G15: =IF(OR('A23 data'!$AE$13="",'A23 data'!$X$13=""),"...",IFERROR((('A23 data'!$AE$13/'A23 data'!$X$13)^(1/7)-1)*100,"...")) | H15: =IF(OR('A23 data'!$AC$13="",'A23 data'!$AB$13=""),"...",IFERROR(('A23 data'!$AC$13/'A23 data'!$AB$13-1)*100,"...")) | I15: =IF(OR('A23 data'!$AD$13="",'A23 data'!$AC$13=""),"...",IFERROR(('A23 data'!$AD$13/'A23 data'!$AC$13-1)*100,"...")) | J15: =IF(OR('A23 data'!$AE$13="",'A23 data'!$AD$13=""),"...",IFERROR(('A23 data'!$AE$13/'A23 data'!$AD$13-1)*100,"..."))
A16: Indonesia | B16: =IF('A23 data'!$AE$14="","...",'A23 data'!$AE$14/1000) | C16: =IFERROR(IF('A23 data'!$N$14="","...",'A23 data'!$N$14/'A23 data'!$N$4*100),"...") | D16: =IFERROR(IF('A23 data'!$S$14="","...",'A23 data'!$S$14/'A23 data'!$S$4*100),"...") | E16: =IFERROR(IF('A23 data'!$X$14="","...",'A23 data'!$X$14/'A23 data'!$X$4*100),"...") | F16: =IFERROR(IF('A23 data'!$AE$14="","...",'A23 data'!$AE$14/'A23 data'!$AE$4*100),"...") | G16: =IF(OR('A23 data'!$AE$14="",'A23 data'!$X$14=""),"...",IFERROR((('A23 data'!$AE$14/'A23 data'!$X$14)^(1/7)-1)*100,"...")) | H16: =IF(OR('A23 data'!$AC$14="",'A23 data'!$AB$14=""),"...",IFERROR(('A23 data'!$AC$14/'A23 data'!$AB$14-1)*100,"...")) | I16: =IF(OR('A23 data'!$AD$14="",'A23 data'!$AC$14=""),"...",IFERROR(('A23 data'!$AD$14/'A23 data'!$AC$14-1)*100,"...")) | J16: =IF(OR('A23 data'!$AE$14="",'A23 data'!$AD$14=""),"...",IFERROR(('A23 data'!$AE$14/'A23 data'!$AD$14-1)*100,"..."))
A17: Mexico | B17: =IF('A23 data'!$AE$15="","...",'A23 data'!$AE$15/1000) | C17: =IFERROR(IF('A23 data'!$N$15="","...",'A23 data'!$N$15/'A23 data'!$N$4*100),"...") | D17: =IFERROR(IF('A23 data'!$S$15="","...",'A23 data'!$S$15/'A23 data'!$S$4*100),"...") | E17: =IFERROR(IF('A23 data'!$X$15="","...",'A23 data'!$X$15/'A23 data'!$X$4*100),"...") | F17: =IFERROR(IF('A23 data'!$AE$15="","...",'A23 data'!$AE$15/'A23 data'!$AE$4*100),"...") | G17: =IF(OR('A23 data'!$AE$15="",'A23 data'!$X$15=""),"...",IFERROR((('A23 data'!$AE$15/'A23 data'!$X$15)^(1/7)-1)*100,"...")) | H17: =IF(OR('A23 data'!$AC$15="",'A23 data'!$AB$15=""),"...",IFERROR(('A23 data'!$AC$15/'A23 data'!$AB$15-1)*100,"...")) | I17: =IF(OR('A23 data'!$AD$15="",'A23 data'!$AC$15=""),"...",IFERROR(('A23 data'!$AD$15/'A23 data'!$AC$15-1)*100,"...")) | J17: =IF(OR('A23 data'!$AE$15="",'A23 data'!$AD$15=""),"...",IFERROR(('A23 data'!$AE$15/'A23 data'!$AD$15-1)*100,"..."))
A18: Above 10 | B18: =IFERROR(B7+B8+B10+B11+B12+B13+B14+B15+B16+B17,"...") | C18: =IFERROR(C7+C8+C10+C11+C12+C13+C14+C16+C17,"...") | D18: =IFERROR(D7+D8+D10+D11+D12+D13+D14+D16+D17,"...") | E18: =IFERROR(E7+E8+E10+E11+E12+E13+E14+E15+E16+E17,"...") | F18: =IFERROR(F7+F8+F10+F11+F12+F13+F14+F15+F16+F17,"...") | G18: - | H18: - | I18: - | J18: -
A19: Importers
A20: European Union | B20: =IF('A23 data'!$AE$17="","...",'A23 data'!$AE$17/1000) | C20: =IFERROR(IF('A23 data'!$N$17="","...",'A23 data'!$N$17/'A23 data'!$N$16*100),"...") | D20: =IFERROR(IF('A23 data'!$S$17="","...",'A23 data'!$S$17/'A23 data'!$S$16*100),"...") | E20: =IFERROR(IF('A23 data'!$X$17="","...",'A23 data'!$X$17/'A23 data'!$X$16*100),"...") | F20: =IFERROR(IF('A23 data'!$AE$17="","...",'A23 data'!$AE$17/'A23 data'!$AE$16*100),"...") | G20: =IF(OR('A23 data'!$AE$17="",'A23 data'!$X$17=""),"...",IFERROR((('A23 data'!$AE$17/'A23 data'!$X$17)^(1/7)-1)*100,"...")) | H20: =IF(OR('A23 data'!$AC$17="",'A23 data'!$AB$17=""),"...",IFERROR(('A23 data'!$AC$17/'A23 data'!$AB$17-1)*100,"...")) | I20: =IF(OR('A23 data'!$AD$17="",'A23 data'!$AC$17=""),"...",IFERROR(('A23 data'!$AD$17/'A23 data'!$AC$17-1)*100,"...")) | J20: =IF(OR('A23 data'!$AE$17="",'A23 data'!$AD$17=""),"...",IFERROR(('A23 data'!$AE$17/'A23 data'!$AD$17-1)*100,"..."))
A21: Extra-EU | B21: =IF('A23 data'!$AE$18="","...",'A23 data'!$AE$18/1000) | C21: =IFERROR(IF('A23 data'!$N$18="","...",'A23 data'!$N$18/'A23 data'!$N$16*100),"...") | D21: =IFERROR(IF('A23 data'!$S$18="","...",'A23 data'!$S$18/'A23 data'!$S$16*100),"...") | E21: =IFERROR(IF('A23 data'!$X$18="","...",'A23 data'!$X$18/'A23 data'!$X$16*100),"...") | F21: =IFERROR(IF('A23 data'!$AE$18="","...",'A23 data'!$AE$18/'A23 data'!$AE$16*100),"...") | G21: =IF(OR('A23 data'!$AE$18="",'A23 data'!$X$18=""),"...",IFERROR((('A23 data'!$AE$18/'A23 data'!$X$18)^(1/7)-1)*100,"...")) | H21: =IF(OR('A23 data'!$AC$18="",'A23 data'!$AB$18=""),"...",IFERROR(('A23 data'!$AC$18/'A23 data'!$AB$18-1)*100,"...")) | I21: =IF(OR('A23 data'!$AD$18="",'A23 data'!$AC$18=""),"...",IFERROR(('A23 data'!$AD$18/'A23 data'!$AC$18-1)*100,"...")) | J21: =IF(OR('A23 data'!$AE$18="",'A23 data'!$AD$18=""),"...",IFERROR(('A23 data'!$AE$18/'A23 data'!$AD$18-1)*100,"..."))
A22: United States of America | B22: =IF('A23 data'!$AE$19="","...",'A23 data'!$AE$19/1000) | C22: =IFERROR(IF('A23 data'!$N$19="","...",'A23 data'!$N$19/'A23 data'!$N$16*100),"...") | D22: =IFERROR(IF('A23 data'!$S$19="","...",'A23 data'!$S$19/'A23 data'!$S$16*100),"...") | E22: =IFERROR(IF('A23 data'!$X$19="","...",'A23 data'!$X$19/'A23 data'!$X$16*100),"...") | F22: =IFERROR(IF('A23 data'!$AE$19="","...",'A23 data'!$AE$19/'A23 data'!$AE$16*100),"...") | G22: =IF(OR('A23 data'!$AE$19="",'A23 data'!$X$19=""),"...",IFERROR((('A23 data'!$AE$19/'A23 data'!$X$19)^(1/7)-1)*100,"...")) | H22: =IF(OR('A23 data'!$AC$19="",'A23 data'!$AB$19=""),"...",IFERROR(('A23 data'!$AC$19/'A23 data'!$AB$19-1)*100,"...")) | I22: =IF(OR('A23 data'!$AD$19="",'A23 data'!$AC$19=""),"...",IFERROR(('A23 data'!$AD$19/'A23 data'!$AC$19-1)*100,"...")) | J22: =IF(OR('A23 data'!$AE$19="",'A23 data'!$AD$19=""),"...",IFERROR(('A23 data'!$AE$19/'A23 data'!$AD$19-1)*100,"..."))
A23: United Kingdom | B23: =IF('A23 data'!$AE$20="","...",'A23 data'!$AE$20/1000) | C23: =IFERROR(IF('A23 data'!$N$20="","...",'A23 data'!$N$20/'A23 data'!$N$16*100),"...") | D23: =IFERROR(IF('A23 data'!$S$20="","...",'A23 data'!$S$20/'A23 data'!$S$16*100),"...") | E23: =IFERROR(IF('A23 data'!$X$20="","...",'A23 data'!$X$20/'A23 data'!$X$16*100),"...") | F23: =IFERROR(IF('A23 data'!$AE$20="","...",'A23 data'!$AE$20/'A23 data'!$AE$16*100),"...") | G23: =IF(OR('A23 data'!$AE$20="",'A23 data'!$X$20=""),"...",IFERROR((('A23 data'!$AE$20/'A23 data'!$X$20)^(1/7)-1)*100,"...")) | H23: =IF(OR('A23 data'!$AC$20="",'A23 data'!$AB$20=""),"...",IFERROR(('A23 data'!$AC$20/'A23 data'!$AB$20-1)*100,"...")) | I23: =IF(OR('A23 data'!$AD$20="",'A23 data'!$AC$20=""),"...",IFERROR(('A23 data'!$AD$20/'A23 data'!$AC$20-1)*100,"...")) | J23: =IF(OR('A23 data'!$AE$20="",'A23 data'!$AD$20=""),"...",IFERROR(('A23 data'!$AE$20/'A23 data'!$AD$20-1)*100,"..."))
A24: Japan | B24: =IF('A23 data'!$AE$21="","...",'A23 data'!$AE$21/1000) | C24: =IFERROR(IF('A23 data'!$N$21="","...",'A23 data'!$N$21/'A23 data'!$N$16*100),"...") | D24: =IFERROR(IF('A23 data'!$S$21="","...",'A23 data'!$S$21/'A23 data'!$S$16*100),"...") | E24: =IFERROR(IF('A23 data'!$X$21="","...",'A23 data'!$X$21/'A23 data'!$X$16*100),"...") | F24: =IFERROR(IF('A23 data'!$AE$21="","...",'A23 data'!$AE$21/'A23 data'!$AE$16*100),"...") | G24: =IF(OR('A23 data'!$AE$21="",'A23 data'!$X$21=""),"...",IFERROR((('A23 data'!$AE$21/'A23 data'!$X$21)^(1/7)-1)*100,"...")) | H24: =IF(OR('A23 data'!$AC$21="",'A23 data'!$AB$21=""),"...",IFERROR(('A23 data'!$AC$21/'A23 data'!$AB$21-1)*100,"...")) | I24: =IF(OR('A23 data'!$AD$21="",'A23 data'!$AC$21=""),"...",IFERROR(('A23 data'!$AD$21/'A23 data'!$AC$21-1)*100,"...")) | J24: =IF(OR('A23 data'!$AE$21="",'A23 data'!$AD$21=""),"...",IFERROR(('A23 data'!$AE$21/'A23 data'!$AD$21-1)*100,"..."))
A25: Hong Kong, China | B25: =IF('A23 data'!$AE$22="","...",'A23 data'!$AE$22/1000) | C25: =IFERROR(IF('A23 data'!$N$22="","...",'A23 data'!$N$22/'A23 data'!$N$16*100),"...") | D25: =IFERROR(IF('A23 data'!$S$22="","...",'A23 data'!$S$22/'A23 data'!$S$16*100),"...") | E25: =IFERROR(IF('A23 data'!$X$22="","...",'A23 data'!$X$22/'A23 data'!$X$16*100),"...") | F25: =IFERROR(IF('A23 data'!$AE$22="","...",'A23 data'!$AE$22/'A23 data'!$AE$16*100),"...") | G25: =IF(OR('A23 data'!$AE$22="",'A23 data'!$X$22=""),"...",IFERROR((('A23 data'!$AE$22/'A23 data'!$X$22)^(1/7)-1)*100,"...")) | H25: =IF(OR('A23 data'!$AC$22="",'A23 data'!$AB$22=""),"...",IFERROR(('A23 data'!$AC$22/'A23 data'!$AB$22-1)*100,"...")) | I25: =IF(OR('A23 data'!$AD$22="",'A23 data'!$AC$22=""),"...",IFERROR(('A23 data'!$AD$22/'A23 data'!$AC$22-1)*100,"...")) | J25: =IF(OR('A23 data'!$AE$22="",'A23 data'!$AD$22=""),"...",IFERROR(('A23 data'!$AE$22/'A23 data'!$AD$22-1)*100,"..."))
A26: Canada | B26: =IF('A23 data'!$AE$23="","...",'A23 data'!$AE$23/1000) | C26: =IFERROR(IF('A23 data'!$N$23="","...",'A23 data'!$N$23/'A23 data'!$N$16*100),"...") | D26: =IFERROR(IF('A23 data'!$S$23="","...",'A23 data'!$S$23/'A23 data'!$S$16*100),"...") | E26: =IFERROR(IF('A23 data'!$X$23="","...",'A23 data'!$X$23/'A23 data'!$X$16*100),"...") | F26: =IFERROR(IF('A23 data'!$AE$23="","...",'A23 data'!$AE$23/'A23 data'!$AE$16*100),"...") | G26: =IF(OR('A23 data'!$AE$23="",'A23 data'!$X$23=""),"...",IFERROR((('A23 data'!$AE$23/'A23 data'!$X$23)^(1/7)-1)*100,"...")) | H26: =IF(OR('A23 data'!$AC$23="",'A23 data'!$AB$23=""),"...",IFERROR(('A23 data'!$AC$23/'A23 data'!$AB$23-1)*100,"...")) | I26: =IF(OR('A23 data'!$AD$23="",'A23 data'!$AC$23=""),"...",IFERROR(('A23 data'!$AD$23/'A23 data'!$AC$23-1)*100,"...")) | J26: =IF(OR('A23 data'!$AE$23="",'A23 data'!$AD$23=""),"...",IFERROR(('A23 data'!$AE$23/'A23 data'!$AD$23-1)*100,"..."))
A27: Switzerland | B27: =IF('A23 data'!$AE$24="","...",'A23 data'!$AE$24/1000) | C27: =IFERROR(IF('A23 data'!$N$24="","...",'A23 data'!$N$24/'A23 data'!$N$16*100),"...") | D27: =IFERROR(IF('A23 data'!$S$24="","...",'A23 data'!$S$24/'A23 data'!$S$16*100),"...") | E27: =IFERROR(IF('A23 data'!$X$24="","...",'A23 data'!$X$24/'A23 data'!$X$16*100),"...") | F27: =IFERROR(IF('A23 data'!$AE$24="","...",'A23 data'!$AE$24/'A23 data'!$AE$16*100),"...") | G27: =IF(OR('A23 data'!$AE$24="",'A23 data'!$X$24=""),"...",IFERROR((('A23 data'!$AE$24/'A23 data'!$X$24)^(1/7)-1)*100,"...")) | H27: =IF(OR('A23 data'!$AC$24="",'A23 data'!$AB$24=""),"...",IFERROR(('A23 data'!$AC$24/'A23 data'!$AB$24-1)*100,"...")) | I27: =IF(OR('A23 data'!$AD$24="",'A23 data'!$AC$24=""),"...",IFERROR(('A23 data'!$AD$24/'A23 data'!$AC$24-1)*100,"...")) | J27: =IF(OR('A23 data'!$AE$24="",'A23 data'!$AD$24=""),"...",IFERROR(('A23 data'!$AE$24/'A23 data'!$AD$24-1)*100,"..."))
A28: Korea, Republic of | B28: =IF('A23 data'!$AE$25="","...",'A23 data'!$AE$25/1000) | C28: =IFERROR(IF('A23 data'!$N$25="","...",'A23 data'!$N$25/'A23 data'!$N$16*100),"...") | D28: =IFERROR(IF('A23 data'!$S$25="","...",'A23 data'!$S$25/'A23 data'!$S$16*100),"...") | E28: =IFERROR(IF('A23 data'!$X$25="","...",'A23 data'!$X$25/'A23 data'!$X$16*100),"...") | F28: =IFERROR(IF('A23 data'!$AE$25="","...",'A23 data'!$AE$25/'A23 data'!$AE$16*100),"...") | G28: =IF(OR('A23 data'!$AE$25="",'A23 data'!$X$25=""),"...",IFERROR((('A23 data'!$AE$25/'A23 data'!$X$25)^(1/7)-1)*100,"...")) | H28: =IF(OR('A23 data'!$AC$25="",'A23 data'!$AB$25=""),"...",IFERROR(('A23 data'!$AC$25/'A23 data'!$AB$25-1)*100,"...")) | I28: =IF(OR('A23 data'!$AD$25="",'A23 data'!$AC$25=""),"...",IFERROR(('A23 data'!$AD$25/'A23 data'!$AC$25-1)*100,"...")) | J28: =IF(OR('A23 data'!$AE$25="",'A23 data'!$AD$25=""),"...",IFERROR(('A23 data'!$AE$25/'A23 data'!$AD$25-1)*100,"..."))
A29: Australia | B29: =IF('A23 data'!$AE$26="","...",'A23 data'!$AE$26/1000) | C29: =IFERROR(IF('A23 data'!$N$26="","...",'A23 data'!$N$26/'A23 data'!$N$16*100),"...") | D29: =IFERROR(IF('A23 data'!$S$26="","...",'A23 data'!$S$26/'A23 data'!$S$16*100),"...") | E29: =IFERROR(IF('A23 data'!$X$26="","...",'A23 data'!$X$26/'A23 data'!$X$16*100),"...") | F29: =IFERROR(IF('A23 data'!$AE$26="","...",'A23 data'!$AE$26/'A23 data'!$AE$16*100),"...") | G29: =IF(OR('A23 data'!$AE$26="",'A23 data'!$X$26=""),"...",IFERROR((('A23 data'!$AE$26/'A23 data'!$X$26)^(1/7)-1)*100,"...")) | H29: =IF(OR('A23 data'!$AC$26="",'A23 data'!$AB$26=""),"...",IFERROR(('A23 data'!$AC$26/'A23 data'!$AB$26-1)*100,"...")) | I29: =IF(OR('A23 data'!$AD$26="",'A23 data'!$AC$26=""),"...",IFERROR(('A23 data'!$AD$26/'A23 data'!$AC$26-1)*100,"...")) | J29: =IF(OR('A23 data'!$AE$26="",'A23 data'!$AD$26=""),"...",IFERROR(('A23 data'!$AE$26/'A23 data'!$AD$26-1)*100,"..."))
A30: Russian Federation | B30: =IF('A23 data'!$AE$27="","...",'A23 data'!$AE$27/1000) | C30: =IFERROR(IF('A23 data'!$N$27="","...",'A23 data'!$N$27/'A23 data'!$N$16*100),"...") | D30: =IFERROR(IF('A23 data'!$S$27="","...",'A23 data'!$S$27/'A23 data'!$S$16*100),"...") | E30: =IFERROR(IF('A23 data'!$X$27="","...",'A23 data'!$X$27/'A23 data'!$X$16*100),"...") | F30: =IFERROR(IF('A23 data'!$AE$27="","...",'A23 data'!$AE$27/'A23 data'!$AE$16*100),"...") | G30: =IF(OR('A23 data'!$AE$27="",'A23 data'!$X$27=""),"...",IFERROR((('A23 data'!$AE$27/'A23 data'!$X$27)^(1/7)-1)*100,"...")) | H30: =IF(OR('A23 data'!$AC$27="",'A23 data'!$AB$27=""),"...",IFERROR(('A23 data'!$AC$27/'A23 data'!$AB$27-1)*100,"...")) | I30: =IF(OR('A23 data'!$AD$27="",'A23 data'!$AC$27=""),"...",IFERROR(('A23 data'!$AD$27/'A23 data'!$AC$27-1)*100,"...")) | J30: =IF(OR('A23 data'!$AE$27="",'A23 data'!$AD$27=""),"...",IFERROR(('A23 data'!$AE$27/'A23 data'!$AD$27-1)*100,"..."))
A31: Above 10 | B31: =IFERROR(B20+B22+B23+B24+B25+B26+B27+B28+B29+B30,"...") | C31: =IFERROR(C20+C22+C24+C25+C26+C27+C28+C29+C30,"...") | D31: =IFERROR(D20+D22+D24+D25+D26+D27+D28+D29+D30,"...") | E31: =IFERROR(E20+E22+E23+E24+E25+E26+E27+E28+E29+E30,"...") | F31: =IFERROR(F20+F22+F23+F24+F25+F26+F27+F28+F29+F30,"...") | G31: - | H31: - | I31: - | J31: -
A33: Notes
A34: The EU is ranked as one economy; its member states are not ranked. Extra-EU (the EU's trade with non-members) is shown beneath it and is not ranked.
A35: From 2000 the EU figure is WTO's own series for today's 27 member states (EU-27), in every year, including years when the membership was different. The United Kingdom is ranked on its own.
A36: Before 2000 the EU figure is added up from the member states of each year (EC-9 in 1980, EC-10 in 1981-1985, EC-12 in 1986-1994, EU-15 in 1995-1999), the United Kingdom included; economies that joined later are ranked on their own. Extra-EU cannot be added up and shows "...". If a member state has no data for a year, the EU shows "...".
A37: Break at 2000: EU figures before 2000 (members of that year, added up) and from 2000 (WTO's EU-27) are on different bases, so no EU change or growth rate is shown across 2000.
A38: Economies ranked in 2007: 137 exporters, 147 importers.
A39: "Above 10" is the sum of the ten ranked economies. "..." means not available.
A40: In the "Above 10" shares for years before 2000, the United Kingdom is counted once, as part of the added-up EU, not a second time on its own.
A41: Shares are of world clothing exports or imports. 2000-07 is the compound annual rate of change.
A42: Figures for every year are as WTO published them on 2026-09-29; WTO revises past figures, so they can differ from the printed review.
...

Sheet A22 data
A1: Raw data for table A22 (textiles), 2008 edition (trade data for 2007), US$ million. Source: WTO Timeseries via WTO Timeseries API v1 (api.wto.org).
A2: EU: WTO's EU-27 series from 2000; before 2000 added up from the member states of each year. Extra-EU from 2000 only.
A3: Flow | B3: Code | C3: Economy | D3: 1980 | E3: 1981 | F3: 1982 | G3: 1983 | H3: 1984 | I3: 1985 | J3: 1986 | K3: 1987 | L3: 1988 | M3: 1989 | N3: 1990 | O3: 1991 | P3: 1992 | Q3: 1993 | R3: 1994 | S3: 1995 | T3: 1996 | U3: 1997 | V3: 1998 | W3: 1999 | X3: 2000 | Y3: 2001 | Z3: 2002 | AA3: 2003 | AB3: 2004 | AC3: 2005 | AD3: 2006 | AE3: 2007
A4: Exporters | B4: 000 | C4: World | D4: 54990 | M4: 95950 | N4: 104354 | O4: 108925 | P4: 117195 | Q4: 113452 | R4: 131673 | S4: 152319 | T4: 152744 | U4: 155739 | V4: 149831 | W4: 146255 | X4: 156257 | Y4: 148141 | Z4: 154385 | AA4: 173066 | AB4: 195034 | AC4: 203112 | AD4: 219196 | AE4: 239938
A5: Exporters | B5: 918 | C5: European Union | D5: 23864 | E5: 21127 | F5: 19943 | G5: 19758 | H5: 20333 | I5: 21713 | J5: 29484 | K5: 35296 | L5: 37863 | M5: 39003 | N5: 47150 | O5: 46380 | P5: 48909 | Q5: 42475 | R5: 48079 | S5: 62200 | T5: 61480 | U5: 59178 | V5: 60365 | W5: 55395 | X5: 52129 | Y5: 51576 | Z5: 53324 | AA5: 60887 | AB5: 68041 | AC5: 65922 | AD5: 69181 | AE5: 77234
A6: Exporters | B6: EUT | C6: Extra-EU | X6: 17896 | Y6: 17922 | Z6: 18702 | AA6: 20794 | AB6: 23706 | AC6: 22958 | AD6: 24223 | AE6: 26974
A7: Exporters | B7: 156 | C7: China | D7: 2540 | E7: 3390 | F7: 2735 | G7: 3270 | H7: 3825 | I7: 3680 | J7: 5440 | K7: 6485 | L7: 6975 | M7: 7215 | N7: 7219 | O7: 8014 | P7: 8583 | Q7: 8699 | R7: 11818 | S7: 13918 | T7: 12112 | U7: 13828 | V7: 12817 | W7: 13043 | X7: 16135 | Y7: 16825 | Z7: 20562 | AA7: 26900 | AB7: 33428 | AC7: 41050 | AD7: 48678 | AE7: 56032
A8: Exporters | B8: 344 | C8: Hong Kong, China | D8: 1771 | E8: 2183 | F8: 1888 | G8: 2033 | H8: 2726 | I8: 3038 | J8: 3959 | K8: 5669 | L8: 6371 | M8: 7574 | N8: 8213 | O8: 9770 | P8: 10979 | Q8: 11212 | R8: 12574 | S8: 13815 | T8: 14146 | U8: 14602 | V8: 13040 | W8: 12270 | X8: 13441 | Y8: 12213 | Z8: 12422 | AA8: 13087 | AB8: 14296 | AC8: 13830 | AD8: 13910 | AE8: 13417
A9: Exporters | B9: 840 | C9: United States of America | D9: 3757 | E9: 3742 | F9: 2890 | G9: 2500 | H9: 2535 | I9: 2541 | J9: 2812 | K9: 3127 | L9: 3890 | M9: 4371 | N9: 5039 | O9: 5610 | P9: 5889 | Q9: 6025 | R9: 6592 | S9: 7372 | T9: 8008 | U9: 9187 | V9: 9205 | W9: 9504 | X9: 10947 | Y9: 10467 | Z9: 10659 | AA9: 10887 | AB9: 12027 | AC9: 12398 | AD9: 12665 | AE9: 12386
A10: Exporters | B10: 410 | C10: Korea, Republic of | D10: 2209 | E10: 2460 | F10: 2251 | G10: 2423 | H10: 2615 | I10: 2534 | J10: 3215 | K10: 4080 | L10: 4848 | M10: 5371 | N10: 6076 | O10: 7300 | P10: 8208 | Q10: 8954 | R10: 10693 | S10: 12313 | T10: 12718 | U10: 13337 | V10: 11279 | W10: 11618 | X10: 12710 | Y10: 10941 | Z10: 10945 | AA10: 10779 | AB10: 10839 | AC10: 10391 | AD10: 10110 | AE10: 10373
A11: Exporters | B11: 158 | C11: Chinese Taipei | D11: 1771 | E11: 2022 | F11: 1748 | G11: 1803 | H11: 2169 | I11: 2490 | J11: 3045 | K11: 4087 | L11: 4545 | M11: 5442 | N11: 6128 | O11: 7335 | P11: 7554 | Q11: 8160 | R11: 10242 | S11: 11861 | T11: 12024 | U11: 12750 | V11: 11123 | W11: 10863 | X11: 11891 | Y11: 9897 | Z11: 9531 | AA11: 9303 | AB11: 10038 | AC11: 9706 | AD11: 9780 | AE11: 9732
A12: Exporters | B12: 356 | C12: India | D12: 1306 | E12: 1168 | F12: 1064 | G12: 889 | H12: 1175 | I12: 1054 | J12: 1062 | K12: 1573 | L12: 1585 | M12: 1810 | N12: 2180 | O12: 2530 | P12: 2932 | Q12: 2917 | R12: 3829 | S12: 4358 | T12: 4936 | U12: 5243 | V12: 4558 | W12: 5086 | X12: 5593 | Y12: 5523 | Z12: 5813 | AA12: 6435 | AB12: 7406 | AC12: 8331 | AD12: 8880 | AE12: 9617
A13: Exporters | B13: 792 | C13: Türkiye | D13: 343 | E13: 569 | F13: 767 | G13: 853 | H13: 1006 | I13: 1045 | J13: 935 | K13: 1208 | L13: 1340 | M13: 1331 | N13: 1440 | O13: 1429 | P13: 1619 | Q13: 1592 | R13: 2194 | S13: 2527 | T13: 2722 | U13: 3352 | V13: 3549 | W13: 3478 | X13: 3672 | Y13: 3943 | Z13: 4244 | AA13: 5262 | AB13: 6428 | AC13: 7076 | AD13: 7585 | AE13: 8942
A14: Exporters | B14: 586 | C14: Pakistan | D14: 876 | E14: 976 | F14: 928 | G14: 1312 | H14: 999 | I14: 970 | J14: 1264 | K14: 1854 | L14: 1803 | M14: 2018 | N14: 2663 | O14: 3200 | P14: 3590 | Q14: 3507 | R14: 3985 | S14: 4256 | T14: 4919 | U14: 4608 | V14: 4302 | W14: 4258 | X14: 4532 | Y14: 4525 | Z14: 4790 | AA14: 5811 | AB14: 6125 | AC14: 7087 | AD14: 7469 | AE14: 7371
A15: Exporters | B15: 392 | C15: Japan | D15: 5123 | E15: 5869 | F15: 5102 | G15: 5345 | H15: 5358 | I15: 4943 | J15: 5488 | K15: 5597 | L15: 5527 | M15: 5534 | N15: 5871 | O15: 6527 | P15: 7078 | Q15: 6717 | R15: 6780 | S15: 7178 | T15: 6927 | U15: 6751 | V15: 5971 | W15: 6598 | X15: 7023 | Y15: 6197 | Z15: 6030 | AA15: 6431 | AB15: 7138 | AC15: 6905 | AD15: 6934 | AE15: 7108
A16: Importers | B16: 000 | C16: World | D16: 56975 | I16: 55618 | N16: 107839 | O16: 114665 | P16: 123584 | Q16: 118287 | R16: 135585 | S16: 156515 | T16: 157848 | U16: 160869 | V16: 155336 | W16: 153303 | X16: 165331 | Y16: 156743 | Z16: 163350 | AA16: 183116 | AB16: 206359 | AC16: 214906 | AD16: 231924 | AE16: 253871
A17: Importers | B17: 918 | C17: European Union | D17: 22886 | E17: 19199 | F17: 18414 | G17: 18191 | H17: 18605 | I17: 19758 | J17: 26864 | K17: 33081 | L17: 35975 | M17: 37346 | N17: 45999 | O17: 45443 | P17: 47101 | Q17: 36078 | R17: 41930 | S17: 53221 | T17: 52480 | U17: 51481 | V17: 54154 | W17: 48987 | X17: 49070 | Y17: 48471 | Z17: 49422 | AA17: 57318 | AB17: 63338 | AC17: 62681 | AD17: 66513 | AE17: 74639
A18: Importers | B18: EUT | C18: Extra-EU | X18: 15934 | Y18: 15608 | Z18: 15778 | AA18: 18270 | AB18: 20632 | AC18: 21165 | AD18: 23289 | AE18: 26769
A19: Importers | B19: 840 | C19: United States of America | D19: 2542 | E19: 3072 | F19: 2852 | G19: 3276 | H19: 4617 | I19: 4977 | J19: 5838 | K19: 6512 | L19: 6279 | M19: 6417 | N19: 6730 | O19: 7329 | P19: 8215 | Q19: 8855 | R19: 9658 | S19: 10441 | T19: 10692 | U19: 12449 | V19: 13444 | W19: 14277 | X19: 15191 | Y19: 14632 | Z19: 16952 | AA19: 18253 | AB19: 20662 | AC19: 22534 | AD19: 23498 | AE19: 24089
A20: Importers | B20: 156 | C20: China | D20: 1100 | E20: 1670 | F20: 1170 | G20: 911 | H20: 1370 | I20: 2040 | J20: 3160 | K20: 3589 | L20: 4219 | M20: 4603 | N20: 5292 | O20: 6751 | P20: 7560 | Q20: 7645 | R20: 9347 | S20: 10914 | T20: 11980 | U20: 12267 | V20: 11082 | W20: 11079 | X20: 12832 | Y20: 12573 | Z20: 13060 | AA20: 14217 | AB20: 15304 | AC20: 15503 | AD20: 16358 | AE20: 16645
A21: Importers | B21: 344 | C21: Hong Kong, China | D21: 2967 | E21: 3428 | F21: 2970 | G21: 3278 | H21: 4178 | I21: 4281 | J21: 5418 | K21: 7304 | L21: 8007 | M21: 9218 | N21: 10182 | O21: 12068 | P21: 13091 | Q21: 12784 | R21: 15294 | S21: 16859 | T21: 16515 | U21: 16205 | V21: 13483 | W21: 12561 | X21: 13716 | Y21: 12176 | Z21: 12065 | AA21: 12931 | AB21: 14110 | AC21: 13793 | AD21: 13975 | AE21: 13559
A22: Importers | B22: 826 | C22: United Kingdom | D22: 3560 | E22: 3508 | F22: 3343 | G22: 3483 | H22: 3589 | I22: 3869 | J22: 4602 | K22: 5703 | L22: 6473 | M22: 6171 | N22: 7018 | O22: 6604 | P22: 6939 | Q22: 5569 | R22: 6645 | S22: 7262 | T22: 7808 | U22: 8376 | V22: 8341 | W22: 7476 | X22: 7265 | Y22: 6782 | Z22: 6870 | AA22: 7275 | AB22: 8195 | AC22: 7614 | AD22: 7946 | AE22: 8672
A23: Importers | B23: 392 | C23: Japan | D23: 1722 | E23: 1639 | F23: 1612 | G23: 1496 | H23: 1934 | I23: 1900 | J23: 2185 | K23: 2994 | L23: 3934 | M23: 4347 | N23: 4133 | O23: 4331 | P23: 4175 | Q23: 3933 | R23: 5152 | S23: 5985 | T23: 6075 | U23: 5801 | V23: 4354 | W23: 4543 | X23: 4936 | Y23: 4753 | Z23: 4532 | AA23: 5031 | AB23: 5599 | AC23: 5812 | AD23: 6179 | AE23: 6302
A24: Importers | B24: 792 | C24: Türkiye | D24: 80 | E24: 78 | F24: 103 | G24: 98 | H24: 117 | I24: 145 | J24: 159 | K24: 202 | L24: 257 | M24: 293 | N24: 567 | O24: 537 | P24: 707 | Q24: 1011 | R24: 1110 | S24: 1811 | T24: 1933 | U24: 2324 | V24: 2317 | W24: 1907 | X24: 2124 | Y24: 1921 | Z24: 2839 | AA24: 3441 | AB24: 4170 | AC24: 4441 | AD24: 4686 | AE24: 6009
A25: Importers | B25: 484 | C25: Mexico | D25: 133 | N25: 992 | O25: 1230 | P25: 1532 | Q25: 1900 | R25: 2147 | S25: 1768 | T25: 2220 | U25: 2868 | V25: 3433 | W25: 4837 | X25: 5822 | Y25: 5383 | Z25: 5571 | AA25: 5457 | AB25: 5752 | AC25: 6043 | AD25: 5951 | AE25: 5640
A26: Importers | B26: 704 | C26: Viet Nam | U26: 711 | V26: 902 | W26: 1075 | X26: 1379 | Y26: 1291 | Z26: 2071 | AA26: 2441 | AB26: 2941 | AC26: 3435 | AD26: 3988 | AE26: 5139
A27: Importers | B27: 124 | C27: Canada | D27: 1306 | E27: 1413 | F27: 1138 | G27: 1406 | H27: 1570 | I27: 1618 | J27: 1789 | K27: 2005 | L27: 2176 | M27: 2357 | N27: 2325 | O27: 2425 | P27: 2504 | Q27: 2714 | R27: 2917 | S27: 3204 | T27: 3313 | U27: 3885 | V27: 4027 | W27: 3991 | X27: 4126 | Y27: 3808 | Z27: 3799 | AA27: 3847 | AB27: 4109 | AC27: 4303 | AD27: 4361 | AE27: 4425

Sheet A23 data
A1: Raw data for table A23 (clothing), 2008 edition (trade data for 2007), US$ million. Source: WTO Timeseries via WTO Timeseries API v1 (api.wto.org).
A2: EU: WTO's EU-27 series from 2000; before 2000 added up from the member states of each year. Extra-EU from 2000 only.
A3: Flow | B3: Code | C3: Economy | D3: 1980 | E3: 1981 | F3: 1982 | G3: 1983 | H3: 1984 | I3: 1985 | J3: 1986 | K3: 1987 | L3: 1988 | M3: 1989 | N3: 1990 | O3: 1991 | P3: 1992 | Q3: 1993 | R3: 1994 | S3: 1995 | T3: 1996 | U3: 1997 | V3: 1998 | W3: 1999 | X3: 2000 | Y3: 2001 | Z3: 2002 | AA3: 2003 | AB3: 2004 | AC3: 2005 | AD3: 2006 | AE3: 2007
A4: Exporters | B4: 000 | C4: World | D4: 40590 | M4: 97450 | N4: 108129 | O4: 117160 | P4: 132106 | Q4: 128792 | R4: 140757 | S4: 158353 | T4: 166077 | U4: 177616 | V4: 185963 | W4: 184587 | X4: 197723 | Y4: 194364 | Z4: 203726 | AA4: 233281 | AB4: 260436 | AC4: 278465 | AD4: 310876 | AE4: 349061
A5: Exporters | B5: 156 | C5: China | D5: 1625 | E5: 1930 | F5: 2140 | G5: 2320 | H5: 2755 | I5: 2450 | J5: 4050 | K5: 5790 | L5: 6990 | M5: 8165 | N5: 9669 | O5: 12245 | P5: 16704 | Q5: 18441 | R5: 23731 | S5: 24049 | T5: 25034 | U5: 31803 | V5: 30048 | W5: 30078 | X5: 36071 | Y5: 36650 | Z5: 41302 | AA5: 52061 | AB5: 61856 | AC5: 74163 | AD5: 95379 | AE5: 115520
A6: Exporters | B6: 918 | C6: European Union | D6: 14026 | E6: 12883 | F6: 12592 | G6: 12575 | H6: 13092 | I6: 14445 | J6: 22006 | K6: 27247 | L6: 28204 | M6: 29629 | N6: 37900 | O6: 39455 | P6: 43202 | Q6: 34978 | R6: 38271 | S6: 48458 | T6: 52628 | U6: 50697 | V6: 52821 | W6: 50227 | X6: 52174 | Y6: 55147 | Z6: 59121 | AA6: 70246 | AB6: 79142 | AC6: 81482 | AD6: 87218 | AE6: 100347
A7: Exporters | B7: EUT | C7: Extra-EU | X7: 16024 | Y7: 17048 | Z7: 18263 | AA7: 20801 | AB7: 23057 | AC7: 23971 | AD7: 25972 | AE7: 30135
A8: Exporters | B8: 344 | C8: Hong Kong, China | D8: 4976 | E8: 5424 | F8: 5241 | G8: 5308 | H8: 6765 | I8: 6718 | J8: 8398 | K8: 10720 | L8: 11786 | M8: 13994 | N8: 15406 | O8: 17959 | P8: 20060 | Q8: 20998 | R8: 21404 | S8: 21297 | T8: 21976 | U8: 23108 | V8: 22164 | W8: 22371 | X8: 24214 | Y8: 23446 | Z8: 22430 | AA8: 23158 | AB8: 25097 | AC8: 27292 | AD8: 28391 | AE8: 28765
A9: Exporters | B9: 792 | C9: Türkiye | D9: 131 | E9: 314 | F9: 398 | G9: 648 | H9: 1267 | I9: 1208 | J9: 1245 | K9: 2197 | L9: 2352 | M9: 2741 | N9: 3331 | O9: 3478 | P9: 4179 | Q9: 4339 | R9: 4582 | S9: 6119 | T9: 6067 | U9: 6697 | V9: 7058 | W9: 6516 | X9: 6533 | Y9: 6661 | Z9: 8057 | AA9: 9962 | AB9: 11193 | AC9: 11833 | AD9: 12052 | AE9: 13886
A10: Exporters | B10: 356 | C10: India | D10: 673 | E10: 755 | F10: 625 | G10: 694 | H10: 831 | I10: 930 | J10: 1061 | K10: 1402 | L10: 1508 | M10: 2060 | N10: 2530 | O10: 2527 | P10: 3099 | Q10: 2970 | R10: 3701 | S10: 4110 | T10: 4217 | U10: 4343 | V10: 4782 | W10: 5153 | X10: 5965 | Y10: 5488 | Z10: 5832 | AA10: 6315 | AB10: 6926 | AC10: 8739 | AD10: 9564 | AE10: 9930
A11: Exporters | B11: 050 | C11: Bangladesh | D11: 2 | E11: 5 | F11: 11 | G11: 21 | H11: 77 | I11: 168 | J11: 236 | K11: 416 | L11: 416 | M11: 440 | N11: 643 | O11: 840 | P11: 1042 | Q11: 1307 | R11: 1479 | S11: 1969 | T11: 2218 | U11: 2688 | V11: 3786 | W11: 3868 | X11: 5067 | Y11: 4772 | Z11: 4818 | AA11: 5654 | AB11: 6296 | AC11: 6890 | AD11: 8318 | AE11: 8855
A12: Exporters | B12: 704 | C12: Viet Nam | U12: 1384 | V12: 1302 | W12: 1622 | X12: 1821 | Y12: 1867 | Z12: 2633 | AA12: 3465 | AB12: 4250 | AC12: 4681 | AD12: 5579 | AE12: 7400
A13: Exporters | B13: 826 | C13: United Kingdom | D13: 1806 | E13: 1707 | F13: 1467 | G13: 1311 | H13: 1336 | I13: 1516 | J13: 1800 | K13: 2348 | L13: 2520 | M13: 2362 | N13: 3042 | O13: 3392 | P13: 3659 | Q13: 3024 | R13: 3759 | S13: 4315 | T13: 4886 | U13: 5180 | V13: 4974 | W13: 4582 | X13: 4066 | Y13: 3637 | Z13: 3800 | AA13: 4469 | AB13: 5138 | AC13: 4976 | AD13: 5358 | AE13: 6222
A14: Exporters | B14: 360 | C14: Indonesia | D14: 98 | E14: 95 | F14: 117 | G14: 157 | H14: 296 | I14: 339 | J14: 522 | K14: 596 | L14: 797 | M14: 1146 | N14: 1646 | O14: 2265 | P14: 3164 | Q14: 3502 | R14: 3206 | S14: 3376 | T14: 3591 | U14: 2904 | V14: 2630 | W14: 3857 | X14: 4734 | Y14: 4531 | Z14: 3875 | AA14: 4052 | AB14: 4285 | AC14: 4959 | AD14: 5760 | AE14: 5870
A15: Exporters | B15: 484 | C15: Mexico | D15: 2 | N15: 587 | O15: 773 | P15: 967 | Q15: 1185 | R15: 1701 | S15: 2731 | T15: 3753 | U15: 5636 | V15: 6603 | W15: 7772 | X15: 8631 | Y15: 8012 | Z15: 7751 | AA15: 7316 | AB15: 7490 | AC15: 7306 | AD15: 6323 | AE15: 5122
A16: Importers | B16: 000 | C16: World | D16: 42271 | I16: 50822 | N16: 112236 | O16: 123751 | P16: 139571 | Q16: 135297 | R16: 145326 | S16: 162871 | T16: 171461 | U16: 182974 | V16: 191796 | W16: 191972 | X16: 203054 | Y16: 200324 | Z16: 208746 | AA16: 233962 | AB16: 264786 | AC16: 279459 | AD16: 324955 | AE16: 364869
