Workbook

Sheet A22 textiles
A1: Table A22, 2005 edition (trade data for 2004)
A2: Top 10 exporters and importers of textiles, 2004
A3: (Billion dollars and percentage)
A5: Economy | B5: Value 2004 (US$ bn) | C5: Share 1990 (%) | D5: Share 1995 (%) | E5: Share 2000 (%) | F5: Share 2004 (%) | G5: Change 2000-04 (% p.a.) | H5: Change 2002 (%) | I5: Change 2003 (%) | J5: Change 2004 (%)
A6: Exporters
A7: European Union | B7: =IF('A22 data'!$AB$5="","...",'A22 data'!$AB$5/1000) | C7: =IFERROR(IF('A22 data'!$N$5="","...",'A22 data'!$N$5/'A22 data'!$N$4*100),"...") | D7: =IFERROR(IF('A22 data'!$S$5="","...",'A22 data'!$S$5/'A22 data'!$S$4*100),"...") | E7: =IFERROR(IF('A22 data'!$X$5="","...",'A22 data'!$X$5/'A22 data'!$X$4*100),"...") | F7: =IFERROR(IF('A22 data'!$AB$5="","...",'A22 data'!$AB$5/'A22 data'!$AB$4*100),"...") | G7: =IF(OR('A22 data'!$AB$5="",'A22 data'!$X$5=""),"...",IFERROR((('A22 data'!$AB$5/'A22 data'!$X$5)^(1/4)-1)*100,"...")) | H7: =IF(OR('A22 data'!$Z$5="",'A22 data'!$Y$5=""),"...",IFERROR(('A22 data'!$Z$5/'A22 data'!$Y$5-1)*100,"...")) | I7: =IF(OR('A22 data'!$AA$5="",'A22 data'!$Z$5=""),"...",IFERROR(('A22 data'!$AA$5/'A22 data'!$Z$5-1)*100,"...")) | J7: =IF(OR('A22 data'!$AB$5="",'A22 data'!$AA$5=""),"...",IFERROR(('A22 data'!$AB$5/'A22 data'!$AA$5-1)*100,"..."))
A8: Extra-EU | B8: =IF('A22 data'!$AB$6="","...",'A22 data'!$AB$6/1000) | C8: =IFERROR(IF('A22 data'!$N$6="","...",'A22 data'!$N$6/'A22 data'!$N$4*100),"...") | D8: =IFERROR(IF('A22 data'!$S$6="","...",'A22 data'!$S$6/'A22 data'!$S$4*100),"...") | E8: =IFERROR(IF('A22 data'!$X$6="","...",'A22 data'!$X$6/'A22 data'!$X$4*100),"...") | F8: =IFERROR(IF('A22 data'!$AB$6="","...",'A22 data'!$AB$6/'A22 data'!$AB$4*100),"...") | G8: =IF(OR('A22 data'!$AB$6="",'A22 data'!$X$6=""),"...",IFERROR((('A22 data'!$AB$6/'A22 data'!$X$6)^(1/4)-1)*100,"...")) | H8: =IF(OR('A22 data'!$Z$6="",'A22 data'!$Y$6=""),"...",IFERROR(('A22 data'!$Z$6/'A22 data'!$Y$6-1)*100,"...")) | I8: =IF(OR('A22 data'!$AA$6="",'A22 data'!$Z$6=""),"...",IFERROR(('A22 data'!$AA$6/'A22 data'!$Z$6-1)*100,"...")) | J8: =IF(OR('A22 data'!$AB$6="",'A22 data'!$AA$6=""),"...",IFERROR(('A22 data'!$AB$6/'A22 data'!$AA$6-1)*100,"..."))
A9: China | B9: =IF('A22 data'!$AB$7="","...",'A22 data'!$AB$7/1000) | C9: =IFERROR(IF('A22 data'!$N$7="","...",'A22 data'!$N$7/'A22 data'!$N$4*100),"...") | D9: =IFERROR(IF('A22 data'!$S$7="","...",'A22 data'!$S$7/'A22 data'!$S$4*100),"...") | E9: =IFERROR(IF('A22 data'!$X$7="","...",'A22 data'!$X$7/'A22 data'!$X$4*100),"...") | F9: =IFERROR(IF('A22 data'!$AB$7="","...",'A22 data'!$AB$7/'A22 data'!$AB$4*100),"...") | G9: =IF(OR('A22 data'!$AB$7="",'A22 data'!$X$7=""),"...",IFERROR((('A22 data'!$AB$7/'A22 data'!$X$7)^(1/4)-1)*100,"...")) | H9: =IF(OR('A22 data'!$Z$7="",'A22 data'!$Y$7=""),"...",IFERROR(('A22 data'!$Z$7/'A22 data'!$Y$7-1)*100,"...")) | I9: =IF(OR('A22 data'!$AA$7="",'A22 data'!$Z$7=""),"...",IFERROR(('A22 data'!$AA$7/'A22 data'!$Z$7-1)*100,"...")) | J9: =IF(OR('A22 data'!$AB$7="",'A22 data'!$AA$7=""),"...",IFERROR(('A22 data'!$AB$7/'A22 data'!$AA$7-1)*100,"..."))
A10: Hong Kong, China | B10: =IF('A22 data'!$AB$8="","...",'A22 data'!$AB$8/1000) | C10: =IFERROR(IF('A22 data'!$N$8="","...",'A22 data'!$N$8/'A22 data'!$N$4*100),"...") | D10: =IFERROR(IF('A22 data'!$S$8="","...",'A22 data'!$S$8/'A22 data'!$S$4*100),"...") | E10: =IFERROR(IF('A22 data'!$X$8="","...",'A22 data'!$X$8/'A22 data'!$X$4*100),"...") | F10: =IFERROR(IF('A22 data'!$AB$8="","...",'A22 data'!$AB$8/'A22 data'!$AB$4*100),"...") | G10: =IF(OR('A22 data'!$AB$8="",'A22 data'!$X$8=""),"...",IFERROR((('A22 data'!$AB$8/'A22 data'!$X$8)^(1/4)-1)*100,"...")) | H10: =IF(OR('A22 data'!$Z$8="",'A22 data'!$Y$8=""),"...",IFERROR(('A22 data'!$Z$8/'A22 data'!$Y$8-1)*100,"...")) | I10: =IF(OR('A22 data'!$AA$8="",'A22 data'!$Z$8=""),"...",IFERROR(('A22 data'!$AA$8/'A22 data'!$Z$8-1)*100,"...")) | J10: =IF(OR('A22 data'!$AB$8="",'A22 data'!$AA$8=""),"...",IFERROR(('A22 data'!$AB$8/'A22 data'!$AA$8-1)*100,"..."))
A11: United States of America | B11: =IF('A22 data'!$AB$9="","...",'A22 data'!$AB$9/1000) | C11: =IFERROR(IF('A22 data'!$N$9="","...",'A22 data'!$N$9/'A22 data'!$N$4*100),"...") | D11: =IFERROR(IF('A22 data'!$S$9="","...",'A22 data'!$S$9/'A22 data'!$S$4*100),"...") | E11: =IFERROR(IF('A22 data'!$X$9="","...",'A22 data'!$X$9/'A22 data'!$X$4*100),"...") | F11: =IFERROR(IF('A22 data'!$AB$9="","...",'A22 data'!$AB$9/'A22 data'!$AB$4*100),"...") | G11: =IF(OR('A22 data'!$AB$9="",'A22 data'!$X$9=""),"...",IFERROR((('A22 data'!$AB$9/'A22 data'!$X$9)^(1/4)-1)*100,"...")) | H11: =IF(OR('A22 data'!$Z$9="",'A22 data'!$Y$9=""),"...",IFERROR(('A22 data'!$Z$9/'A22 data'!$Y$9-1)*100,"...")) | I11: =IF(OR('A22 data'!$AA$9="",'A22 data'!$Z$9=""),"...",IFERROR(('A22 data'!$AA$9/'A22 data'!$Z$9-1)*100,"...")) | J11: =IF(OR('A22 data'!$AB$9="",'A22 data'!$AA$9=""),"...",IFERROR(('A22 data'!$AB$9/'A22 data'!$AA$9-1)*100,"..."))
A12: Korea, Republic of | B12: =IF('A22 data'!$AB$10="","...",'A22 data'!$AB$10/1000) | C12: =IFERROR(IF('A22 data'!$N$10="","...",'A22 data'!$N$10/'A22 data'!$N$4*100),"...") | D12: =IFERROR(IF('A22 data'!$S$10="","...",'A22 data'!$S$10/'A22 data'!$S$4*100),"...") | E12: =IFERROR(IF('A22 data'!$X$10="","...",'A22 data'!$X$10/'A22 data'!$X$4*100),"...") | F12: =IFERROR(IF('A22 data'!$AB$10="","...",'A22 data'!$AB$10/'A22 data'!$AB$4*100),"...") | G12: =IF(OR('A22 data'!$AB$10="",'A22 data'!$X$10=""),"...",IFERROR((('A22 data'!$AB$10/'A22 data'!$X$10)^(1/4)-1)*100,"...")) | H12: =IF(OR('A22 data'!$Z$10="",'A22 data'!$Y$10=""),"...",IFERROR(('A22 data'!$Z$10/'A22 data'!$Y$10-1)*100,"...")) | I12: =IF(OR('A22 data'!$AA$10="",'A22 data'!$Z$10=""),"...",IFERROR(('A22 data'!$AA$10/'A22 data'!$Z$10-1)*100,"...")) | J12: =IF(OR('A22 data'!$AB$10="",'A22 data'!$AA$10=""),"...",IFERROR(('A22 data'!$AB$10/'A22 data'!$AA$10-1)*100,"..."))
A13: Chinese Taipei | B13: =IF('A22 data'!$AB$11="","...",'A22 data'!$AB$11/1000) | C13: =IFERROR(IF('A22 data'!$N$11="","...",'A22 data'!$N$11/'A22 data'!$N$4*100),"...") | D13: =IFERROR(IF('A22 data'!$S$11="","...",'A22 data'!$S$11/'A22 data'!$S$4*100),"...") | E13: =IFERROR(IF('A22 data'!$X$11="","...",'A22 data'!$X$11/'A22 data'!$X$4*100),"...") | F13: =IFERROR(IF('A22 data'!$AB$11="","...",'A22 data'!$AB$11/'A22 data'!$AB$4*100),"...") | G13: =IF(OR('A22 data'!$AB$11="",'A22 data'!$X$11=""),"...",IFERROR((('A22 data'!$AB$11/'A22 data'!$X$11)^(1/4)-1)*100,"...")) | H13: =IF(OR('A22 data'!$Z$11="",'A22 data'!$Y$11=""),"...",IFERROR(('A22 data'!$Z$11/'A22 data'!$Y$11-1)*100,"...")) | I13: =IF(OR('A22 data'!$AA$11="",'A22 data'!$Z$11=""),"...",IFERROR(('A22 data'!$AA$11/'A22 data'!$Z$11-1)*100,"...")) | J13: =IF(OR('A22 data'!$AB$11="",'A22 data'!$AA$11=""),"...",IFERROR(('A22 data'!$AB$11/'A22 data'!$AA$11-1)*100,"..."))
A14: India | B14: =IF('A22 data'!$AB$12="","...",'A22 data'!$AB$12/1000) | C14: =IFERROR(IF('A22 data'!$N$12="","...",'A22 data'!$N$12/'A22 data'!$N$4*100),"...") | D14: =IFERROR(IF('A22 data'!$S$12="","...",'A22 data'!$S$12/'A22 data'!$S$4*100),"...") | E14: =IFERROR(IF('A22 data'!$X$12="","...",'A22 data'!$X$12/'A22 data'!$X$4*100),"...") | F14: =IFERROR(IF('A22 data'!$AB$12="","...",'A22 data'!$AB$12/'A22 data'!$AB$4*100),"...") | G14: =IF(OR('A22 data'!$AB$12="",'A22 data'!$X$12=""),"...",IFERROR((('A22 data'!$AB$12/'A22 data'!$X$12)^(1/4)-1)*100,"...")) | H14: =IF(OR('A22 data'!$Z$12="",'A22 data'!$Y$12=""),"...",IFERROR(('A22 data'!$Z$12/'A22 data'!$Y$12-1)*100,"...")) | I14: =IF(OR('A22 data'!$AA$12="",'A22 data'!$Z$12=""),"...",IFERROR(('A22 data'!$AA$12/'A22 data'!$Z$12-1)*100,"...")) | J14: =IF(OR('A22 data'!$AB$12="",'A22 data'!$AA$12=""),"...",IFERROR(('A22 data'!$AB$12/'A22 data'!$AA$12-1)*100,"..."))
A15: Japan | B15: =IF('A22 data'!$AB$13="","...",'A22 data'!$AB$13/1000) | C15: =IFERROR(IF('A22 data'!$N$13="","...",'A22 data'!$N$13/'A22 data'!$N$4*100),"...") | D15: =IFERROR(IF('A22 data'!$S$13="","...",'A22 data'!$S$13/'A22 data'!$S$4*100),"...") | E15: =IFERROR(IF('A22 data'!$X$13="","...",'A22 data'!$X$13/'A22 data'!$X$4*100),"...") | F15: =IFERROR(IF('A22 data'!$AB$13="","...",'A22 data'!$AB$13/'A22 data'!$AB$4*100),"...") | G15: =IF(OR('A22 data'!$AB$13="",'A22 data'!$X$13=""),"...",IFERROR((('A22 data'!$AB$13/'A22 data'!$X$13)^(1/4)-1)*100,"...")) | H15: =IF(OR('A22 data'!$Z$13="",'A22 data'!$Y$13=""),"...",IFERROR(('A22 data'!$Z$13/'A22 data'!$Y$13-1)*100,"...")) | I15: =IF(OR('A22 data'!$AA$13="",'A22 data'!$Z$13=""),"...",IFERROR(('A22 data'!$AA$13/'A22 data'!$Z$13-1)*100,"...")) | J15: =IF(OR('A22 data'!$AB$13="",'A22 data'!$AA$13=""),"...",IFERROR(('A22 data'!$AB$13/'A22 data'!$AA$13-1)*100,"..."))
A16: Türkiye | B16: =IF('A22 data'!$AB$14="","...",'A22 data'!$AB$14/1000) | C16: =IFERROR(IF('A22 data'!$N$14="","...",'A22 data'!$N$14/'A22 data'!$N$4*100),"...") | D16: =IFERROR(IF('A22 data'!$S$14="","...",'A22 data'!$S$14/'A22 data'!$S$4*100),"...") | E16: =IFERROR(IF('A22 data'!$X$14="","...",'A22 data'!$X$14/'A22 data'!$X$4*100),"...") | F16: =IFERROR(IF('A22 data'!$AB$14="","...",'A22 data'!$AB$14/'A22 data'!$AB$4*100),"...") | G16: =IF(OR('A22 data'!$AB$14="",'A22 data'!$X$14=""),"...",IFERROR((('A22 data'!$AB$14/'A22 data'!$X$14)^(1/4)-1)*100,"...")) | H16: =IF(OR('A22 data'!$Z$14="",'A22 data'!$Y$14=""),"...",IFERROR(('A22 data'!$Z$14/'A22 data'!$Y$14-1)*100,"...")) | I16: =IF(OR('A22 data'!$AA$14="",'A22 data'!$Z$14=""),"...",IFERROR(('A22 data'!$AA$14/'A22 data'!$Z$14-1)*100,"...")) | J16: =IF(OR('A22 data'!$AB$14="",'A22 data'!$AA$14=""),"...",IFERROR(('A22 data'!$AB$14/'A22 data'!$AA$14-1)*100,"..."))
A17: Pakistan | B17: =IF('A22 data'!$AB$15="","...",'A22 data'!$AB$15/1000) | C17: =IFERROR(IF('A22 data'!$N$15="","...",'A22 data'!$N$15/'A22 data'!$N$4*100),"...") | D17: =IFERROR(IF('A22 data'!$S$15="","...",'A22 data'!$S$15/'A22 data'!$S$4*100),"...") | E17: =IFERROR(IF('A22 data'!$X$15="","...",'A22 data'!$X$15/'A22 data'!$X$4*100),"...") | F17: =IFERROR(IF('A22 data'!$AB$15="","...",'A22 data'!$AB$15/'A22 data'!$AB$4*100),"...") | G17: =IF(OR('A22 data'!$AB$15="",'A22 data'!$X$15=""),"...",IFERROR((('A22 data'!$AB$15/'A22 data'!$X$15)^(1/4)-1)*100,"...")) | H17: =IF(OR('A22 data'!$Z$15="",'A22 data'!$Y$15=""),"...",IFERROR(('A22 data'!$Z$15/'A22 data'!$Y$15-1)*100,"...")) | I17: =IF(OR('A22 data'!$AA$15="",'A22 data'!$Z$15=""),"...",IFERROR(('A22 data'!$AA$15/'A22 data'!$Z$15-1)*100,"...")) | J17: =IF(OR('A22 data'!$AB$15="",'A22 data'!$AA$15=""),"...",IFERROR(('A22 data'!$AB$15/'A22 data'!$AA$15-1)*100,"..."))
A18: Above 10 | B18: =IFERROR(B7+B9+B10+B11+B12+B13+B14+B15+B16+B17,"...") | C18: =IFERROR(C7+C9+C10+C11+C12+C13+C14+C15+C16+C17,"...") | D18: =IFERROR(D7+D9+D10+D11+D12+D13+D14+D15+D16+D17,"...") | E18: =IFERROR(E7+E9+E10+E11+E12+E13+E14+E15+E16+E17,"...") | F18: =IFERROR(F7+F9+F10+F11+F12+F13+F14+F15+F16+F17,"...") | G18: - | H18: - | I18: - | J18: -
A19: Importers
A20: European Union | B20: =IF('A22 data'!$AB$17="","...",'A22 data'!$AB$17/1000) | C20: =IFERROR(IF('A22 data'!$N$17="","...",'A22 data'!$N$17/'A22 data'!$N$16*100),"...") | D20: =IFERROR(IF('A22 data'!$S$17="","...",'A22 data'!$S$17/'A22 data'!$S$16*100),"...") | E20: =IFERROR(IF('A22 data'!$X$17="","...",'A22 data'!$X$17/'A22 data'!$X$16*100),"...") | F20: =IFERROR(IF('A22 data'!$AB$17="","...",'A22 data'!$AB$17/'A22 data'!$AB$16*100),"...") | G20: =IF(OR('A22 data'!$AB$17="",'A22 data'!$X$17=""),"...",IFERROR((('A22 data'!$AB$17/'A22 data'!$X$17)^(1/4)-1)*100,"...")) | H20: =IF(OR('A22 data'!$Z$17="",'A22 data'!$Y$17=""),"...",IFERROR(('A22 data'!$Z$17/'A22 data'!$Y$17-1)*100,"...")) | I20: =IF(OR('A22 data'!$AA$17="",'A22 data'!$Z$17=""),"...",IFERROR(('A22 data'!$AA$17/'A22 data'!$Z$17-1)*100,"...")) | J20: =IF(OR('A22 data'!$AB$17="",'A22 data'!$AA$17=""),"...",IFERROR(('A22 data'!$AB$17/'A22 data'!$AA$17-1)*100,"..."))
A21: Extra-EU | B21: =IF('A22 data'!$AB$18="","...",'A22 data'!$AB$18/1000) | C21: =IFERROR(IF('A22 data'!$N$18="","...",'A22 data'!$N$18/'A22 data'!$N$16*100),"...") | D21: =IFERROR(IF('A22 data'!$S$18="","...",'A22 data'!$S$18/'A22 data'!$S$16*100),"...") | E21: =IFERROR(IF('A22 data'!$X$18="","...",'A22 data'!$X$18/'A22 data'!$X$16*100),"...") | F21: =IFERROR(IF('A22 data'!$AB$18="","...",'A22 data'!$AB$18/'A22 data'!$AB$16*100),"...") | G21: =IF(OR('A22 data'!$AB$18="",'A22 data'!$X$18=""),"...",IFERROR((('A22 data'!$AB$18/'A22 data'!$X$18)^(1/4)-1)*100,"...")) | H21: =IF(OR('A22 data'!$Z$18="",'A22 data'!$Y$18=""),"...",IFERROR(('A22 data'!$Z$18/'A22 data'!$Y$18-1)*100,"...")) | I21: =IF(OR('A22 data'!$AA$18="",'A22 data'!$Z$18=""),"...",IFERROR(('A22 data'!$AA$18/'A22 data'!$Z$18-1)*100,"...")) | J21: =IF(OR('A22 data'!$AB$18="",'A22 data'!$AA$18=""),"...",IFERROR(('A22 data'!$AB$18/'A22 data'!$AA$18-1)*100,"..."))
A22: United States of America | B22: =IF('A22 data'!$AB$19="","...",'A22 data'!$AB$19/1000) | C22: =IFERROR(IF('A22 data'!$N$19="","...",'A22 data'!$N$19/'A22 data'!$N$16*100),"...") | D22: =IFERROR(IF('A22 data'!$S$19="","...",'A22 data'!$S$19/'A22 data'!$S$16*100),"...") | E22: =IFERROR(IF('A22 data'!$X$19="","...",'A22 data'!$X$19/'A22 data'!$X$16*100),"...") | F22: =IFERROR(IF('A22 data'!$AB$19="","...",'A22 data'!$AB$19/'A22 data'!$AB$16*100),"...") | G22: =IF(OR('A22 data'!$AB$19="",'A22 data'!$X$19=""),"...",IFERROR((('A22 data'!$AB$19/'A22 data'!$X$19)^(1/4)-1)*100,"...")) | H22: =IF(OR('A22 data'!$Z$19="",'A22 data'!$Y$19=""),"...",IFERROR(('A22 data'!$Z$19/'A22 data'!$Y$19-1)*100,"...")) | I22: =IF(OR('A22 data'!$AA$19="",'A22 data'!$Z$19=""),"...",IFERROR(('A22 data'!$AA$19/'A22 data'!$Z$19-1)*100,"...")) | J22: =IF(OR('A22 data'!$AB$19="",'A22 data'!$AA$19=""),"...",IFERROR(('A22 data'!$AB$19/'A22 data'!$AA$19-1)*100,"..."))
A23: China | B23: =IF('A22 data'!$AB$20="","...",'A22 data'!$AB$20/1000) | C23: =IFERROR(IF('A22 data'!$N$20="","...",'A22 data'!$N$20/'A22 data'!$N$16*100),"...") | D23: =IFERROR(IF('A22 data'!$S$20="","...",'A22 data'!$S$20/'A22 data'!$S$16*100),"...") | E23: =IFERROR(IF('A22 data'!$X$20="","...",'A22 data'!$X$20/'A22 data'!$X$16*100),"...") | F23: =IFERROR(IF('A22 data'!$AB$20="","...",'A22 data'!$AB$20/'A22 data'!$AB$16*100),"...") | G23: =IF(OR('A22 data'!$AB$20="",'A22 data'!$X$20=""),"...",IFERROR((('A22 data'!$AB$20/'A22 data'!$X$20)^(1/4)-1)*100,"...")) | H23: =IF(OR('A22 data'!$Z$20="",'A22 data'!$Y$20=""),"...",IFERROR(('A22 data'!$Z$20/'A22 data'!$Y$20-1)*100,"...")) | I23: =IF(OR('A22 data'!$AA$20="",'A22 data'!$Z$20=""),"...",IFERROR(('A22 data'!$AA$20/'A22 data'!$Z$20-1)*100,"...")) | J23: =IF(OR('A22 data'!$AB$20="",'A22 data'!$AA$20=""),"...",IFERROR(('A22 data'!$AB$20/'A22 data'!$AA$20-1)*100,"..."))
A24: Hong Kong, China | B24: =IF('A22 data'!$AB$21="","...",'A22 data'!$AB$21/1000) | C24: =IFERROR(IF('A22 data'!$N$21="","...",'A22 data'!$N$21/'A22 data'!$N$16*100),"...") | D24: =IFERROR(IF('A22 data'!$S$21="","...",'A22 data'!$S$21/'A22 data'!$S$16*100),"...") | E24: =IFERROR(IF('A22 data'!$X$21="","...",'A22 data'!$X$21/'A22 data'!$X$16*100),"...") | F24: =IFERROR(IF('A22 data'!$AB$21="","...",'A22 data'!$AB$21/'A22 data'!$AB$16*100),"...") | G24: =IF(OR('A22 data'!$AB$21="",'A22 data'!$X$21=""),"...",IFERROR((('A22 data'!$AB$21/'A22 data'!$X$21)^(1/4)-1)*100,"...")) | H24: =IF(OR('A22 data'!$Z$21="",'A22 data'!$Y$21=""),"...",IFERROR(('A22 data'!$Z$21/'A22 data'!$Y$21-1)*100,"...")) | I24: =IF(OR('A22 data'!$AA$21="",'A22 data'!$Z$21=""),"...",IFERROR(('A22 data'!$AA$21/'A22 data'!$Z$21-1)*100,"...")) | J24: =IF(OR('A22 data'!$AB$21="",'A22 data'!$AA$21=""),"...",IFERROR(('A22 data'!$AB$21/'A22 data'!$AA$21-1)*100,"..."))
A25: United Kingdom | B25: =IF('A22 data'!$AB$22="","...",'A22 data'!$AB$22/1000) | C25: =IFERROR(IF('A22 data'!$N$22="","...",'A22 data'!$N$22/'A22 data'!$N$16*100),"...") | D25: =IFERROR(IF('A22 data'!$S$22="","...",'A22 data'!$S$22/'A22 data'!$S$16*100),"...") | E25: =IFERROR(IF('A22 data'!$X$22="","...",'A22 data'!$X$22/'A22 data'!$X$16*100),"...") | F25: =IFERROR(IF('A22 data'!$AB$22="","...",'A22 data'!$AB$22/'A22 data'!$AB$16*100),"...") | G25: =IF(OR('A22 data'!$AB$22="",'A22 data'!$X$22=""),"...",IFERROR((('A22 data'!$AB$22/'A22 data'!$X$22)^(1/4)-1)*100,"...")) | H25: =IF(OR('A22 data'!$Z$22="",'A22 data'!$Y$22=""),"...",IFERROR(('A22 data'!$Z$22/'A22 data'!$Y$22-1)*100,"...")) | I25: =IF(OR('A22 data'!$AA$22="",'A22 data'!$Z$22=""),"...",IFERROR(('A22 data'!$AA$22/'A22 data'!$Z$22-1)*100,"...")) | J25: =IF(OR('A22 data'!$AB$22="",'A22 data'!$AA$22=""),"...",IFERROR(('A22 data'!$AB$22/'A22 data'!$AA$22-1)*100,"..."))
A26: Mexico | B26: =IF('A22 data'!$AB$23="","...",'A22 data'!$AB$23/1000) | C26: =IFERROR(IF('A22 data'!$N$23="","...",'A22 data'!$N$23/'A22 data'!$N$16*100),"...") | D26: =IFERROR(IF('A22 data'!$S$23="","...",'A22 data'!$S$23/'A22 data'!$S$16*100),"...") | E26: =IFERROR(IF('A22 data'!$X$23="","...",'A22 data'!$X$23/'A22 data'!$X$16*100),"...") | F26: =IFERROR(IF('A22 data'!$AB$23="","...",'A22 data'!$AB$23/'A22 data'!$AB$16*100),"...") | G26: =IF(OR('A22 data'!$AB$23="",'A22 data'!$X$23=""),"...",IFERROR((('A22 data'!$AB$23/'A22 data'!$X$23)^(1/4)-1)*100,"...")) | H26: =IF(OR('A22 data'!$Z$23="",'A22 data'!$Y$23=""),"...",IFERROR(('A22 data'!$Z$23/'A22 data'!$Y$23-1)*100,"...")) | I26: =IF(OR('A22 data'!$AA$23="",'A22 data'!$Z$23=""),"...",IFERROR(('A22 data'!$AA$23/'A22 data'!$Z$23-1)*100,"...")) | J26: =IF(OR('A22 data'!$AB$23="",'A22 data'!$AA$23=""),"...",IFERROR(('A22 data'!$AB$23/'A22 data'!$AA$23-1)*100,"..."))
A27: Japan | B27: =IF('A22 data'!$AB$24="","...",'A22 data'!$AB$24/1000) | C27: =IFERROR(IF('A22 data'!$N$24="","...",'A22 data'!$N$24/'A22 data'!$N$16*100),"...") | D27: =IFERROR(IF('A22 data'!$S$24="","...",'A22 data'!$S$24/'A22 data'!$S$16*100),"...") | E27: =IFERROR(IF('A22 data'!$X$24="","...",'A22 data'!$X$24/'A22 data'!$X$16*100),"...") | F27: =IFERROR(IF('A22 data'!$AB$24="","...",'A22 data'!$AB$24/'A22 data'!$AB$16*100),"...") | G27: =IF(OR('A22 data'!$AB$24="",'A22 data'!$X$24=""),"...",IFERROR((('A22 data'!$AB$24/'A22 data'!$X$24)^(1/4)-1)*100,"...")) | H27: =IF(OR('A22 data'!$Z$24="",'A22 data'!$Y$24=""),"...",IFERROR(('A22 data'!$Z$24/'A22 data'!$Y$24-1)*100,"...")) | I27: =IF(OR('A22 data'!$AA$24="",'A22 data'!$Z$24=""),"...",IFERROR(('A22 data'!$AA$24/'A22 data'!$Z$24-1)*100,"...")) | J27: =IF(OR('A22 data'!$AB$24="",'A22 data'!$AA$24=""),"...",IFERROR(('A22 data'!$AB$24/'A22 data'!$AA$24-1)*100,"..."))
A28: Türkiye | B28: =IF('A22 data'!$AB$25="","...",'A22 data'!$AB$25/1000) | C28: =IFERROR(IF('A22 data'!$N$25="","...",'A22 data'!$N$25/'A22 data'!$N$16*100),"...") | D28: =IFERROR(IF('A22 data'!$S$25="","...",'A22 data'!$S$25/'A22 data'!$S$16*100),"...") | E28: =IFERROR(IF('A22 data'!$X$25="","...",'A22 data'!$X$25/'A22 data'!$X$16*100),"...") | F28: =IFERROR(IF('A22 data'!$AB$25="","...",'A22 data'!$AB$25/'A22 data'!$AB$16*100),"...") | G28: =IF(OR('A22 data'!$AB$25="",'A22 data'!$X$25=""),"...",IFERROR((('A22 data'!$AB$25/'A22 data'!$X$25)^(1/4)-1)*100,"...")) | H28: =IF(OR('A22 data'!$Z$25="",'A22 data'!$Y$25=""),"...",IFERROR(('A22 data'!$Z$25/'A22 data'!$Y$25-1)*100,"...")) | I28: =IF(OR('A22 data'!$AA$25="",'A22 data'!$Z$25=""),"...",IFERROR(('A22 data'!$AA$25/'A22 data'!$Z$25-1)*100,"...")) | J28: =IF(OR('A22 data'!$AB$25="",'A22 data'!$AA$25=""),"...",IFERROR(('A22 data'!$AB$25/'A22 data'!$AA$25-1)*100,"..."))
A29: Canada | B29: =IF('A22 data'!$AB$26="","...",'A22 data'!$AB$26/1000) | C29: =IFERROR(IF('A22 data'!$N$26="","...",'A22 data'!$N$26/'A22 data'!$N$16*100),"...") | D29: =IFERROR(IF('A22 data'!$S$26="","...",'A22 data'!$S$26/'A22 data'!$S$16*100),"...") | E29: =IFERROR(IF('A22 data'!$X$26="","...",'A22 data'!$X$26/'A22 data'!$X$16*100),"...") | F29: =IFERROR(IF('A22 data'!$AB$26="","...",'A22 data'!$AB$26/'A22 data'!$AB$16*100),"...") | G29: =IF(OR('A22 data'!$AB$26="",'A22 data'!$X$26=""),"...",IFERROR((('A22 data'!$AB$26/'A22 data'!$X$26)^(1/4)-1)*100,"...")) | H29: =IF(OR('A22 data'!$Z$26="",'A22 data'!$Y$26=""),"...",IFERROR(('A22 data'!$Z$26/'A22 data'!$Y$26-1)*100,"...")) | I29: =IF(OR('A22 data'!$AA$26="",'A22 data'!$Z$26=""),"...",IFERROR(('A22 data'!$AA$26/'A22 data'!$Z$26-1)*100,"...")) | J29: =IF(OR('A22 data'!$AB$26="",'A22 data'!$AA$26=""),"...",IFERROR(('A22 data'!$AB$26/'A22 data'!$AA$26-1)*100,"..."))
A30: Korea, Republic of | B30: =IF('A22 data'!$AB$27="","...",'A22 data'!$AB$27/1000) | C30: =IFERROR(IF('A22 data'!$N$27="","...",'A22 data'!$N$27/'A22 data'!$N$16*100),"...") | D30: =IFERROR(IF('A22 data'!$S$27="","...",'A22 data'!$S$27/'A22 data'!$S$16*100),"...") | E30: =IFERROR(IF('A22 data'!$X$27="","...",'A22 data'!$X$27/'A22 data'!$X$16*100),"...") | F30: =IFERROR(IF('A22 data'!$AB$27="","...",'A22 data'!$AB$27/'A22 data'!$AB$16*100),"...") | G30: =IF(OR('A22 data'!$AB$27="",'A22 data'!$X$27=""),"...",IFERROR((('A22 data'!$AB$27/'A22 data'!$X$27)^(1/4)-1)*100,"...")) | H30: =IF(OR('A22 data'!$Z$27="",'A22 data'!$Y$27=""),"...",IFERROR(('A22 data'!$Z$27/'A22 data'!$Y$27-1)*100,"...")) | I30: =IF(OR('A22 data'!$AA$27="",'A22 data'!$Z$27=""),"...",IFERROR(('A22 data'!$AA$27/'A22 data'!$Z$27-1)*100,"...")) | J30: =IF(OR('A22 data'!$AB$27="",'A22 data'!$AA$27=""),"...",IFERROR(('A22 data'!$AB$27/'A22 data'!$AA$27-1)*100,"..."))
A31: Above 10 | B31: =IFERROR(B20+B22+B23+B24+B25+B26+B27+B28+B29+B30,"...") | C31: =IFERROR(C20+C22+C23+C24+C26+C27+C28+C29+C30,"...") | D31: =IFERROR(D20+D22+D23+D24+D26+D27+D28+D29+D30,"...") | E31: =IFERROR(E20+E22+E23+E24+E25+E26+E27+E28+E29+E30,"...") | F31: =IFERROR(F20+F22+F23+F24+F25+F26+F27+F28+F29+F30,"...") | G31: - | H31: - | I31: - | J31: -
A33: Notes
A34: The EU is ranked as one economy; its member states are not ranked. Extra-EU (the EU's trade with non-members) is shown beneath it and is not ranked.
A35: From 2000 the EU figure is WTO's own series for today's 27 member states (EU-27), in every year, including years when the membership was different. The United Kingdom is ranked on its own.
A36: Before 2000 the EU figure is added up from the member states of each year (EC-9 in 1980, EC-10 in 1981-1985, EC-12 in 1986-1994, EU-15 in 1995-1999), the United Kingdom included; economies that joined later are ranked on their own. Extra-EU cannot be added up and shows "...". If a member state has no data for a year, the EU shows "...".
A37: Break at 2000: EU figures before 2000 (members of that year, added up) and from 2000 (WTO's EU-27) are on different bases, so no EU change or growth rate is shown across 2000.
A38: Economies ranked in 2004: 135 exporters, 144 importers.
A39: "Above 10" is the sum of the ten ranked economies. "..." means not available.
A40: In the "Above 10" shares for years before 2000, the United Kingdom is counted once, as part of the added-up EU, not a second time on its own.
A41: Shares are of world textiles exports or imports. 2000-04 is the compound annual rate of change.
A42: Figures for every year are as WTO published them on 2026-09-29; WTO revises past figures, so they can differ from the printed review.
...

Sheet A23 clothing
A1: Table A23, 2005 edition (trade data for 2004)
A2: Top 10 exporters and importers of clothing, 2004
A3: (Billion dollars and percentage)
A5: Economy | B5: Value 2004 (US$ bn) | C5: Share 1990 (%) | D5: Share 1995 (%) | E5: Share 2000 (%) | F5: Share 2004 (%) | G5: Change 2000-04 (% p.a.) | H5: Change 2002 (%) | I5: Change 2003 (%) | J5: Change 2004 (%)
A6: Exporters
A7: European Union | B7: =IF('A23 data'!$AB$5="","...",'A23 data'!$AB$5/1000) | C7: =IFERROR(IF('A23 data'!$N$5="","...",'A23 data'!$N$5/'A23 data'!$N$4*100),"...") | D7: =IFERROR(IF('A23 data'!$S$5="","...",'A23 data'!$S$5/'A23 data'!$S$4*100),"...") | E7: =IFERROR(IF('A23 data'!$X$5="","...",'A23 data'!$X$5/'A23 data'!$X$4*100),"...") | F7: =IFERROR(IF('A23 data'!$AB$5="","...",'A23 data'!$AB$5/'A23 data'!$AB$4*100),"...") | G7: =IF(OR('A23 data'!$AB$5="",'A23 data'!$X$5=""),"...",IFERROR((('A23 data'!$AB$5/'A23 data'!$X$5)^(1/4)-1)*100,"...")) | H7: =IF(OR('A23 data'!$Z$5="",'A23 data'!$Y$5=""),"...",IFERROR(('A23 data'!$Z$5/'A23 data'!$Y$5-1)*100,"...")) | I7: =IF(OR('A23 data'!$AA$5="",'A23 data'!$Z$5=""),"...",IFERROR(('A23 data'!$AA$5/'A23 data'!$Z$5-1)*100,"...")) | J7: =IF(OR('A23 data'!$AB$5="",'A23 data'!$AA$5=""),"...",IFERROR(('A23 data'!$AB$5/'A23 data'!$AA$5-1)*100,"..."))
A8: Extra-EU | B8: =IF('A23 data'!$AB$6="","...",'A23 data'!$AB$6/1000) | C8: =IFERROR(IF('A23 data'!$N$6="","...",'A23 data'!$N$6/'A23 data'!$N$4*100),"...") | D8: =IFERROR(IF('A23 data'!$S$6="","...",'A23 data'!$S$6/'A23 data'!$S$4*100),"...") | E8: =IFERROR(IF('A23 data'!$X$6="","...",'A23 data'!$X$6/'A23 data'!$X$4*100),"...") | F8: =IFERROR(IF('A23 data'!$AB$6="","...",'A23 data'!$AB$6/'A23 data'!$AB$4*100),"...") | G8: =IF(OR('A23 data'!$AB$6="",'A23 data'!$X$6=""),"...",IFERROR((('A23 data'!$AB$6/'A23 data'!$X$6)^(1/4)-1)*100,"...")) | H8: =IF(OR('A23 data'!$Z$6="",'A23 data'!$Y$6=""),"...",IFERROR(('A23 data'!$Z$6/'A23 data'!$Y$6-1)*100,"...")) | I8: =IF(OR('A23 data'!$AA$6="",'A23 data'!$Z$6=""),"...",IFERROR(('A23 data'!$AA$6/'A23 data'!$Z$6-1)*100,"...")) | J8: =IF(OR('A23 data'!$AB$6="",'A23 data'!$AA$6=""),"...",IFERROR(('A23 data'!$AB$6/'A23 data'!$AA$6-1)*100,"..."))
A9: China | B9: =IF('A23 data'!$AB$7="","...",'A23 data'!$AB$7/1000) | C9: =IFERROR(IF('A23 data'!$N$7="","...",'A23 data'!$N$7/'A23 data'!$N$4*100),"...") | D9: =IFERROR(IF('A23 data'!$S$7="","...",'A23 data'!$S$7/'A23 data'!$S$4*100),"...") | E9: =IFERROR(IF('A23 data'!$X$7="","...",'A23 data'!$X$7/'A23 data'!$X$4*100),"...") | F9: =IFERROR(IF('A23 data'!$AB$7="","...",'A23 data'!$AB$7/'A23 data'!$AB$4*100),"...") | G9: =IF(OR('A23 data'!$AB$7="",'A23 data'!$X$7=""),"...",IFERROR((('A23 data'!$AB$7/'A23 data'!$X$7)^(1/4)-1)*100,"...")) | H9: =IF(OR('A23 data'!$Z$7="",'A23 data'!$Y$7=""),"...",IFERROR(('A23 data'!$Z$7/'A23 data'!$Y$7-1)*100,"...")) | I9: =IF(OR('A23 data'!$AA$7="",'A23 data'!$Z$7=""),"...",IFERROR(('A23 data'!$AA$7/'A23 data'!$Z$7-1)*100,"...")) | J9: =IF(OR('A23 data'!$AB$7="",'A23 data'!$AA$7=""),"...",IFERROR(('A23 data'!$AB$7/'A23 data'!$AA$7-1)*100,"..."))
A10: Hong Kong, China | B10: =IF('A23 data'!$AB$8="","...",'A23 data'!$AB$8/1000) | C10: =IFERROR(IF('A23 data'!$N$8="","...",'A23 data'!$N$8/'A23 data'!$N$4*100),"...") | D10: =IFERROR(IF('A23 data'!$S$8="","...",'A23 data'!$S$8/'A23 data'!$S$4*100),"...") | E10: =IFERROR(IF('A23 data'!$X$8="","...",'A23 data'!$X$8/'A23 data'!$X$4*100),"...") | F10: =IFERROR(IF('A23 data'!$AB$8="","...",'A23 data'!$AB$8/'A23 data'!$AB$4*100),"...") | G10: =IF(OR('A23 data'!$AB$8="",'A23 data'!$X$8=""),"...",IFERROR((('A23 data'!$AB$8/'A23 data'!$X$8)^(1/4)-1)*100,"...")) | H10: =IF(OR('A23 data'!$Z$8="",'A23 data'!$Y$8=""),"...",IFERROR(('A23 data'!$Z$8/'A23 data'!$Y$8-1)*100,"...")) | I10: =IF(OR('A23 data'!$AA$8="",'A23 data'!$Z$8=""),"...",IFERROR(('A23 data'!$AA$8/'A23 data'!$Z$8-1)*100,"...")) | J10: =IF(OR('A23 data'!$AB$8="",'A23 data'!$AA$8=""),"...",IFERROR(('A23 data'!$AB$8/'A23 data'!$AA$8-1)*100,"..."))
A11: Türkiye | B11: =IF('A23 data'!$AB$9="","...",'A23 data'!$AB$9/1000) | C11: =IFERROR(IF('A23 data'!$N$9="","...",'A23 data'!$N$9/'A23 data'!$N$4*100),"...") | D11: =IFERROR(IF('A23 data'!$S$9="","...",'A23 data'!$S$9/'A23 data'!$S$4*100),"...") | E11: =IFERROR(IF('A23 data'!$X$9="","...",'A23 data'!$X$9/'A23 data'!$X$4*100),"...") | F11: =IFERROR(IF('A23 data'!$AB$9="","...",'A23 data'!$AB$9/'A23 data'!$AB$4*100),"...") | G11: =IF(OR('A23 data'!$AB$9="",'A23 data'!$X$9=""),"...",IFERROR((('A23 data'!$AB$9/'A23 data'!$X$9)^(1/4)-1)*100,"...")) | H11: =IF(OR('A23 data'!$Z$9="",'A23 data'!$Y$9=""),"...",IFERROR(('A23 data'!$Z$9/'A23 data'!$Y$9-1)*100,"...")) | I11: =IF(OR('A23 data'!$AA$9="",'A23 data'!$Z$9=""),"...",IFERROR(('A23 data'!$AA$9/'A23 data'!$Z$9-1)*100,"...")) | J11: =IF(OR('A23 data'!$AB$9="",'A23 data'!$AA$9=""),"...",IFERROR(('A23 data'!$AB$9/'A23 data'!$AA$9-1)*100,"..."))
A12: Mexico | B12: =IF('A23 data'!$AB$10="","...",'A23 data'!$AB$10/1000) | C12: =IFERROR(IF('A23 data'!$N$10="","...",'A23 data'!$N$10/'A23 data'!$N$4*100),"...") | D12: =IFERROR(IF('A23 data'!$S$10="","...",'A23 data'!$S$10/'A23 data'!$S$4*100),"...") | E12: =IFERROR(IF('A23 data'!$X$10="","...",'A23 data'!$X$10/'A23 data'!$X$4*100),"...") | F12: =IFERROR(IF('A23 data'!$AB$10="","...",'A23 data'!$AB$10/'A23 data'!$AB$4*100),"...") | G12: =IF(OR('A23 data'!$AB$10="",'A23 data'!$X$10=""),"...",IFERROR((('A23 data'!$AB$10/'A23 data'!$X$10)^(1/4)-1)*100,"...")) | H12: =IF(OR('A23 data'!$Z$10="",'A23 data'!$Y$10=""),"...",IFERROR(('A23 data'!$Z$10/'A23 data'!$Y$10-1)*100,"...")) | I12: =IF(OR('A23 data'!$AA$10="",'A23 data'!$Z$10=""),"...",IFERROR(('A23 data'!$AA$10/'A23 data'!$Z$10-1)*100,"...")) | J12: =IF(OR('A23 data'!$AB$10="",'A23 data'!$AA$10=""),"...",IFERROR(('A23 data'!$AB$10/'A23 data'!$AA$10-1)*100,"..."))
A13: India | B13: =IF('A23 data'!$AB$11="","...",'A23 data'!$AB$11/1000) | C13: =IFERROR(IF('A23 data'!$N$11="","...",'A23 data'!$N$11/'A23 data'!$N$4*100),"...") | D13: =IFERROR(IF('A23 data'!$S$11="","...",'A23 data'!$S$11/'A23 data'!$S$4*100),"...") | E13: =IFERROR(IF('A23 data'!$X$11="","...",'A23 data'!$X$11/'A23 data'!$X$4*100),"...") | F13: =IFERROR(IF('A23 data'!$AB$11="","...",'A23 data'!$AB$11/'A23 data'!$AB$4*100),"...") | G13: =IF(OR('A23 data'!$AB$11="",'A23 data'!$X$11=""),"...",IFERROR((('A23 data'!$AB$11/'A23 data'!$X$11)^(1/4)-1)*100,"...")) | H13: =IF(OR('A23 data'!$Z$11="",'A23 data'!$Y$11=""),"...",IFERROR(('A23 data'!$Z$11/'A23 data'!$Y$11-1)*100,"...")) | I13: =IF(OR('A23 data'!$AA$11="",'A23 data'!$Z$11=""),"...",IFERROR(('A23 data'!$AA$11/'A23 data'!$Z$11-1)*100,"...")) | J13: =IF(OR('A23 data'!$AB$11="",'A23 data'!$AA$11=""),"...",IFERROR(('A23 data'!$AB$11/'A23 data'!$AA$11-1)*100,"..."))
A14: Bangladesh | B14: =IF('A23 data'!$AB$12="","...",'A23 data'!$AB$12/1000) | C14: =IFERROR(IF('A23 data'!$N$12="","...",'A23 data'!$N$12/'A23 data'!$N$4*100),"...") | D14: =IFERROR(IF('A23 data'!$S$12="","...",'A23 data'!$S$12/'A23 data'!$S$4*100),"...") | E14: =IFERROR(IF('A23 data'!$X$12="","...",'A23 data'!$X$12/'A23 data'!$X$4*100),"...") | F14: =IFERROR(IF('A23 data'!$AB$12="","...",'A23 data'!$AB$12/'A23 data'!$AB$4*100),"...") | G14: =IF(OR('A23 data'!$AB$12="",'A23 data'!$X$12=""),"...",IFERROR((('A23 data'!$AB$12/'A23 data'!$X$12)^(1/4)-1)*100,"...")) | H14: =IF(OR('A23 data'!$Z$12="",'A23 data'!$Y$12=""),"...",IFERROR(('A23 data'!$Z$12/'A23 data'!$Y$12-1)*100,"...")) | I14: =IF(OR('A23 data'!$AA$12="",'A23 data'!$Z$12=""),"...",IFERROR(('A23 data'!$AA$12/'A23 data'!$Z$12-1)*100,"...")) | J14: =IF(OR('A23 data'!$AB$12="",'A23 data'!$AA$12=""),"...",IFERROR(('A23 data'!$AB$12/'A23 data'!$AA$12-1)*100,"..."))
A15: United Kingdom | B15: =IF('A23 data'!$AB$13="","...",'A23 data'!$AB$13/1000) | C15: =IFERROR(IF('A23 data'!$N$13="","...",'A23 data'!$N$13/'A23 data'!$N$4*100),"...") | D15: =IFERROR(IF('A23 data'!$S$13="","...",'A23 data'!$S$13/'A23 data'!$S$4*100),"...") | E15: =IFERROR(IF('A23 data'!$X$13="","...",'A23 data'!$X$13/'A23 data'!$X$4*100),"...") | F15: =IFERROR(IF('A23 data'!$AB$13="","...",'A23 data'!$AB$13/'A23 data'!$AB$4*100),"...") | G15: =IF(OR('A23 data'!$AB$13="",'A23 data'!$X$13=""),"...",IFERROR((('A23 data'!$AB$13/'A23 data'!$X$13)^(1/4)-1)*100,"...")) | H15: =IF(OR('A23 data'!$Z$13="",'A23 data'!$Y$13=""),"...",IFERROR(('A23 data'!$Z$13/'A23 data'!$Y$13-1)*100,"...")) | I15: =IF(OR('A23 data'!$AA$13="",'A23 data'!$Z$13=""),"...",IFERROR(('A23 data'!$AA$13/'A23 data'!$Z$13-1)*100,"...")) | J15: =IF(OR('A23 data'!$AB$13="",'A23 data'!$AA$13=""),"...",IFERROR(('A23 data'!$AB$13/'A23 data'!$AA$13-1)*100,"..."))
A16: United States of America | B16: =IF('A23 data'!$AB$14="","...",'A23 data'!$AB$14/1000) | C16: =IFERROR(IF('A23 data'!$N$14="","...",'A23 data'!$N$14/'A23 data'!$N$4*100),"...") | D16: =IFERROR(IF('A23 data'!$S$14="","...",'A23 data'!$S$14/'A23 data'!$S$4*100),"...") | E16: =IFERROR(IF('A23 data'!$X$14="","...",'A23 data'!$X$14/'A23 data'!$X$4*100),"...") | F16: =IFERROR(IF('A23 data'!$AB$14="","...",'A23 data'!$AB$14/'A23 data'!$AB$4*100),"...") | G16: =IF(OR('A23 data'!$AB$14="",'A23 data'!$X$14=""),"...",IFERROR((('A23 data'!$AB$14/'A23 data'!$X$14)^(1/4)-1)*100,"...")) | H16: =IF(OR('A23 data'!$Z$14="",'A23 data'!$Y$14=""),"...",IFERROR(('A23 data'!$Z$14/'A23 data'!$Y$14-1)*100,"...")) | I16: =IF(OR('A23 data'!$AA$14="",'A23 data'!$Z$14=""),"...",IFERROR(('A23 data'!$AA$14/'A23 data'!$Z$14-1)*100,"...")) | J16: =IF(OR('A23 data'!$AB$14="",'A23 data'!$AA$14=""),"...",IFERROR(('A23 data'!$AB$14/'A23 data'!$AA$14-1)*100,"..."))
A17: Indonesia | B17: =IF('A23 data'!$AB$15="","...",'A23 data'!$AB$15/1000) | C17: =IFERROR(IF('A23 data'!$N$15="","...",'A23 data'!$N$15/'A23 data'!$N$4*100),"...") | D17: =IFERROR(IF('A23 data'!$S$15="","...",'A23 data'!$S$15/'A23 data'!$S$4*100),"...") | E17: =IFERROR(IF('A23 data'!$X$15="","...",'A23 data'!$X$15/'A23 data'!$X$4*100),"...") | F17: =IFERROR(IF('A23 data'!$AB$15="","...",'A23 data'!$AB$15/'A23 data'!$AB$4*100),"...") | G17: =IF(OR('A23 data'!$AB$15="",'A23 data'!$X$15=""),"...",IFERROR((('A23 data'!$AB$15/'A23 data'!$X$15)^(1/4)-1)*100,"...")) | H17: =IF(OR('A23 data'!$Z$15="",'A23 data'!$Y$15=""),"...",IFERROR(('A23 data'!$Z$15/'A23 data'!$Y$15-1)*100,"...")) | I17: =IF(OR('A23 data'!$AA$15="",'A23 data'!$Z$15=""),"...",IFERROR(('A23 data'!$AA$15/'A23 data'!$Z$15-1)*100,"...")) | J17: =IF(OR('A23 data'!$AB$15="",'A23 data'!$AA$15=""),"...",IFERROR(('A23 data'!$AB$15/'A23 data'!$AA$15-1)*100,"..."))
A18: Above 10 | B18: =IFERROR(B7+B9+B10+B11+B12+B13+B14+B15+B16+B17,"...") | C18: =IFERROR(C7+C9+C10+C11+C12+C13+C14+C16+C17,"...") | D18: =IFERROR(D7+D9+D10+D11+D12+D13+D14+D16+D17,"...") | E18: =IFERROR(E7+E9+E10+E11+E12+E13+E14+E15+E16+E17,"...") | F18: =IFERROR(F7+F9+F10+F11+F12+F13+F14+F15+F16+F17,"...") | G18: - | H18: - | I18: - | J18: -
A19: Importers
A20: European Union | B20: =IF('A23 data'!$AB$17="","...",'A23 data'!$AB$17/1000) | C20: =IFERROR(IF('A23 data'!$N$17="","...",'A23 data'!$N$17/'A23 data'!$N$16*100),"...") | D20: =IFERROR(IF('A23 data'!$S$17="","...",'A23 data'!$S$17/'A23 data'!$S$16*100),"...") | E20: =IFERROR(IF('A23 data'!$X$17="","...",'A23 data'!$X$17/'A23 data'!$X$16*100),"...") | F20: =IFERROR(IF('A23 data'!$AB$17="","...",'A23 data'!$AB$17/'A23 data'!$AB$16*100),"...") | G20: =IF(OR('A23 data'!$AB$17="",'A23 data'!$X$17=""),"...",IFERROR((('A23 data'!$AB$17/'A23 data'!$X$17)^(1/4)-1)*100,"...")) | H20: =IF(OR('A23 data'!$Z$17="",'A23 data'!$Y$17=""),"...",IFERROR(('A23 data'!$Z$17/'A23 data'!$Y$17-1)*100,"...")) | I20: =IF(OR('A23 data'!$AA$17="",'A23 data'!$Z$17=""),"...",IFERROR(('A23 data'!$AA$17/'A23 data'!$Z$17-1)*100,"...")) | J20: =IF(OR('A23 data'!$AB$17="",'A23 data'!$AA$17=""),"...",IFERROR(('A23 data'!$AB$17/'A23 data'!$AA$17-1)*100,"..."))
A21: Extra-EU | B21: =IF('A23 data'!$AB$18="","...",'A23 data'!$AB$18/1000) | C21: =IFERROR(IF('A23 data'!$N$18="","...",'A23 data'!$N$18/'A23 data'!$N$16*100),"...") | D21: =IFERROR(IF('A23 data'!$S$18="","...",'A23 data'!$S$18/'A23 data'!$S$16*100),"...") | E21: =IFERROR(IF('A23 data'!$X$18="","...",'A23 data'!$X$18/'A23 data'!$X$16*100),"...") | F21: =IFERROR(IF('A23 data'!$AB$18="","...",'A23 data'!$AB$18/'A23 data'!$AB$16*100),"...") | G21: =IF(OR('A23 data'!$AB$18="",'A23 data'!$X$18=""),"...",IFERROR((('A23 data'!$AB$18/'A23 data'!$X$18)^(1/4)-1)*100,"...")) | H21: =IF(OR('A23 data'!$Z$18="",'A23 data'!$Y$18=""),"...",IFERROR(('A23 data'!$Z$18/'A23 data'!$Y$18-1)*100,"...")) | I21: =IF(OR('A23 data'!$AA$18="",'A23 data'!$Z$18=""),"...",IFERROR(('A23 data'!$AA$18/'A23 data'!$Z$18-1)*100,"...")) | J21: =IF(OR('A23 data'!$AB$18="",'A23 data'!$AA$18=""),"...",IFERROR(('A23 data'!$AB$18/'A23 data'!$AA$18-1)*100,"..."))
A22: United States of America | B22: =IF('A23 data'!$AB$19="","...",'A23 data'!$AB$19/1000) | C22: =IFERROR(IF('A23 data'!$N$19="","...",'A23 data'!$N$19/'A23 data'!$N$16*100),"...") | D22: =IFERROR(IF('A23 data'!$S$19="","...",'A23 data'!$S$19/'A23 data'!$S$16*100),"...") | E22: =IFERROR(IF('A23 data'!$X$19="","...",'A23 data'!$X$19/'A23 data'!$X$16*100),"...") | F22: =IFERROR(IF('A23 data'!$AB$19="","...",'A23 data'!$AB$19/'A23 data'!$AB$16*100),"...") | G22: =IF(OR('A23 data'!$AB$19="",'A23 data'!$X$19=""),"...",IFERROR((('A23 data'!$AB$19/'A23 data'!$X$19)^(1/4)-1)*100,"...")) | H22: =IF(OR('A23 data'!$Z$19="",'A23 data'!$Y$19=""),"...",IFERROR(('A23 data'!$Z$19/'A23 data'!$Y$19-1)*100,"...")) | I22: =IF(OR('A23 data'!$AA$19="",'A23 data'!$Z$19=""),"...",IFERROR(('A23 data'!$AA$19/'A23 data'!$Z$19-1)*100,"...")) | J22: =IF(OR('A23 data'!$AB$19="",'A23 data'!$AA$19=""),"...",IFERROR(('A23 data'!$AB$19/'A23 data'!$AA$19-1)*100,"..."))
A23: United Kingdom | B23: =IF('A23 data'!$AB$20="","...",'A23 data'!$AB$20/1000) | C23: =IFERROR(IF('A23 data'!$N$20="","...",'A23 data'!$N$20/'A23 data'!$N$16*100),"...") | D23: =IFERROR(IF('A23 data'!$S$20="","...",'A23 data'!$S$20/'A23 data'!$S$16*100),"...") | E23: =IFERROR(IF('A23 data'!$X$20="","...",'A23 data'!$X$20/'A23 data'!$X$16*100),"...") | F23: =IFERROR(IF('A23 data'!$AB$20="","...",'A23 data'!$AB$20/'A23 data'!$AB$16*100),"...") | G23: =IF(OR('A23 data'!$AB$20="",'A23 data'!$X$20=""),"...",IFERROR((('A23 data'!$AB$20/'A23 data'!$X$20)^(1/4)-1)*100,"...")) | H23: =IF(OR('A23 data'!$Z$20="",'A23 data'!$Y$20=""),"...",IFERROR(('A23 data'!$Z$20/'A23 data'!$Y$20-1)*100,"...")) | I23: =IF(OR('A23 data'!$AA$20="",'A23 data'!$Z$20=""),"...",IFERROR(('A23 data'!$AA$20/'A23 data'!$Z$20-1)*100,"...")) | J23: =IF(OR('A23 data'!$AB$20="",'A23 data'!$AA$20=""),"...",IFERROR(('A23 data'!$AB$20/'A23 data'!$AA$20-1)*100,"..."))
A24: Japan | B24: =IF('A23 data'!$AB$21="","...",'A23 data'!$AB$21/1000) | C24: =IFERROR(IF('A23 data'!$N$21="","...",'A23 data'!$N$21/'A23 data'!$N$16*100),"...") | D24: =IFERROR(IF('A23 data'!$S$21="","...",'A23 data'!$S$21/'A23 data'!$S$16*100),"...") | E24: =IFERROR(IF('A23 data'!$X$21="","...",'A23 data'!$X$21/'A23 data'!$X$16*100),"...") | F24: =IFERROR(IF('A23 data'!$AB$21="","...",'A23 data'!$AB$21/'A23 data'!$AB$16*100),"...") | G24: =IF(OR('A23 data'!$AB$21="",'A23 data'!$X$21=""),"...",IFERROR((('A23 data'!$AB$21/'A23 data'!$X$21)^(1/4)-1)*100,"...")) | H24: =IF(OR('A23 data'!$Z$21="",'A23 data'!$Y$21=""),"...",IFERROR(('A23 data'!$Z$21/'A23 data'!$Y$21-1)*100,"...")) | I24: =IF(OR('A23 data'!$AA$21="",'A23 data'!$Z$21=""),"...",IFERROR(('A23 data'!$AA$21/'A23 data'!$Z$21-1)*100,"...")) | J24: =IF(OR('A23 data'!$AB$21="",'A23 data'!$AA$21=""),"...",IFERROR(('A23 data'!$AB$21/'A23 data'!$AA$21-1)*100,"..."))
A25: Hong Kong, China | B25: =IF('A23 data'!$AB$22="","...",'A23 data'!$AB$22/1000) | C25: =IFERROR(IF('A23 data'!$N$22="","...",'A23 data'!$N$22/'A23 data'!$N$16*100),"...") | D25: =IFERROR(IF('A23 data'!$S$22="","...",'A23 data'!$S$22/'A23 data'!$S$16*100),"...") | E25: =IFERROR(IF('A23 data'!$X$22="","...",'A23 data'!$X$22/'A23 data'!$X$16*100),"...") | F25: =IFERROR(IF('A23 data'!$AB$22="","...",'A23 data'!$AB$22/'A23 data'!$AB$16*100),"...") | G25: =IF(OR('A23 data'!$AB$22="",'A23 data'!$X$22=""),"...",IFERROR((('A23 data'!$AB$22/'A23 data'!$X$22)^(1/4)-1)*100,"...")) | H25: =IF(OR('A23 data'!$Z$22="",'A23 data'!$Y$22=""),"...",IFERROR(('A23 data'!$Z$22/'A23 data'!$Y$22-1)*100,"...")) | I25: =IF(OR('A23 data'!$AA$22="",'A23 data'!$Z$22=""),"...",IFERROR(('A23 data'!$AA$22/'A23 data'!$Z$22-1)*100,"...")) | J25: =IF(OR('A23 data'!$AB$22="",'A23 data'!$AA$22=""),"...",IFERROR(('A23 data'!$AB$22/'A23 data'!$AA$22-1)*100,"..."))
A26: Canada | B26: =IF('A23 data'!$AB$23="","...",'A23 data'!$AB$23/1000) | C26: =IFERROR(IF('A23 data'!$N$23="","...",'A23 data'!$N$23/'A23 data'!$N$16*100),"...") | D26: =IFERROR(IF('A23 data'!$S$23="","...",'A23 data'!$S$23/'A23 data'!$S$16*100),"...") | E26: =IFERROR(IF('A23 data'!$X$23="","...",'A23 data'!$X$23/'A23 data'!$X$16*100),"...") | F26: =IFERROR(IF('A23 data'!$AB$23="","...",'A23 data'!$AB$23/'A23 data'!$AB$16*100),"...") | G26: =IF(OR('A23 data'!$AB$23="",'A23 data'!$X$23=""),"...",IFERROR((('A23 data'!$AB$23/'A23 data'!$X$23)^(1/4)-1)*100,"...")) | H26: =IF(OR('A23 data'!$Z$23="",'A23 data'!$Y$23=""),"...",IFERROR(('A23 data'!$Z$23/'A23 data'!$Y$23-1)*100,"...")) | I26: =IF(OR('A23 data'!$AA$23="",'A23 data'!$Z$23=""),"...",IFERROR(('A23 data'!$AA$23/'A23 data'!$Z$23-1)*100,"...")) | J26: =IF(OR('A23 data'!$AB$23="",'A23 data'!$AA$23=""),"...",IFERROR(('A23 data'!$AB$23/'A23 data'!$AA$23-1)*100,"..."))
A27: Switzerland | B27: =IF('A23 data'!$AB$24="","...",'A23 data'!$AB$24/1000) | C27: =IFERROR(IF('A23 data'!$N$24="","...",'A23 data'!$N$24/'A23 data'!$N$16*100),"...") | D27: =IFERROR(IF('A23 data'!$S$24="","...",'A23 data'!$S$24/'A23 data'!$S$16*100),"...") | E27: =IFERROR(IF('A23 data'!$X$24="","...",'A23 data'!$X$24/'A23 data'!$X$16*100),"...") | F27: =IFERROR(IF('A23 data'!$AB$24="","...",'A23 data'!$AB$24/'A23 data'!$AB$16*100),"...") | G27: =IF(OR('A23 data'!$AB$24="",'A23 data'!$X$24=""),"...",IFERROR((('A23 data'!$AB$24/'A23 data'!$X$24)^(1/4)-1)*100,"...")) | H27: =IF(OR('A23 data'!$Z$24="",'A23 data'!$Y$24=""),"...",IFERROR(('A23 data'!$Z$24/'A23 data'!$Y$24-1)*100,"...")) | I27: =IF(OR('A23 data'!$AA$24="",'A23 data'!$Z$24=""),"...",IFERROR(('A23 data'!$AA$24/'A23 data'!$Z$24-1)*100,"...")) | J27: =IF(OR('A23 data'!$AB$24="",'A23 data'!$AA$24=""),"...",IFERROR(('A23 data'!$AB$24/'A23 data'!$AA$24-1)*100,"..."))
A28: Korea, Republic of | B28: =IF('A23 data'!$AB$25="","...",'A23 data'!$AB$25/1000) | C28: =IFERROR(IF('A23 data'!$N$25="","...",'A23 data'!$N$25/'A23 data'!$N$16*100),"...") | D28: =IFERROR(IF('A23 data'!$S$25="","...",'A23 data'!$S$25/'A23 data'!$S$16*100),"...") | E28: =IFERROR(IF('A23 data'!$X$25="","...",'A23 data'!$X$25/'A23 data'!$X$16*100),"...") | F28: =IFERROR(IF('A23 data'!$AB$25="","...",'A23 data'!$AB$25/'A23 data'!$AB$16*100),"...") | G28: =IF(OR('A23 data'!$AB$25="",'A23 data'!$X$25=""),"...",IFERROR((('A23 data'!$AB$25/'A23 data'!$X$25)^(1/4)-1)*100,"...")) | H28: =IF(OR('A23 data'!$Z$25="",'A23 data'!$Y$25=""),"...",IFERROR(('A23 data'!$Z$25/'A23 data'!$Y$25-1)*100,"...")) | I28: =IF(OR('A23 data'!$AA$25="",'A23 data'!$Z$25=""),"...",IFERROR(('A23 data'!$AA$25/'A23 data'!$Z$25-1)*100,"...")) | J28: =IF(OR('A23 data'!$AB$25="",'A23 data'!$AA$25=""),"...",IFERROR(('A23 data'!$AB$25/'A23 data'!$AA$25-1)*100,"..."))
A29: Australia | B29: =IF('A23 data'!$AB$26="","...",'A23 data'!$AB$26/1000) | C29: =IFERROR(IF('A23 data'!$N$26="","...",'A23 data'!$N$26/'A23 data'!$N$16*100),"...") | D29: =IFERROR(IF('A23 data'!$S$26="","...",'A23 data'!$S$26/'A23 data'!$S$16*100),"...") | E29: =IFERROR(IF('A23 data'!$X$26="","...",'A23 data'!$X$26/'A23 data'!$X$16*100),"...") | F29: =IFERROR(IF('A23 data'!$AB$26="","...",'A23 data'!$AB$26/'A23 data'!$AB$16*100),"...") | G29: =IF(OR('A23 data'!$AB$26="",'A23 data'!$X$26=""),"...",IFERROR((('A23 data'!$AB$26/'A23 data'!$X$26)^(1/4)-1)*100,"...")) | H29: =IF(OR('A23 data'!$Z$26="",'A23 data'!$Y$26=""),"...",IFERROR(('A23 data'!$Z$26/'A23 data'!$Y$26-1)*100,"...")) | I29: =IF(OR('A23 data'!$AA$26="",'A23 data'!$Z$26=""),"...",IFERROR(('A23 data'!$AA$26/'A23 data'!$Z$26-1)*100,"...")) | J29: =IF(OR('A23 data'!$AB$26="",'A23 data'!$AA$26=""),"...",IFERROR(('A23 data'!$AB$26/'A23 data'!$AA$26-1)*100,"..."))
A30: Mexico | B30: =IF('A23 data'!$AB$27="","...",'A23 data'!$AB$27/1000) | C30: =IFERROR(IF('A23 data'!$N$27="","...",'A23 data'!$N$27/'A23 data'!$N$16*100),"...") | D30: =IFERROR(IF('A23 data'!$S$27="","...",'A23 data'!$S$27/'A23 data'!$S$16*100),"...") | E30: =IFERROR(IF('A23 data'!$X$27="","...",'A23 data'!$X$27/'A23 data'!$X$16*100),"...") | F30: =IFERROR(IF('A23 data'!$AB$27="","...",'A23 data'!$AB$27/'A23 data'!$AB$16*100),"...") | G30: =IF(OR('A23 data'!$AB$27="",'A23 data'!$X$27=""),"...",IFERROR((('A23 data'!$AB$27/'A23 data'!$X$27)^(1/4)-1)*100,"...")) | H30: =IF(OR('A23 data'!$Z$27="",'A23 data'!$Y$27=""),"...",IFERROR(('A23 data'!$Z$27/'A23 data'!$Y$27-1)*100,"...")) | I30: =IF(OR('A23 data'!$AA$27="",'A23 data'!$Z$27=""),"...",IFERROR(('A23 data'!$AA$27/'A23 data'!$Z$27-1)*100,"...")) | J30: =IF(OR('A23 data'!$AB$27="",'A23 data'!$AA$27=""),"...",IFERROR(('A23 data'!$AB$27/'A23 data'!$AA$27-1)*100,"..."))
A31: Above 10 | B31: =IFERROR(B20+B22+B23+B24+B25+B26+B27+B28+B29+B30,"...") | C31: =IFERROR(C20+C22+C24+C25+C26+C27+C28+C29+C30,"...") | D31: =IFERROR(D20+D22+D24+D25+D26+D27+D28+D29+D30,"...") | E31: =IFERROR(E20+E22+E23+E24+E25+E26+E27+E28+E29+E30,"...") | F31: =IFERROR(F20+F22+F23+F24+F25+F26+F27+F28+F29+F30,"...") | G31: - | H31: - | I31: - | J31: -
A33: Notes
A34: The EU is ranked as one economy; its member states are not ranked. Extra-EU (the EU's trade with non-members) is shown beneath it and is not ranked.
A35: From 2000 the EU figure is WTO's own series for today's 27 member states (EU-27), in every year, including years when the membership was different. The United Kingdom is ranked on its own.
A36: Before 2000 the EU figure is added up from the member states of each year (EC-9 in 1980, EC-10 in 1981-1985, EC-12 in 1986-1994, EU-15 in 1995-1999), the United Kingdom included; economies that joined later are ranked on their own. Extra-EU cannot be added up and shows "...". If a member state has no data for a year, the EU shows "...".
A37: Break at 2000: EU figures before 2000 (members of that year, added up) and from 2000 (WTO's EU-27) are on different bases, so no EU change or growth rate is shown across 2000.
A38: Economies ranked in 2004: 138 exporters, 144 importers.
A39: "Above 10" is the sum of the ten ranked economies. "..." means not available.
A40: In the "Above 10" shares for years before 2000, the United Kingdom is counted once, as part of the added-up EU, not a second time on its own.
A41: Shares are of world clothing exports or imports. 2000-04 is the compound annual rate of change.
A42: Figures for every year are as WTO published them on 2026-09-29; WTO revises past figures, so they can differ from the printed review.
...

Sheet A22 data
A1: Raw data for table A22 (textiles), 2005 edition (trade data for 2004), US$ million. Source: WTO Timeseries via WTO Timeseries API v1 (api.wto.org).
A2: EU: WTO's EU-27 series from 2000; before 2000 added up from the member states of each year. Extra-EU from 2000 only.
A3: Flow | B3: Code | C3: Economy | D3: 1980 | E3: 1981 | F3: 1982 | G3: 1983 | H3: 1984 | I3: 1985 | J3: 1986 | K3: 1987 | L3: 1988 | M3: 1989 | N3: 1990 | O3: 1991 | P3: 1992 | Q3: 1993 | R3: 1994 | S3: 1995 | T3: 1996 | U3: 1997 | V3: 1998 | W3: 1999 | X3: 2000 | Y3: 2001 | Z3: 2002 | AA3: 2003 | AB3: 2004
A4: Exporters | B4: 000 | C4: World | D4: 54990 | M4: 95950 | N4: 104354 | O4: 108925 | P4: 117195 | Q4: 113452 | R4: 131673 | S4: 152319 | T4: 152744 | U4: 155739 | V4: 149831 | W4: 146255 | X4: 156257 | Y4: 148141 | Z4: 154385 | AA4: 173066 | AB4: 195034
A5: Exporters | B5: 918 | C5: European Union | D5: 23864 | E5: 21127 | F5: 19943 | G5: 19758 | H5: 20333 | I5: 21713 | J5: 29484 | K5: 35296 | L5: 37863 | M5: 39003 | N5: 47150 | O5: 46380 | P5: 48909 | Q5: 42475 | R5: 48079 | S5: 62200 | T5: 61480 | U5: 59178 | V5: 60365 | W5: 55395 | X5: 52129 | Y5: 51576 | Z5: 53324 | AA5: 60887 | AB5: 68041
A6: Exporters | B6: EUT | C6: Extra-EU | X6: 17896 | Y6: 17922 | Z6: 18702 | AA6: 20794 | AB6: 23706
A7: Exporters | B7: 156 | C7: China | D7: 2540 | E7: 3390 | F7: 2735 | G7: 3270 | H7: 3825 | I7: 3680 | J7: 5440 | K7: 6485 | L7: 6975 | M7: 7215 | N7: 7219 | O7: 8014 | P7: 8583 | Q7: 8699 | R7: 11818 | S7: 13918 | T7: 12112 | U7: 13828 | V7: 12817 | W7: 13043 | X7: 16135 | Y7: 16825 | Z7: 20562 | AA7: 26900 | AB7: 33428
A8: Exporters | B8: 344 | C8: Hong Kong, China | D8: 1771 | E8: 2183 | F8: 1888 | G8: 2033 | H8: 2726 | I8: 3038 | J8: 3959 | K8: 5669 | L8: 6371 | M8: 7574 | N8: 8213 | O8: 9770 | P8: 10979 | Q8: 11212 | R8: 12574 | S8: 13815 | T8: 14146 | U8: 14602 | V8: 13040 | W8: 12270 | X8: 13441 | Y8: 12213 | Z8: 12422 | AA8: 13087 | AB8: 14296
A9: Exporters | B9: 840 | C9: United States of America | D9: 3757 | E9: 3742 | F9: 2890 | G9: 2500 | H9: 2535 | I9: 2541 | J9: 2812 | K9: 3127 | L9: 3890 | M9: 4371 | N9: 5039 | O9: 5610 | P9: 5889 | Q9: 6025 | R9: 6592 | S9: 7372 | T9: 8008 | U9: 9187 | V9: 9205 | W9: 9504 | X9: 10947 | Y9: 10467 | Z9: 10659 | AA9: 10887 | AB9: 12027
A10: Exporters | B10: 410 | C10: Korea, Republic of | D10: 2209 | E10: 2460 | F10: 2251 | G10: 2423 | H10: 2615 | I10: 2534 | J10: 3215 | K10: 4080 | L10: 4848 | M10: 5371 | N10: 6076 | O10: 7300 | P10: 8208 | Q10: 8954 | R10: 10693 | S10: 12313 | T10: 12718 | U10: 13337 | V10: 11279 | W10: 11618 | X10: 12710 | Y10: 10941 | Z10: 10945 | AA10: 10779 | AB10: 10839
A11: Exporters | B11: 158 | C11: Chinese Taipei | D11: 1771 | E11: 2022 | F11: 1748 | G11: 1803 | H11: 2169 | I11: 2490 | J11: 3045 | K11: 4087 | L11: 4545 | M11: 5442 | N11: 6128 | O11: 7335 | P11: 7554 | Q11: 8160 | R11: 10242 | S11: 11861 | T11: 12024 | U11: 12750 | V11: 11123 | W11: 10863 | X11: 11891 | Y11: 9897 | Z11: 9531 | AA11: 9303 | AB11: 10038
A12: Exporters | B12: 356 | C12: India | D12: 1306 | E12: 1168 | F12: 1064 | G12: 889 | H12: 1175 | I12: 1054 | J12: 1062 | K12: 1573 | L12: 1585 | M12: 1810 | N12: 2180 | O12: 2530 | P12: 2932 | Q12: 2917 | R12: 3829 | S12: 4358 | T12: 4936 | U12: 5243 | V12: 4558 | W12: 5086 | X12: 5593 | Y12: 5523 | Z12: 5813 | AA12: 6435 | AB12: 7406
A13: Exporters | B13: 392 | C13: Japan | D13: 5123 | E13: 5869 | F13: 5102 | G13: 5345 | H13: 5358 | I13: 4943 | J13: 5488 | K13: 5597 | L13: 5527 | M13: 5534 | N13: 5871 | O13: 6527 | P13: 7078 | Q13: 6717 | R13: 6780 | S13: 7178 | T13: 6927 | U13: 6751 | V13: 5971 | W13: 6598 | X13: 7023 | Y13: 6197 | Z13: 6030 | AA13: 6431 | AB13: 7138
A14: Exporters | B14: 792 | C14: Türkiye | D14: 343 | E14: 569 | F14: 767 | G14: 853 | H14: 1006 | I14: 1045 | J14: 935 | K14: 1208 | L14: 1340 | M14: 1331 | N14: 1440 | O14: 1429 | P14: 1619 | Q14: 1592 | R14: 2194 | S14: 2527 | T14: 2722 | U14: 3352 | V14: 3549 | W14: 3478 | X14: 3672 | Y14: 3943 | Z14: 4244 | AA14: 5262 | AB14: 6428
A15: Exporters | B15: 586 | C15: Pakistan | D15: 876 | E15: 976 | F15: 928 | G15: 1312 | H15: 999 | I15: 970 | J15: 1264 | K15: 1854 | L15: 1803 | M15: 2018 | N15: 2663 | O15: 3200 | P15: 3590 | Q15: 3507 | R15: 3985 | S15: 4256 | T15: 4919 | U15: 4608 | V15: 4302 | W15: 4258 | X15: 4532 | Y15: 4525 | Z15: 4790 | AA15: 5811 | AB15: 6125
A16: Importers | B16: 000 | C16: World | D16: 56975 | I16: 55618 | N16: 107839 | O16: 114665 | P16: 123584 | Q16: 118287 | R16: 135585 | S16: 156515 | T16: 157848 | U16: 160869 | V16: 155336 | W16: 153303 | X16: 165331 | Y16: 156743 | Z16: 163350 | AA16: 183116 | AB16: 206359
A17: Importers | B17: 918 | C17: European Union | D17: 22886 | E17: 19199 | F17: 18414 | G17: 18191 | H17: 18605 | I17: 19758 | J17: 26864 | K17: 33081 | L17: 35975 | M17: 37346 | N17: 45999 | O17: 45443 | P17: 47101 | Q17: 36078 | R17: 41930 | S17: 53221 | T17: 52480 | U17: 51481 | V17: 54154 | W17: 48987 | X17: 49070 | Y17: 48471 | Z17: 49422 | AA17: 57318 | AB17: 63338
A18: Importers | B18: EUT | C18: Extra-EU | X18: 15934 | Y18: 15608 | Z18: 15778 | AA18: 18270 | AB18: 20632
A19: Importers | B19: 840 | C19: United States of America | D19: 2542 | E19: 3072 | F19: 2852 | G19: 3276 | H19: 4617 | I19: 4977 | J19: 5838 | K19: 6512 | L19: 6279 | M19: 6417 | N19: 6730 | O19: 7329 | P19: 8215 | Q19: 8855 | R19: 9658 | S19: 10441 | T19: 10692 | U19: 12449 | V19: 13444 | W19: 14277 | X19: 15191 | Y19: 14632 | Z19: 16952 | AA19: 18253 | AB19: 20662
A20: Importers | B20: 156 | C20: China | D20: 1100 | E20: 1670 | F20: 1170 | G20: 911 | H20: 1370 | I20: 2040 | J20: 3160 | K20: 3589 | L20: 4219 | M20: 4603 | N20: 5292 | O20: 6751 | P20: 7560 | Q20: 7645 | R20: 9347 | S20: 10914 | T20: 11980 | U20: 12267 | V20: 11082 | W20: 11079 | X20: 12832 | Y20: 12573 | Z20: 13060 | AA20: 14217 | AB20: 15304
A21: Importers | B21: 344 | C21: Hong Kong, China | D21: 2967 | E21: 3428 | F21: 2970 | G21: 3278 | H21: 4178 | I21: 4281 | J21: 5418 | K21: 7304 | L21: 8007 | M21: 9218 | N21: 10182 | O21: 12068 | P21: 13091 | Q21: 12784 | R21: 15294 | S21: 16859 | T21: 16515 | U21: 16205 | V21: 13483 | W21: 12561 | X21: 13716 | Y21: 12176 | Z21: 12065 | AA21: 12931 | AB21: 14110
A22: Importers | B22: 826 | C22: United Kingdom | D22: 3560 | E22: 3508 | F22: 3343 | G22: 3483 | H22: 3589 | I22: 3869 | J22: 4602 | K22: 5703 | L22: 6473 | M22: 6171 | N22: 7018 | O22: 6604 | P22: 6939 | Q22: 5569 | R22: 6645 | S22: 7262 | T22: 7808 | U22: 8376 | V22: 8341 | W22: 7476 | X22: 7265 | Y22: 6782 | Z22: 6870 | AA22: 7275 | AB22: 8195
A23: Importers | B23: 484 | C23: Mexico | D23: 133 | N23: 992 | O23: 1230 | P23: 1532 | Q23: 1900 | R23: 2147 | S23: 1768 | T23: 2220 | U23: 2868 | V23: 3433 | W23: 4837 | X23: 5822 | Y23: 5383 | Z23: 5571 | AA23: 5457 | AB23: 5752
A24: Importers | B24: 392 | C24: Japan | D24: 1722 | E24: 1639 | F24: 1612 | G24: 1496 | H24: 1934 | I24: 1900 | J24: 2185 | K24: 2994 | L24: 3934 | M24: 4347 | N24: 4133 | O24: 4331 | P24: 4175 | Q24: 3933 | R24: 5152 | S24: 5985 | T24: 6075 | U24: 5801 | V24: 4354 | W24: 4543 | X24: 4936 | Y24: 4753 | Z24: 4532 | AA24: 5031 | AB24: 5599
A25: Importers | B25: 792 | C25: Türkiye | D25: 80 | E25: 78 | F25: 103 | G25: 98 | H25: 117 | I25: 145 | J25: 159 | K25: 202 | L25: 257 | M25: 293 | N25: 567 | O25: 537 | P25: 707 | Q25: 1011 | R25: 1110 | S25: 1811 | T25: 1933 | U25: 2324 | V25: 2317 | W25: 1907 | X25: 2124 | Y25: 1921 | Z25: 2839 | AA25: 3441 | AB25: 4170
A26: Importers | B26: 124 | C26: Canada | D26: 1306 | E26: 1413 | F26: 1138 | G26: 1406 | H26: 1570 | I26: 1618 | J26: 1789 | K26: 2005 | L26: 2176 | M26: 2357 | N26: 2325 | O26: 2425 | P26: 2504 | Q26: 2714 | R26: 2917 | S26: 3204 | T26: 3313 | U26: 3885 | V26: 4027 | W26: 3991 | X26: 4126 | Y26: 3808 | Z26: 3799 | AA26: 3847 | AB26: 4109
A27: Importers | B27: 410 | C27: Korea, Republic of | D27: 409 | E27: 494 | F27: 501 | G27: 506 | H27: 603 | I27: 638 | J27: 926 | K27: 1408 | L27: 1590 | M27: 1835 | N27: 1947 | O27: 2430 | P27: 2556 | Q27: 2593 | R27: 3338 | S27: 3959 | T27: 3838 | U27: 3560 | V27: 2218 | W27: 3001 | X27: 3359 | Y27: 3067 | Z27: 3239 | AA27: 3131 | AB27: 3385

Sheet A23 data
A1: Raw data for table A23 (clothing), 2005 edition (trade data for 2004), US$ million. Source: WTO Timeseries via WTO Timeseries API v1 (api.wto.org).
A2: EU: WTO's EU-27 series from 2000; before 2000 added up from the member states of each year. Extra-EU from 2000 only.
A3: Flow | B3: Code | C3: Economy | D3: 1980 | E3: 1981 | F3: 1982 | G3: 1983 | H3: 1984 | I3: 1985 | J3: 1986 | K3: 1987 | L3: 1988 | M3: 1989 | N3: 1990 | O3: 1991 | P3: 1992 | Q3: 1993 | R3: 1994 | S3: 1995 | T3: 1996 | U3: 1997 | V3: 1998 | W3: 1999 | X3: 2000 | Y3: 2001 | Z3: 2002 | AA3: 2003 | AB3: 2004
A4: Exporters | B4: 000 | C4: World | D4: 40590 | M4: 97450 | N4: 108129 | O4: 117160 | P4: 132106 | Q4: 128792 | R4: 140757 | S4: 158353 | T4: 166077 | U4: 177616 | V4: 185963 | W4: 184587 | X4: 197723 | Y4: 194364 | Z4: 203726 | AA4: 233281 | AB4: 260436
A5: Exporters | B5: 918 | C5: European Union | D5: 14026 | E5: 12883 | F5: 12592 | G5: 12575 | H5: 13092 | I5: 14445 | J5: 22006 | K5: 27247 | L5: 28204 | M5: 29629 | N5: 37900 | O5: 39455 | P5: 43202 | Q5: 34978 | R5: 38271 | S5: 48458 | T5: 52628 | U5: 50697 | V5: 52821 | W5: 50227 | X5: 52174 | Y5: 55147 | Z5: 59121 | AA5: 70246 | AB5: 79142
A6: Exporters | B6: EUT | C6: Extra-EU | X6: 16024 | Y6: 17048 | Z6: 18263 | AA6: 20801 | AB6: 23057
A7: Exporters | B7: 156 | C7: China | D7: 1625 | E7: 1930 | F7: 2140 | G7: 2320 | H7: 2755 | I7: 2450 | J7: 4050 | K7: 5790 | L7: 6990 | M7: 8165 | N7: 9669 | O7: 12245 | P7: 16704 | Q7: 18441 | R7: 23731 | S7: 24049 | T7: 25034 | U7: 31803 | V7: 30048 | W7: 30078 | X7: 36071 | Y7: 36650 | Z7: 41302 | AA7: 52061 | AB7: 61856
A8: Exporters | B8: 344 | C8: Hong Kong, China | D8: 4976 | E8: 5424 | F8: 5241 | G8: 5308 | H8: 6765 | I8: 6718 | J8: 8398 | K8: 10720 | L8: 11786 | M8: 13994 | N8: 15406 | O8: 17959 | P8: 20060 | Q8: 20998 | R8: 21404 | S8: 21297 | T8: 21976 | U8: 23108 | V8: 22164 | W8: 22371 | X8: 24214 | Y8: 23446 | Z8: 22430 | AA8: 23158 | AB8: 25097
A9: Exporters | B9: 792 | C9: Türkiye | D9: 131 | E9: 314 | F9: 398 | G9: 648 | H9: 1267 | I9: 1208 | J9: 1245 | K9: 2197 | L9: 2352 | M9: 2741 | N9: 3331 | O9: 3478 | P9: 4179 | Q9: 4339 | R9: 4582 | S9: 6119 | T9: 6067 | U9: 6697 | V9: 7058 | W9: 6516 | X9: 6533 | Y9: 6661 | Z9: 8057 | AA9: 9962 | AB9: 11193
A10: Exporters | B10: 484 | C10: Mexico | D10: 2 | N10: 587 | O10: 773 | P10: 967 | Q10: 1185 | R10: 1701 | S10: 2731 | T10: 3753 | U10: 5636 | V10: 6603 | W10: 7772 | X10: 8631 | Y10: 8012 | Z10: 7751 | AA10: 7316 | AB10: 7490
A11: Exporters | B11: 356 | C11: India | D11: 673 | E11: 755 | F11: 625 | G11: 694 | H11: 831 | I11: 930 | J11: 1061 | K11: 1402 | L11: 1508 | M11: 2060 | N11: 2530 | O11: 2527 | P11: 3099 | Q11: 2970 | R11: 3701 | S11: 4110 | T11: 4217 | U11: 4343 | V11: 4782 | W11: 5153 | X11: 5965 | Y11: 5488 | Z11: 5832 | AA11: 6315 | AB11: 6926
A12: Exporters | B12: 050 | C12: Bangladesh | D12: 2 | E12: 5 | F12: 11 | G12: 21 | H12: 77 | I12: 168 | J12: 236 | K12: 416 | L12: 416 | M12: 440 | N12: 643 | O12: 840 | P12: 1042 | Q12: 1307 | R12: 1479 | S12: 1969 | T12: 2218 | U12: 2688 | V12: 3786 | W12: 3868 | X12: 5067 | Y12: 4772 | Z12: 4818 | AA12: 5654 | AB12: 6296
A13: Exporters | B13: 826 | C13: United Kingdom | D13: 1806 | E13: 1707 | F13: 1467 | G13: 1311 | H13: 1336 | I13: 1516 | J13: 1800 | K13: 2348 | L13: 2520 | M13: 2362 | N13: 3042 | O13: 3392 | P13: 3659 | Q13: 3024 | R13: 3759 | S13: 4315 | T13: 4886 | U13: 5180 | V13: 4974 | W13: 4582 | X13: 4066 | Y13: 3637 | Z13: 3800 | AA13: 4469 | AB13: 5138
A14: Exporters | B14: 840 | C14: United States of America | D14: 1263 | E14: 1305 | F14: 1040 | G14: 928 | H14: 900 | I14: 785 | J14: 949 | K14: 1209 | L14: 1640 | M14: 2211 | N14: 2565 | O14: 3316 | P14: 4211 | Q14: 4952 | R14: 5616 | S14: 6651 | T14: 7511 | U14: 8672 | V14: 8793 | W14: 8269 | X14: 8646 | Y14: 6990 | Z14: 6031 | AA14: 5535 | AB14: 5072
A15: Exporters | B15: 360 | C15: Indonesia | D15: 98 | E15: 95 | F15: 117 | G15: 157 | H15: 296 | I15: 339 | J15: 522 | K15: 596 | L15: 797 | M15: 1146 | N15: 1646 | O15: 2265 | P15: 3164 | Q15: 3502 | R15: 3206 | S15: 3376 | T15: 3591 | U15: 2904 | V15: 2630 | W15: 3857 | X15: 4734 | Y15: 4531 | Z15: 3875 | AA15: 4052 | AB15: 4285
A16: Importers | B16: 000 | C16: World | D16: 42271 | I16: 50822 | N16: 112236 | O16: 123751 | P16: 139571 | Q16: 135297 | R16: 145326 | S16: 162871 | T16: 171461 | U16: 182974 | V16: 191796 | W16: 191972 | X16: 203054 | Y16: 200324 | Z16: 208746 | AA16: 233962 | AB16: 264786
A17: Importers | B17: 918 | C17: European Union | D17: 20232 | E17: 17938 | F17: 16975 | G17: 16317 | H17: 16790 | I17: 17511 | J17: 25656 | K17: 34459 | L17: 37064 | M17: 38389 | N17: 50682 | O17: 58313 | P17: 63625 | Q17: 54644 | R17: 57417 | S17: 70668 | T17: 74566 | U17: 73861 | V17: 78416 | W17: 77119 | X17: 66309 | Y17: 67537 | Z17: 71454 | AA17: 86347 | AB17: 98238
A18: Importers | B18: EUT | C18: Extra-EU | X18: 33296 | Y18: 33036 | Z18: 35023 | AA18: 42777 | AB18: 49549
A19: Importers | B19: 840 | C19: United States of America | D19: 6943 | E19: 8118 | F19: 8791 | G19: 10418 | H19: 14598 | I19: 16201 | J19: 18692 | K19: 22116 | L19: 23061 | M19: 26026 | N19: 26977 | O19: 27696 | P19: 32951 | Q19: 35605 | R19: 38643 | S19: 41367 | T19: 43317 | U19: 50297 | V19: 55720 | W19: 58785 | X19: 64296 | Y19: 63856 | Z19: 66724 | AA19: 71282 | AB19: 75737
A20: Importers | B20: 826 | C20: United Kingdom | D20: 2857 | E20: 2888 | F20: 2625 | G20: 2428 | H20: 2700 | I20: 2694 | J20: 3499 | K20: 4562 | L20: 5540 | M20: 5799 | N20: 6961 | O20: 7295 | P20: 7886 | Q20: 6625 | R20: 7297 | S20: 8002 | T20: 9383 | U20: 10896 | V20: 11941 | W20: 12355 | X20: 15178 | Y20: 15589 | Z20: 17687 | AA20: 20231 | AB20: 23101
