Workbook

Sheet A22 textiles
A1: Table A22, 1999 edition (trade data for 1998)
A2: Top 10 exporters and importers of textiles, 1998
A3: (Billion dollars and percentage)
A5: Economy | B5: Value 1998 (US$ bn) | C5: Share 1980 (%) | D5: Share 1985 (%) | E5: Share 1990 (%) | F5: Share 1998 (%) | G5: Change 1990-98 (% p.a.) | H5: Change 1996 (%) | I5: Change 1997 (%) | J5: Change 1998 (%)
A6: Exporters
A7: European Union (EU-15, added up) | B7: =IF('A22 data'!$V$5="","...",'A22 data'!$V$5/1000) | C7: =IFERROR(IF('A22 data'!$D$5="","...",'A22 data'!$D$5/'A22 data'!$D$4*100),"...") | D7: =IFERROR(IF('A22 data'!$I$5="","...",'A22 data'!$I$5/'A22 data'!$I$4*100),"...") | E7: =IFERROR(IF('A22 data'!$N$5="","...",'A22 data'!$N$5/'A22 data'!$N$4*100),"...") | F7: =IFERROR(IF('A22 data'!$V$5="","...",'A22 data'!$V$5/'A22 data'!$V$4*100),"...") | G7: =IF(OR('A22 data'!$V$19="",'A22 data'!$N$19=""),"...",IFERROR((('A22 data'!$V$19/'A22 data'!$N$19)^(1/8)-1)*100,"...")) | H7: =IF(OR('A22 data'!$T$16="",'A22 data'!$S$16=""),"...",IFERROR(('A22 data'!$T$16/'A22 data'!$S$16-1)*100,"...")) | I7: =IF(OR('A22 data'!$U$17="",'A22 data'!$T$17=""),"...",IFERROR(('A22 data'!$U$17/'A22 data'!$T$17-1)*100,"...")) | J7: =IF(OR('A22 data'!$V$18="",'A22 data'!$U$18=""),"...",IFERROR(('A22 data'!$V$18/'A22 data'!$U$18-1)*100,"..."))
A8: Extra-EU | B8: =IF('A22 data'!$V$6="","...",'A22 data'!$V$6/1000) | C8: =IFERROR(IF('A22 data'!$D$6="","...",'A22 data'!$D$6/'A22 data'!$D$4*100),"...") | D8: =IFERROR(IF('A22 data'!$I$6="","...",'A22 data'!$I$6/'A22 data'!$I$4*100),"...") | E8: =IFERROR(IF('A22 data'!$N$6="","...",'A22 data'!$N$6/'A22 data'!$N$4*100),"...") | F8: =IFERROR(IF('A22 data'!$V$6="","...",'A22 data'!$V$6/'A22 data'!$V$4*100),"...") | G8: =IF(OR('A22 data'!$V$6="",'A22 data'!$N$6=""),"...",IFERROR((('A22 data'!$V$6/'A22 data'!$N$6)^(1/8)-1)*100,"...")) | H8: =IF(OR('A22 data'!$T$6="",'A22 data'!$S$6=""),"...",IFERROR(('A22 data'!$T$6/'A22 data'!$S$6-1)*100,"...")) | I8: =IF(OR('A22 data'!$U$6="",'A22 data'!$T$6=""),"...",IFERROR(('A22 data'!$U$6/'A22 data'!$T$6-1)*100,"...")) | J8: =IF(OR('A22 data'!$V$6="",'A22 data'!$U$6=""),"...",IFERROR(('A22 data'!$V$6/'A22 data'!$U$6-1)*100,"..."))
A9: Hong Kong, China | B9: =IF('A22 data'!$V$7="","...",'A22 data'!$V$7/1000) | C9: =IFERROR(IF('A22 data'!$D$7="","...",'A22 data'!$D$7/'A22 data'!$D$4*100),"...") | D9: =IFERROR(IF('A22 data'!$I$7="","...",'A22 data'!$I$7/'A22 data'!$I$4*100),"...") | E9: =IFERROR(IF('A22 data'!$N$7="","...",'A22 data'!$N$7/'A22 data'!$N$4*100),"...") | F9: =IFERROR(IF('A22 data'!$V$7="","...",'A22 data'!$V$7/'A22 data'!$V$4*100),"...") | G9: =IF(OR('A22 data'!$V$7="",'A22 data'!$N$7=""),"...",IFERROR((('A22 data'!$V$7/'A22 data'!$N$7)^(1/8)-1)*100,"...")) | H9: =IF(OR('A22 data'!$T$7="",'A22 data'!$S$7=""),"...",IFERROR(('A22 data'!$T$7/'A22 data'!$S$7-1)*100,"...")) | I9: =IF(OR('A22 data'!$U$7="",'A22 data'!$T$7=""),"...",IFERROR(('A22 data'!$U$7/'A22 data'!$T$7-1)*100,"...")) | J9: =IF(OR('A22 data'!$V$7="",'A22 data'!$U$7=""),"...",IFERROR(('A22 data'!$V$7/'A22 data'!$U$7-1)*100,"..."))
A10: China | B10: =IF('A22 data'!$V$8="","...",'A22 data'!$V$8/1000) | C10: =IFERROR(IF('A22 data'!$D$8="","...",'A22 data'!$D$8/'A22 data'!$D$4*100),"...") | D10: =IFERROR(IF('A22 data'!$I$8="","...",'A22 data'!$I$8/'A22 data'!$I$4*100),"...") | E10: =IFERROR(IF('A22 data'!$N$8="","...",'A22 data'!$N$8/'A22 data'!$N$4*100),"...") | F10: =IFERROR(IF('A22 data'!$V$8="","...",'A22 data'!$V$8/'A22 data'!$V$4*100),"...") | G10: =IF(OR('A22 data'!$V$8="",'A22 data'!$N$8=""),"...",IFERROR((('A22 data'!$V$8/'A22 data'!$N$8)^(1/8)-1)*100,"...")) | H10: =IF(OR('A22 data'!$T$8="",'A22 data'!$S$8=""),"...",IFERROR(('A22 data'!$T$8/'A22 data'!$S$8-1)*100,"...")) | I10: =IF(OR('A22 data'!$U$8="",'A22 data'!$T$8=""),"...",IFERROR(('A22 data'!$U$8/'A22 data'!$T$8-1)*100,"...")) | J10: =IF(OR('A22 data'!$V$8="",'A22 data'!$U$8=""),"...",IFERROR(('A22 data'!$V$8/'A22 data'!$U$8-1)*100,"..."))
A11: Korea, Republic of | B11: =IF('A22 data'!$V$9="","...",'A22 data'!$V$9/1000) | C11: =IFERROR(IF('A22 data'!$D$9="","...",'A22 data'!$D$9/'A22 data'!$D$4*100),"...") | D11: =IFERROR(IF('A22 data'!$I$9="","...",'A22 data'!$I$9/'A22 data'!$I$4*100),"...") | E11: =IFERROR(IF('A22 data'!$N$9="","...",'A22 data'!$N$9/'A22 data'!$N$4*100),"...") | F11: =IFERROR(IF('A22 data'!$V$9="","...",'A22 data'!$V$9/'A22 data'!$V$4*100),"...") | G11: =IF(OR('A22 data'!$V$9="",'A22 data'!$N$9=""),"...",IFERROR((('A22 data'!$V$9/'A22 data'!$N$9)^(1/8)-1)*100,"...")) | H11: =IF(OR('A22 data'!$T$9="",'A22 data'!$S$9=""),"...",IFERROR(('A22 data'!$T$9/'A22 data'!$S$9-1)*100,"...")) | I11: =IF(OR('A22 data'!$U$9="",'A22 data'!$T$9=""),"...",IFERROR(('A22 data'!$U$9/'A22 data'!$T$9-1)*100,"...")) | J11: =IF(OR('A22 data'!$V$9="",'A22 data'!$U$9=""),"...",IFERROR(('A22 data'!$V$9/'A22 data'!$U$9-1)*100,"..."))
A12: Chinese Taipei | B12: =IF('A22 data'!$V$10="","...",'A22 data'!$V$10/1000) | C12: =IFERROR(IF('A22 data'!$D$10="","...",'A22 data'!$D$10/'A22 data'!$D$4*100),"...") | D12: =IFERROR(IF('A22 data'!$I$10="","...",'A22 data'!$I$10/'A22 data'!$I$4*100),"...") | E12: =IFERROR(IF('A22 data'!$N$10="","...",'A22 data'!$N$10/'A22 data'!$N$4*100),"...") | F12: =IFERROR(IF('A22 data'!$V$10="","...",'A22 data'!$V$10/'A22 data'!$V$4*100),"...") | G12: =IF(OR('A22 data'!$V$10="",'A22 data'!$N$10=""),"...",IFERROR((('A22 data'!$V$10/'A22 data'!$N$10)^(1/8)-1)*100,"...")) | H12: =IF(OR('A22 data'!$T$10="",'A22 data'!$S$10=""),"...",IFERROR(('A22 data'!$T$10/'A22 data'!$S$10-1)*100,"...")) | I12: =IF(OR('A22 data'!$U$10="",'A22 data'!$T$10=""),"...",IFERROR(('A22 data'!$U$10/'A22 data'!$T$10-1)*100,"...")) | J12: =IF(OR('A22 data'!$V$10="",'A22 data'!$U$10=""),"...",IFERROR(('A22 data'!$V$10/'A22 data'!$U$10-1)*100,"..."))
A13: United States of America | B13: =IF('A22 data'!$V$11="","...",'A22 data'!$V$11/1000) | C13: =IFERROR(IF('A22 data'!$D$11="","...",'A22 data'!$D$11/'A22 data'!$D$4*100),"...") | D13: =IFERROR(IF('A22 data'!$I$11="","...",'A22 data'!$I$11/'A22 data'!$I$4*100),"...") | E13: =IFERROR(IF('A22 data'!$N$11="","...",'A22 data'!$N$11/'A22 data'!$N$4*100),"...") | F13: =IFERROR(IF('A22 data'!$V$11="","...",'A22 data'!$V$11/'A22 data'!$V$4*100),"...") | G13: =IF(OR('A22 data'!$V$11="",'A22 data'!$N$11=""),"...",IFERROR((('A22 data'!$V$11/'A22 data'!$N$11)^(1/8)-1)*100,"...")) | H13: =IF(OR('A22 data'!$T$11="",'A22 data'!$S$11=""),"...",IFERROR(('A22 data'!$T$11/'A22 data'!$S$11-1)*100,"...")) | I13: =IF(OR('A22 data'!$U$11="",'A22 data'!$T$11=""),"...",IFERROR(('A22 data'!$U$11/'A22 data'!$T$11-1)*100,"...")) | J13: =IF(OR('A22 data'!$V$11="",'A22 data'!$U$11=""),"...",IFERROR(('A22 data'!$V$11/'A22 data'!$U$11-1)*100,"..."))
A14: Japan | B14: =IF('A22 data'!$V$12="","...",'A22 data'!$V$12/1000) | C14: =IFERROR(IF('A22 data'!$D$12="","...",'A22 data'!$D$12/'A22 data'!$D$4*100),"...") | D14: =IFERROR(IF('A22 data'!$I$12="","...",'A22 data'!$I$12/'A22 data'!$I$4*100),"...") | E14: =IFERROR(IF('A22 data'!$N$12="","...",'A22 data'!$N$12/'A22 data'!$N$4*100),"...") | F14: =IFERROR(IF('A22 data'!$V$12="","...",'A22 data'!$V$12/'A22 data'!$V$4*100),"...") | G14: =IF(OR('A22 data'!$V$12="",'A22 data'!$N$12=""),"...",IFERROR((('A22 data'!$V$12/'A22 data'!$N$12)^(1/8)-1)*100,"...")) | H14: =IF(OR('A22 data'!$T$12="",'A22 data'!$S$12=""),"...",IFERROR(('A22 data'!$T$12/'A22 data'!$S$12-1)*100,"...")) | I14: =IF(OR('A22 data'!$U$12="",'A22 data'!$T$12=""),"...",IFERROR(('A22 data'!$U$12/'A22 data'!$T$12-1)*100,"...")) | J14: =IF(OR('A22 data'!$V$12="",'A22 data'!$U$12=""),"...",IFERROR(('A22 data'!$V$12/'A22 data'!$U$12-1)*100,"..."))
A15: India | B15: =IF('A22 data'!$V$13="","...",'A22 data'!$V$13/1000) | C15: =IFERROR(IF('A22 data'!$D$13="","...",'A22 data'!$D$13/'A22 data'!$D$4*100),"...") | D15: =IFERROR(IF('A22 data'!$I$13="","...",'A22 data'!$I$13/'A22 data'!$I$4*100),"...") | E15: =IFERROR(IF('A22 data'!$N$13="","...",'A22 data'!$N$13/'A22 data'!$N$4*100),"...") | F15: =IFERROR(IF('A22 data'!$V$13="","...",'A22 data'!$V$13/'A22 data'!$V$4*100),"...") | G15: =IF(OR('A22 data'!$V$13="",'A22 data'!$N$13=""),"...",IFERROR((('A22 data'!$V$13/'A22 data'!$N$13)^(1/8)-1)*100,"...")) | H15: =IF(OR('A22 data'!$T$13="",'A22 data'!$S$13=""),"...",IFERROR(('A22 data'!$T$13/'A22 data'!$S$13-1)*100,"...")) | I15: =IF(OR('A22 data'!$U$13="",'A22 data'!$T$13=""),"...",IFERROR(('A22 data'!$U$13/'A22 data'!$T$13-1)*100,"...")) | J15: =IF(OR('A22 data'!$V$13="",'A22 data'!$U$13=""),"...",IFERROR(('A22 data'!$V$13/'A22 data'!$U$13-1)*100,"..."))
A16: Pakistan | B16: =IF('A22 data'!$V$14="","...",'A22 data'!$V$14/1000) | C16: =IFERROR(IF('A22 data'!$D$14="","...",'A22 data'!$D$14/'A22 data'!$D$4*100),"...") | D16: =IFERROR(IF('A22 data'!$I$14="","...",'A22 data'!$I$14/'A22 data'!$I$4*100),"...") | E16: =IFERROR(IF('A22 data'!$N$14="","...",'A22 data'!$N$14/'A22 data'!$N$4*100),"...") | F16: =IFERROR(IF('A22 data'!$V$14="","...",'A22 data'!$V$14/'A22 data'!$V$4*100),"...") | G16: =IF(OR('A22 data'!$V$14="",'A22 data'!$N$14=""),"...",IFERROR((('A22 data'!$V$14/'A22 data'!$N$14)^(1/8)-1)*100,"...")) | H16: =IF(OR('A22 data'!$T$14="",'A22 data'!$S$14=""),"...",IFERROR(('A22 data'!$T$14/'A22 data'!$S$14-1)*100,"...")) | I16: =IF(OR('A22 data'!$U$14="",'A22 data'!$T$14=""),"...",IFERROR(('A22 data'!$U$14/'A22 data'!$T$14-1)*100,"...")) | J16: =IF(OR('A22 data'!$V$14="",'A22 data'!$U$14=""),"...",IFERROR(('A22 data'!$V$14/'A22 data'!$U$14-1)*100,"..."))
A17: Türkiye | B17: =IF('A22 data'!$V$15="","...",'A22 data'!$V$15/1000) | C17: =IFERROR(IF('A22 data'!$D$15="","...",'A22 data'!$D$15/'A22 data'!$D$4*100),"...") | D17: =IFERROR(IF('A22 data'!$I$15="","...",'A22 data'!$I$15/'A22 data'!$I$4*100),"...") | E17: =IFERROR(IF('A22 data'!$N$15="","...",'A22 data'!$N$15/'A22 data'!$N$4*100),"...") | F17: =IFERROR(IF('A22 data'!$V$15="","...",'A22 data'!$V$15/'A22 data'!$V$4*100),"...") | G17: =IF(OR('A22 data'!$V$15="",'A22 data'!$N$15=""),"...",IFERROR((('A22 data'!$V$15/'A22 data'!$N$15)^(1/8)-1)*100,"...")) | H17: =IF(OR('A22 data'!$T$15="",'A22 data'!$S$15=""),"...",IFERROR(('A22 data'!$T$15/'A22 data'!$S$15-1)*100,"...")) | I17: =IF(OR('A22 data'!$U$15="",'A22 data'!$T$15=""),"...",IFERROR(('A22 data'!$U$15/'A22 data'!$T$15-1)*100,"...")) | J17: =IF(OR('A22 data'!$V$15="",'A22 data'!$U$15=""),"...",IFERROR(('A22 data'!$V$15/'A22 data'!$U$15-1)*100,"..."))
A18: Above 10 | B18: =IFERROR(B7+B9+B10+B11+B12+B13+B14+B15+B16+B17,"...") | C18: =IFERROR(C7+C9+C10+C11+C12+C13+C14+C15+C16+C17,"...") | D18: =IFERROR(D7+D9+D10+D11+D12+D13+D14+D15+D16+D17,"...") | E18: =IFERROR(E7+E9+E10+E11+E12+E13+E14+E15+E16+E17,"...") | F18: =IFERROR(F7+F9+F10+F11+F12+F13+F14+F15+F16+F17,"...") | G18: - | H18: - | I18: - | J18: -
A19: Importers
A20: European Union (EU-15, added up) | B20: =IF('A22 data'!$V$21="","...",'A22 data'!$V$21/1000) | C20: =IFERROR(IF('A22 data'!$D$21="","...",'A22 data'!$D$21/'A22 data'!$D$20*100),"...") | D20: =IFERROR(IF('A22 data'!$I$21="","...",'A22 data'!$I$21/'A22 data'!$I$20*100),"...") | E20: =IFERROR(IF('A22 data'!$N$21="","...",'A22 data'!$N$21/'A22 data'!$N$20*100),"...") | F20: =IFERROR(IF('A22 data'!$V$21="","...",'A22 data'!$V$21/'A22 data'!$V$20*100),"...") | G20: =IF(OR('A22 data'!$V$35="",'A22 data'!$N$35=""),"...",IFERROR((('A22 data'!$V$35/'A22 data'!$N$35)^(1/8)-1)*100,"...")) | H20: =IF(OR('A22 data'!$T$32="",'A22 data'!$S$32=""),"...",IFERROR(('A22 data'!$T$32/'A22 data'!$S$32-1)*100,"...")) | I20: =IF(OR('A22 data'!$U$33="",'A22 data'!$T$33=""),"...",IFERROR(('A22 data'!$U$33/'A22 data'!$T$33-1)*100,"...")) | J20: =IF(OR('A22 data'!$V$34="",'A22 data'!$U$34=""),"...",IFERROR(('A22 data'!$V$34/'A22 data'!$U$34-1)*100,"..."))
A21: Extra-EU | B21: =IF('A22 data'!$V$22="","...",'A22 data'!$V$22/1000) | C21: =IFERROR(IF('A22 data'!$D$22="","...",'A22 data'!$D$22/'A22 data'!$D$20*100),"...") | D21: =IFERROR(IF('A22 data'!$I$22="","...",'A22 data'!$I$22/'A22 data'!$I$20*100),"...") | E21: =IFERROR(IF('A22 data'!$N$22="","...",'A22 data'!$N$22/'A22 data'!$N$20*100),"...") | F21: =IFERROR(IF('A22 data'!$V$22="","...",'A22 data'!$V$22/'A22 data'!$V$20*100),"...") | G21: =IF(OR('A22 data'!$V$22="",'A22 data'!$N$22=""),"...",IFERROR((('A22 data'!$V$22/'A22 data'!$N$22)^(1/8)-1)*100,"...")) | H21: =IF(OR('A22 data'!$T$22="",'A22 data'!$S$22=""),"...",IFERROR(('A22 data'!$T$22/'A22 data'!$S$22-1)*100,"...")) | I21: =IF(OR('A22 data'!$U$22="",'A22 data'!$T$22=""),"...",IFERROR(('A22 data'!$U$22/'A22 data'!$T$22-1)*100,"...")) | J21: =IF(OR('A22 data'!$V$22="",'A22 data'!$U$22=""),"...",IFERROR(('A22 data'!$V$22/'A22 data'!$U$22-1)*100,"..."))
A22: Hong Kong, China | B22: =IF('A22 data'!$V$23="","...",'A22 data'!$V$23/1000) | C22: =IFERROR(IF('A22 data'!$D$23="","...",'A22 data'!$D$23/'A22 data'!$D$20*100),"...") | D22: =IFERROR(IF('A22 data'!$I$23="","...",'A22 data'!$I$23/'A22 data'!$I$20*100),"...") | E22: =IFERROR(IF('A22 data'!$N$23="","...",'A22 data'!$N$23/'A22 data'!$N$20*100),"...") | F22: =IFERROR(IF('A22 data'!$V$23="","...",'A22 data'!$V$23/'A22 data'!$V$20*100),"...") | G22: =IF(OR('A22 data'!$V$23="",'A22 data'!$N$23=""),"...",IFERROR((('A22 data'!$V$23/'A22 data'!$N$23)^(1/8)-1)*100,"...")) | H22: =IF(OR('A22 data'!$T$23="",'A22 data'!$S$23=""),"...",IFERROR(('A22 data'!$T$23/'A22 data'!$S$23-1)*100,"...")) | I22: =IF(OR('A22 data'!$U$23="",'A22 data'!$T$23=""),"...",IFERROR(('A22 data'!$U$23/'A22 data'!$T$23-1)*100,"...")) | J22: =IF(OR('A22 data'!$V$23="",'A22 data'!$U$23=""),"...",IFERROR(('A22 data'!$V$23/'A22 data'!$U$23-1)*100,"..."))
A23: United States of America | B23: =IF('A22 data'!$V$24="","...",'A22 data'!$V$24/1000) | C23: =IFERROR(IF('A22 data'!$D$24="","...",'A22 data'!$D$24/'A22 data'!$D$20*100),"...") | D23: =IFERROR(IF('A22 data'!$I$24="","...",'A22 data'!$I$24/'A22 data'!$I$20*100),"...") | E23: =IFERROR(IF('A22 data'!$N$24="","...",'A22 data'!$N$24/'A22 data'!$N$20*100),"...") | F23: =IFERROR(IF('A22 data'!$V$24="","...",'A22 data'!$V$24/'A22 data'!$V$20*100),"...") | G23: =IF(OR('A22 data'!$V$24="",'A22 data'!$N$24=""),"...",IFERROR((('A22 data'!$V$24/'A22 data'!$N$24)^(1/8)-1)*100,"...")) | H23: =IF(OR('A22 data'!$T$24="",'A22 data'!$S$24=""),"...",IFERROR(('A22 data'!$T$24/'A22 data'!$S$24-1)*100,"...")) | I23: =IF(OR('A22 data'!$U$24="",'A22 data'!$T$24=""),"...",IFERROR(('A22 data'!$U$24/'A22 data'!$T$24-1)*100,"...")) | J23: =IF(OR('A22 data'!$V$24="",'A22 data'!$U$24=""),"...",IFERROR(('A22 data'!$V$24/'A22 data'!$U$24-1)*100,"..."))
A24: China | B24: =IF('A22 data'!$V$25="","...",'A22 data'!$V$25/1000) | C24: =IFERROR(IF('A22 data'!$D$25="","...",'A22 data'!$D$25/'A22 data'!$D$20*100),"...") | D24: =IFERROR(IF('A22 data'!$I$25="","...",'A22 data'!$I$25/'A22 data'!$I$20*100),"...") | E24: =IFERROR(IF('A22 data'!$N$25="","...",'A22 data'!$N$25/'A22 data'!$N$20*100),"...") | F24: =IFERROR(IF('A22 data'!$V$25="","...",'A22 data'!$V$25/'A22 data'!$V$20*100),"...") | G24: =IF(OR('A22 data'!$V$25="",'A22 data'!$N$25=""),"...",IFERROR((('A22 data'!$V$25/'A22 data'!$N$25)^(1/8)-1)*100,"...")) | H24: =IF(OR('A22 data'!$T$25="",'A22 data'!$S$25=""),"...",IFERROR(('A22 data'!$T$25/'A22 data'!$S$25-1)*100,"...")) | I24: =IF(OR('A22 data'!$U$25="",'A22 data'!$T$25=""),"...",IFERROR(('A22 data'!$U$25/'A22 data'!$T$25-1)*100,"...")) | J24: =IF(OR('A22 data'!$V$25="",'A22 data'!$U$25=""),"...",IFERROR(('A22 data'!$V$25/'A22 data'!$U$25-1)*100,"..."))
A25: Japan | B25: =IF('A22 data'!$V$26="","...",'A22 data'!$V$26/1000) | C25: =IFERROR(IF('A22 data'!$D$26="","...",'A22 data'!$D$26/'A22 data'!$D$20*100),"...") | D25: =IFERROR(IF('A22 data'!$I$26="","...",'A22 data'!$I$26/'A22 data'!$I$20*100),"...") | E25: =IFERROR(IF('A22 data'!$N$26="","...",'A22 data'!$N$26/'A22 data'!$N$20*100),"...") | F25: =IFERROR(IF('A22 data'!$V$26="","...",'A22 data'!$V$26/'A22 data'!$V$20*100),"...") | G25: =IF(OR('A22 data'!$V$26="",'A22 data'!$N$26=""),"...",IFERROR((('A22 data'!$V$26/'A22 data'!$N$26)^(1/8)-1)*100,"...")) | H25: =IF(OR('A22 data'!$T$26="",'A22 data'!$S$26=""),"...",IFERROR(('A22 data'!$T$26/'A22 data'!$S$26-1)*100,"...")) | I25: =IF(OR('A22 data'!$U$26="",'A22 data'!$T$26=""),"...",IFERROR(('A22 data'!$U$26/'A22 data'!$T$26-1)*100,"...")) | J25: =IF(OR('A22 data'!$V$26="",'A22 data'!$U$26=""),"...",IFERROR(('A22 data'!$V$26/'A22 data'!$U$26-1)*100,"..."))
A26: Canada | B26: =IF('A22 data'!$V$27="","...",'A22 data'!$V$27/1000) | C26: =IFERROR(IF('A22 data'!$D$27="","...",'A22 data'!$D$27/'A22 data'!$D$20*100),"...") | D26: =IFERROR(IF('A22 data'!$I$27="","...",'A22 data'!$I$27/'A22 data'!$I$20*100),"...") | E26: =IFERROR(IF('A22 data'!$N$27="","...",'A22 data'!$N$27/'A22 data'!$N$20*100),"...") | F26: =IFERROR(IF('A22 data'!$V$27="","...",'A22 data'!$V$27/'A22 data'!$V$20*100),"...") | G26: =IF(OR('A22 data'!$V$27="",'A22 data'!$N$27=""),"...",IFERROR((('A22 data'!$V$27/'A22 data'!$N$27)^(1/8)-1)*100,"...")) | H26: =IF(OR('A22 data'!$T$27="",'A22 data'!$S$27=""),"...",IFERROR(('A22 data'!$T$27/'A22 data'!$S$27-1)*100,"...")) | I26: =IF(OR('A22 data'!$U$27="",'A22 data'!$T$27=""),"...",IFERROR(('A22 data'!$U$27/'A22 data'!$T$27-1)*100,"...")) | J26: =IF(OR('A22 data'!$V$27="",'A22 data'!$U$27=""),"...",IFERROR(('A22 data'!$V$27/'A22 data'!$U$27-1)*100,"..."))
A27: Mexico | B27: =IF('A22 data'!$V$28="","...",'A22 data'!$V$28/1000) | C27: =IFERROR(IF('A22 data'!$D$28="","...",'A22 data'!$D$28/'A22 data'!$D$20*100),"...") | D27: =IFERROR(IF('A22 data'!$I$28="","...",'A22 data'!$I$28/'A22 data'!$I$20*100),"...") | E27: =IFERROR(IF('A22 data'!$N$28="","...",'A22 data'!$N$28/'A22 data'!$N$20*100),"...") | F27: =IFERROR(IF('A22 data'!$V$28="","...",'A22 data'!$V$28/'A22 data'!$V$20*100),"...") | G27: =IF(OR('A22 data'!$V$28="",'A22 data'!$N$28=""),"...",IFERROR((('A22 data'!$V$28/'A22 data'!$N$28)^(1/8)-1)*100,"...")) | H27: =IF(OR('A22 data'!$T$28="",'A22 data'!$S$28=""),"...",IFERROR(('A22 data'!$T$28/'A22 data'!$S$28-1)*100,"...")) | I27: =IF(OR('A22 data'!$U$28="",'A22 data'!$T$28=""),"...",IFERROR(('A22 data'!$U$28/'A22 data'!$T$28-1)*100,"...")) | J27: =IF(OR('A22 data'!$V$28="",'A22 data'!$U$28=""),"...",IFERROR(('A22 data'!$V$28/'A22 data'!$U$28-1)*100,"..."))
A28: Poland (1) | B28: =IF('A22 data'!$V$29="","...",'A22 data'!$V$29/1000) | C28: =IFERROR(IF('A22 data'!$D$29="","...",'A22 data'!$D$29/'A22 data'!$D$20*100),"...") | D28: =IFERROR(IF('A22 data'!$I$29="","...",'A22 data'!$I$29/'A22 data'!$I$20*100),"...") | E28: =IFERROR(IF('A22 data'!$N$29="","...",'A22 data'!$N$29/'A22 data'!$N$20*100),"...") | F28: =IFERROR(IF('A22 data'!$V$29="","...",'A22 data'!$V$29/'A22 data'!$V$20*100),"...") | G28: =IF(OR('A22 data'!$V$29="",'A22 data'!$N$29=""),"...",IFERROR((('A22 data'!$V$29/'A22 data'!$N$29)^(1/8)-1)*100,"...")) | H28: =IF(OR('A22 data'!$T$29="",'A22 data'!$S$29=""),"...",IFERROR(('A22 data'!$T$29/'A22 data'!$S$29-1)*100,"...")) | I28: =IF(OR('A22 data'!$U$29="",'A22 data'!$T$29=""),"...",IFERROR(('A22 data'!$U$29/'A22 data'!$T$29-1)*100,"...")) | J28: =IF(OR('A22 data'!$V$29="",'A22 data'!$U$29=""),"...",IFERROR(('A22 data'!$V$29/'A22 data'!$U$29-1)*100,"..."))
A29: Türkiye | B29: =IF('A22 data'!$V$30="","...",'A22 data'!$V$30/1000) | C29: =IFERROR(IF('A22 data'!$D$30="","...",'A22 data'!$D$30/'A22 data'!$D$20*100),"...") | D29: =IFERROR(IF('A22 data'!$I$30="","...",'A22 data'!$I$30/'A22 data'!$I$20*100),"...") | E29: =IFERROR(IF('A22 data'!$N$30="","...",'A22 data'!$N$30/'A22 data'!$N$20*100),"...") | F29: =IFERROR(IF('A22 data'!$V$30="","...",'A22 data'!$V$30/'A22 data'!$V$20*100),"...") | G29: =IF(OR('A22 data'!$V$30="",'A22 data'!$N$30=""),"...",IFERROR((('A22 data'!$V$30/'A22 data'!$N$30)^(1/8)-1)*100,"...")) | H29: =IF(OR('A22 data'!$T$30="",'A22 data'!$S$30=""),"...",IFERROR(('A22 data'!$T$30/'A22 data'!$S$30-1)*100,"...")) | I29: =IF(OR('A22 data'!$U$30="",'A22 data'!$T$30=""),"...",IFERROR(('A22 data'!$U$30/'A22 data'!$T$30-1)*100,"...")) | J29: =IF(OR('A22 data'!$V$30="",'A22 data'!$U$30=""),"...",IFERROR(('A22 data'!$V$30/'A22 data'!$U$30-1)*100,"..."))
A30: Korea, Republic of | B30: =IF('A22 data'!$V$31="","...",'A22 data'!$V$31/1000) | C30: =IFERROR(IF('A22 data'!$D$31="","...",'A22 data'!$D$31/'A22 data'!$D$20*100),"...") | D30: =IFERROR(IF('A22 data'!$I$31="","...",'A22 data'!$I$31/'A22 data'!$I$20*100),"...") | E30: =IFERROR(IF('A22 data'!$N$31="","...",'A22 data'!$N$31/'A22 data'!$N$20*100),"...") | F30: =IFERROR(IF('A22 data'!$V$31="","...",'A22 data'!$V$31/'A22 data'!$V$20*100),"...") | G30: =IF(OR('A22 data'!$V$31="",'A22 data'!$N$31=""),"...",IFERROR((('A22 data'!$V$31/'A22 data'!$N$31)^(1/8)-1)*100,"...")) | H30: =IF(OR('A22 data'!$T$31="",'A22 data'!$S$31=""),"...",IFERROR(('A22 data'!$T$31/'A22 data'!$S$31-1)*100,"...")) | I30: =IF(OR('A22 data'!$U$31="",'A22 data'!$T$31=""),"...",IFERROR(('A22 data'!$U$31/'A22 data'!$T$31-1)*100,"...")) | J30: =IF(OR('A22 data'!$V$31="",'A22 data'!$U$31=""),"...",IFERROR(('A22 data'!$V$31/'A22 data'!$U$31-1)*100,"..."))
A31: Above 10 | B31: =IFERROR(B20+B22+B23+B24+B25+B26+B27+B28+B29+B30,"...") | C31: =IFERROR(C20+C22+C23+C24+C25+C26+C27+C28+C29+C30,"...") | D31: =IFERROR(D20+D22+D23+D24+D25+D26+D27+D28+D29+D30,"...") | E31: =IFERROR(E20+E22+E23+E24+E25+E26+E27+E28+E29+E30,"...") | F31: =IFERROR(F20+F22+F23+F24+F25+F26+F27+F28+F29+F30,"...") | G31: - | H31: - | I31: - | J31: -
A33: (1) Break in series (as flagged by WTO).
A35: Notes
A36: The EU is ranked as one economy; its member states are not ranked. Extra-EU (the EU's trade with non-members) is shown beneath it and is not ranked.
A37: Before 2000 the EU figure is added up from the member states of each year (EC-9 in 1980, EC-10 in 1981-1985, EC-12 in 1986-1994, EU-15 in 1995-1999), the United Kingdom included; economies that joined later are ranked on their own. Extra-EU cannot be added up and shows "...". If a member state has no data for a year, the EU shows "...".
A38: EU changes and growth rates before 2000 compare the same member states in both years: those of the later year, added up for the earlier year too (for example, the change for 1995 is the EU-15 in 1995 against the same 15 in 1994), so they do not count an enlargement as growth. EU values and shares are for the members of each year.
A39: Economies ranked in 1998: 114 exporters, 124 importers.
A40: "Above 10" is the sum of the ten ranked economies. "..." means not available.
A41: WTO publishes no world total for textiles exports in 1985, so the shares for that year show "...".
A42: Shares are of world textiles exports or imports. 1990-98 is the compound annual rate of change.
A43: Figures for every year are as WTO published them on 2026-09-29; WTO revises past figures, so they can differ from the printed review.
...

Sheet A23 clothing
A1: Table A23, 1999 edition (trade data for 1998)
A2: Top 10 exporters and importers of clothing, 1998
A3: (Billion dollars and percentage)
A5: Economy | B5: Value 1998 (US$ bn) | C5: Share 1980 (%) | D5: Share 1985 (%) | E5: Share 1990 (%) | F5: Share 1998 (%) | G5: Change 1990-98 (% p.a.) | H5: Change 1996 (%) | I5: Change 1997 (%) | J5: Change 1998 (%)
A6: Exporters
A7: European Union (EU-15, added up) | B7: =IF('A23 data'!$V$5="","...",'A23 data'!$V$5/1000) | C7: =IFERROR(IF('A23 data'!$D$5="","...",'A23 data'!$D$5/'A23 data'!$D$4*100),"...") | D7: =IFERROR(IF('A23 data'!$I$5="","...",'A23 data'!$I$5/'A23 data'!$I$4*100),"...") | E7: =IFERROR(IF('A23 data'!$N$5="","...",'A23 data'!$N$5/'A23 data'!$N$4*100),"...") | F7: =IFERROR(IF('A23 data'!$V$5="","...",'A23 data'!$V$5/'A23 data'!$V$4*100),"...") | G7: =IF(OR('A23 data'!$V$19="",'A23 data'!$N$19=""),"...",IFERROR((('A23 data'!$V$19/'A23 data'!$N$19)^(1/8)-1)*100,"...")) | H7: =IF(OR('A23 data'!$T$16="",'A23 data'!$S$16=""),"...",IFERROR(('A23 data'!$T$16/'A23 data'!$S$16-1)*100,"...")) | I7: =IF(OR('A23 data'!$U$17="",'A23 data'!$T$17=""),"...",IFERROR(('A23 data'!$U$17/'A23 data'!$T$17-1)*100,"...")) | J7: =IF(OR('A23 data'!$V$18="",'A23 data'!$U$18=""),"...",IFERROR(('A23 data'!$V$18/'A23 data'!$U$18-1)*100,"..."))
A8: Extra-EU | B8: =IF('A23 data'!$V$6="","...",'A23 data'!$V$6/1000) | C8: =IFERROR(IF('A23 data'!$D$6="","...",'A23 data'!$D$6/'A23 data'!$D$4*100),"...") | D8: =IFERROR(IF('A23 data'!$I$6="","...",'A23 data'!$I$6/'A23 data'!$I$4*100),"...") | E8: =IFERROR(IF('A23 data'!$N$6="","...",'A23 data'!$N$6/'A23 data'!$N$4*100),"...") | F8: =IFERROR(IF('A23 data'!$V$6="","...",'A23 data'!$V$6/'A23 data'!$V$4*100),"...") | G8: =IF(OR('A23 data'!$V$6="",'A23 data'!$N$6=""),"...",IFERROR((('A23 data'!$V$6/'A23 data'!$N$6)^(1/8)-1)*100,"...")) | H8: =IF(OR('A23 data'!$T$6="",'A23 data'!$S$6=""),"...",IFERROR(('A23 data'!$T$6/'A23 data'!$S$6-1)*100,"...")) | I8: =IF(OR('A23 data'!$U$6="",'A23 data'!$T$6=""),"...",IFERROR(('A23 data'!$U$6/'A23 data'!$T$6-1)*100,"...")) | J8: =IF(OR('A23 data'!$V$6="",'A23 data'!$U$6=""),"...",IFERROR(('A23 data'!$V$6/'A23 data'!$U$6-1)*100,"..."))
A9: China | B9: =IF('A23 data'!$V$7="","...",'A23 data'!$V$7/1000) | C9: =IFERROR(IF('A23 data'!$D$7="","...",'A23 data'!$D$7/'A23 data'!$D$4*100),"...") | D9: =IFERROR(IF('A23 data'!$I$7="","...",'A23 data'!$I$7/'A23 data'!$I$4*100),"...") | E9: =IFERROR(IF('A23 data'!$N$7="","...",'A23 data'!$N$7/'A23 data'!$N$4*100),"...") | F9: =IFERROR(IF('A23 data'!$V$7="","...",'A23 data'!$V$7/'A23 data'!$V$4*100),"...") | G9: =IF(OR('A23 data'!$V$7="",'A23 data'!$N$7=""),"...",IFERROR((('A23 data'!$V$7/'A23 data'!$N$7)^(1/8)-1)*100,"...")) | H9: =IF(OR('A23 data'!$T$7="",'A23 data'!$S$7=""),"...",IFERROR(('A23 data'!$T$7/'A23 data'!$S$7-1)*100,"...")) | I9: =IF(OR('A23 data'!$U$7="",'A23 data'!$T$7=""),"...",IFERROR(('A23 data'!$U$7/'A23 data'!$T$7-1)*100,"...")) | J9: =IF(OR('A23 data'!$V$7="",'A23 data'!$U$7=""),"...",IFERROR(('A23 data'!$V$7/'A23 data'!$U$7-1)*100,"..."))
A10: Hong Kong, China | B10: =IF('A23 data'!$V$8="","...",'A23 data'!$V$8/1000) | C10: =IFERROR(IF('A23 data'!$D$8="","...",'A23 data'!$D$8/'A23 data'!$D$4*100),"...") | D10: =IFERROR(IF('A23 data'!$I$8="","...",'A23 data'!$I$8/'A23 data'!$I$4*100),"...") | E10: =IFERROR(IF('A23 data'!$N$8="","...",'A23 data'!$N$8/'A23 data'!$N$4*100),"...") | F10: =IFERROR(IF('A23 data'!$V$8="","...",'A23 data'!$V$8/'A23 data'!$V$4*100),"...") | G10: =IF(OR('A23 data'!$V$8="",'A23 data'!$N$8=""),"...",IFERROR((('A23 data'!$V$8/'A23 data'!$N$8)^(1/8)-1)*100,"...")) | H10: =IF(OR('A23 data'!$T$8="",'A23 data'!$S$8=""),"...",IFERROR(('A23 data'!$T$8/'A23 data'!$S$8-1)*100,"...")) | I10: =IF(OR('A23 data'!$U$8="",'A23 data'!$T$8=""),"...",IFERROR(('A23 data'!$U$8/'A23 data'!$T$8-1)*100,"...")) | J10: =IF(OR('A23 data'!$V$8="",'A23 data'!$U$8=""),"...",IFERROR(('A23 data'!$V$8/'A23 data'!$U$8-1)*100,"..."))
A11: United States of America | B11: =IF('A23 data'!$V$9="","...",'A23 data'!$V$9/1000) | C11: =IFERROR(IF('A23 data'!$D$9="","...",'A23 data'!$D$9/'A23 data'!$D$4*100),"...") | D11: =IFERROR(IF('A23 data'!$I$9="","...",'A23 data'!$I$9/'A23 data'!$I$4*100),"...") | E11: =IFERROR(IF('A23 data'!$N$9="","...",'A23 data'!$N$9/'A23 data'!$N$4*100),"...") | F11: =IFERROR(IF('A23 data'!$V$9="","...",'A23 data'!$V$9/'A23 data'!$V$4*100),"...") | G11: =IF(OR('A23 data'!$V$9="",'A23 data'!$N$9=""),"...",IFERROR((('A23 data'!$V$9/'A23 data'!$N$9)^(1/8)-1)*100,"...")) | H11: =IF(OR('A23 data'!$T$9="",'A23 data'!$S$9=""),"...",IFERROR(('A23 data'!$T$9/'A23 data'!$S$9-1)*100,"...")) | I11: =IF(OR('A23 data'!$U$9="",'A23 data'!$T$9=""),"...",IFERROR(('A23 data'!$U$9/'A23 data'!$T$9-1)*100,"...")) | J11: =IF(OR('A23 data'!$V$9="",'A23 data'!$U$9=""),"...",IFERROR(('A23 data'!$V$9/'A23 data'!$U$9-1)*100,"..."))
A12: Türkiye | B12: =IF('A23 data'!$V$10="","...",'A23 data'!$V$10/1000) | C12: =IFERROR(IF('A23 data'!$D$10="","...",'A23 data'!$D$10/'A23 data'!$D$4*100),"...") | D12: =IFERROR(IF('A23 data'!$I$10="","...",'A23 data'!$I$10/'A23 data'!$I$4*100),"...") | E12: =IFERROR(IF('A23 data'!$N$10="","...",'A23 data'!$N$10/'A23 data'!$N$4*100),"...") | F12: =IFERROR(IF('A23 data'!$V$10="","...",'A23 data'!$V$10/'A23 data'!$V$4*100),"...") | G12: =IF(OR('A23 data'!$V$10="",'A23 data'!$N$10=""),"...",IFERROR((('A23 data'!$V$10/'A23 data'!$N$10)^(1/8)-1)*100,"...")) | H12: =IF(OR('A23 data'!$T$10="",'A23 data'!$S$10=""),"...",IFERROR(('A23 data'!$T$10/'A23 data'!$S$10-1)*100,"...")) | I12: =IF(OR('A23 data'!$U$10="",'A23 data'!$T$10=""),"...",IFERROR(('A23 data'!$U$10/'A23 data'!$T$10-1)*100,"...")) | J12: =IF(OR('A23 data'!$V$10="",'A23 data'!$U$10=""),"...",IFERROR(('A23 data'!$V$10/'A23 data'!$U$10-1)*100,"..."))
A13: Mexico | B13: =IF('A23 data'!$V$11="","...",'A23 data'!$V$11/1000) | C13: =IFERROR(IF('A23 data'!$D$11="","...",'A23 data'!$D$11/'A23 data'!$D$4*100),"...") | D13: =IFERROR(IF('A23 data'!$I$11="","...",'A23 data'!$I$11/'A23 data'!$I$4*100),"...") | E13: =IFERROR(IF('A23 data'!$N$11="","...",'A23 data'!$N$11/'A23 data'!$N$4*100),"...") | F13: =IFERROR(IF('A23 data'!$V$11="","...",'A23 data'!$V$11/'A23 data'!$V$4*100),"...") | G13: =IF(OR('A23 data'!$V$11="",'A23 data'!$N$11=""),"...",IFERROR((('A23 data'!$V$11/'A23 data'!$N$11)^(1/8)-1)*100,"...")) | H13: =IF(OR('A23 data'!$T$11="",'A23 data'!$S$11=""),"...",IFERROR(('A23 data'!$T$11/'A23 data'!$S$11-1)*100,"...")) | I13: =IF(OR('A23 data'!$U$11="",'A23 data'!$T$11=""),"...",IFERROR(('A23 data'!$U$11/'A23 data'!$T$11-1)*100,"...")) | J13: =IF(OR('A23 data'!$V$11="",'A23 data'!$U$11=""),"...",IFERROR(('A23 data'!$V$11/'A23 data'!$U$11-1)*100,"..."))
A14: India | B14: =IF('A23 data'!$V$12="","...",'A23 data'!$V$12/1000) | C14: =IFERROR(IF('A23 data'!$D$12="","...",'A23 data'!$D$12/'A23 data'!$D$4*100),"...") | D14: =IFERROR(IF('A23 data'!$I$12="","...",'A23 data'!$I$12/'A23 data'!$I$4*100),"...") | E14: =IFERROR(IF('A23 data'!$N$12="","...",'A23 data'!$N$12/'A23 data'!$N$4*100),"...") | F14: =IFERROR(IF('A23 data'!$V$12="","...",'A23 data'!$V$12/'A23 data'!$V$4*100),"...") | G14: =IF(OR('A23 data'!$V$12="",'A23 data'!$N$12=""),"...",IFERROR((('A23 data'!$V$12/'A23 data'!$N$12)^(1/8)-1)*100,"...")) | H14: =IF(OR('A23 data'!$T$12="",'A23 data'!$S$12=""),"...",IFERROR(('A23 data'!$T$12/'A23 data'!$S$12-1)*100,"...")) | I14: =IF(OR('A23 data'!$U$12="",'A23 data'!$T$12=""),"...",IFERROR(('A23 data'!$U$12/'A23 data'!$T$12-1)*100,"...")) | J14: =IF(OR('A23 data'!$V$12="",'A23 data'!$U$12=""),"...",IFERROR(('A23 data'!$V$12/'A23 data'!$U$12-1)*100,"..."))
A15: Korea, Republic of | B15: =IF('A23 data'!$V$13="","...",'A23 data'!$V$13/1000) | C15: =IFERROR(IF('A23 data'!$D$13="","...",'A23 data'!$D$13/'A23 data'!$D$4*100),"...") | D15: =IFERROR(IF('A23 data'!$I$13="","...",'A23 data'!$I$13/'A23 data'!$I$4*100),"...") | E15: =IFERROR(IF('A23 data'!$N$13="","...",'A23 data'!$N$13/'A23 data'!$N$4*100),"...") | F15: =IFERROR(IF('A23 data'!$V$13="","...",'A23 data'!$V$13/'A23 data'!$V$4*100),"...") | G15: =IF(OR('A23 data'!$V$13="",'A23 data'!$N$13=""),"...",IFERROR((('A23 data'!$V$13/'A23 data'!$N$13)^(1/8)-1)*100,"...")) | H15: =IF(OR('A23 data'!$T$13="",'A23 data'!$S$13=""),"...",IFERROR(('A23 data'!$T$13/'A23 data'!$S$13-1)*100,"...")) | I15: =IF(OR('A23 data'!$U$13="",'A23 data'!$T$13=""),"...",IFERROR(('A23 data'!$U$13/'A23 data'!$T$13-1)*100,"...")) | J15: =IF(OR('A23 data'!$V$13="",'A23 data'!$U$13=""),"...",IFERROR(('A23 data'!$V$13/'A23 data'!$U$13-1)*100,"..."))
A16: Bangladesh | B16: =IF('A23 data'!$V$14="","...",'A23 data'!$V$14/1000) | C16: =IFERROR(IF('A23 data'!$D$14="","...",'A23 data'!$D$14/'A23 data'!$D$4*100),"...") | D16: =IFERROR(IF('A23 data'!$I$14="","...",'A23 data'!$I$14/'A23 data'!$I$4*100),"...") | E16: =IFERROR(IF('A23 data'!$N$14="","...",'A23 data'!$N$14/'A23 data'!$N$4*100),"...") | F16: =IFERROR(IF('A23 data'!$V$14="","...",'A23 data'!$V$14/'A23 data'!$V$4*100),"...") | G16: =IF(OR('A23 data'!$V$14="",'A23 data'!$N$14=""),"...",IFERROR((('A23 data'!$V$14/'A23 data'!$N$14)^(1/8)-1)*100,"...")) | H16: =IF(OR('A23 data'!$T$14="",'A23 data'!$S$14=""),"...",IFERROR(('A23 data'!$T$14/'A23 data'!$S$14-1)*100,"...")) | I16: =IF(OR('A23 data'!$U$14="",'A23 data'!$T$14=""),"...",IFERROR(('A23 data'!$U$14/'A23 data'!$T$14-1)*100,"...")) | J16: =IF(OR('A23 data'!$V$14="",'A23 data'!$U$14=""),"...",IFERROR(('A23 data'!$V$14/'A23 data'!$U$14-1)*100,"..."))
A17: Thailand | B17: =IF('A23 data'!$V$15="","...",'A23 data'!$V$15/1000) | C17: =IFERROR(IF('A23 data'!$D$15="","...",'A23 data'!$D$15/'A23 data'!$D$4*100),"...") | D17: =IFERROR(IF('A23 data'!$I$15="","...",'A23 data'!$I$15/'A23 data'!$I$4*100),"...") | E17: =IFERROR(IF('A23 data'!$N$15="","...",'A23 data'!$N$15/'A23 data'!$N$4*100),"...") | F17: =IFERROR(IF('A23 data'!$V$15="","...",'A23 data'!$V$15/'A23 data'!$V$4*100),"...") | G17: =IF(OR('A23 data'!$V$15="",'A23 data'!$N$15=""),"...",IFERROR((('A23 data'!$V$15/'A23 data'!$N$15)^(1/8)-1)*100,"...")) | H17: =IF(OR('A23 data'!$T$15="",'A23 data'!$S$15=""),"...",IFERROR(('A23 data'!$T$15/'A23 data'!$S$15-1)*100,"...")) | I17: =IF(OR('A23 data'!$U$15="",'A23 data'!$T$15=""),"...",IFERROR(('A23 data'!$U$15/'A23 data'!$T$15-1)*100,"...")) | J17: =IF(OR('A23 data'!$V$15="",'A23 data'!$U$15=""),"...",IFERROR(('A23 data'!$V$15/'A23 data'!$U$15-1)*100,"..."))
A18: Above 10 | B18: =IFERROR(B7+B9+B10+B11+B12+B13+B14+B15+B16+B17,"...") | C18: =IFERROR(C7+C9+C10+C11+C12+C13+C14+C15+C16+C17,"...") | D18: =IFERROR(D7+D9+D10+D11+D12+D13+D14+D15+D16+D17,"...") | E18: =IFERROR(E7+E9+E10+E11+E12+E13+E14+E15+E16+E17,"...") | F18: =IFERROR(F7+F9+F10+F11+F12+F13+F14+F15+F16+F17,"...") | G18: - | H18: - | I18: - | J18: -
A19: Importers
A20: European Union (EU-15, added up) | B20: =IF('A23 data'!$V$21="","...",'A23 data'!$V$21/1000) | C20: =IFERROR(IF('A23 data'!$D$21="","...",'A23 data'!$D$21/'A23 data'!$D$20*100),"...") | D20: =IFERROR(IF('A23 data'!$I$21="","...",'A23 data'!$I$21/'A23 data'!$I$20*100),"...") | E20: =IFERROR(IF('A23 data'!$N$21="","...",'A23 data'!$N$21/'A23 data'!$N$20*100),"...") | F20: =IFERROR(IF('A23 data'!$V$21="","...",'A23 data'!$V$21/'A23 data'!$V$20*100),"...") | G20: =IF(OR('A23 data'!$V$35="",'A23 data'!$N$35=""),"...",IFERROR((('A23 data'!$V$35/'A23 data'!$N$35)^(1/8)-1)*100,"...")) | H20: =IF(OR('A23 data'!$T$32="",'A23 data'!$S$32=""),"...",IFERROR(('A23 data'!$T$32/'A23 data'!$S$32-1)*100,"...")) | I20: =IF(OR('A23 data'!$U$33="",'A23 data'!$T$33=""),"...",IFERROR(('A23 data'!$U$33/'A23 data'!$T$33-1)*100,"...")) | J20: =IF(OR('A23 data'!$V$34="",'A23 data'!$U$34=""),"...",IFERROR(('A23 data'!$V$34/'A23 data'!$U$34-1)*100,"..."))
A21: Extra-EU | B21: =IF('A23 data'!$V$22="","...",'A23 data'!$V$22/1000) | C21: =IFERROR(IF('A23 data'!$D$22="","...",'A23 data'!$D$22/'A23 data'!$D$20*100),"...") | D21: =IFERROR(IF('A23 data'!$I$22="","...",'A23 data'!$I$22/'A23 data'!$I$20*100),"...") | E21: =IFERROR(IF('A23 data'!$N$22="","...",'A23 data'!$N$22/'A23 data'!$N$20*100),"...") | F21: =IFERROR(IF('A23 data'!$V$22="","...",'A23 data'!$V$22/'A23 data'!$V$20*100),"...") | G21: =IF(OR('A23 data'!$V$22="",'A23 data'!$N$22=""),"...",IFERROR((('A23 data'!$V$22/'A23 data'!$N$22)^(1/8)-1)*100,"...")) | H21: =IF(OR('A23 data'!$T$22="",'A23 data'!$S$22=""),"...",IFERROR(('A23 data'!$T$22/'A23 data'!$S$22-1)*100,"...")) | I21: =IF(OR('A23 data'!$U$22="",'A23 data'!$T$22=""),"...",IFERROR(('A23 data'!$U$22/'A23 data'!$T$22-1)*100,"...")) | J21: =IF(OR('A23 data'!$V$22="",'A23 data'!$U$22=""),"...",IFERROR(('A23 data'!$V$22/'A23 data'!$U$22-1)*100,"..."))
A22: United States of America | B22: =IF('A23 data'!$V$23="","...",'A23 data'!$V$23/1000) | C22: =IFERROR(IF('A23 data'!$D$23="","...",'A23 data'!$D$23/'A23 data'!$D$20*100),"...") | D22: =IFERROR(IF('A23 data'!$I$23="","...",'A23 data'!$I$23/'A23 data'!$I$20*100),"...") | E22: =IFERROR(IF('A23 data'!$N$23="","...",'A23 data'!$N$23/'A23 data'!$N$20*100),"...") | F22: =IFERROR(IF('A23 data'!$V$23="","...",'A23 data'!$V$23/'A23 data'!$V$20*100),"...") | G22: =IF(OR('A23 data'!$V$23="",'A23 data'!$N$23=""),"...",IFERROR((('A23 data'!$V$23/'A23 data'!$N$23)^(1/8)-1)*100,"...")) | H22: =IF(OR('A23 data'!$T$23="",'A23 data'!$S$23=""),"...",IFERROR(('A23 data'!$T$23/'A23 data'!$S$23-1)*100,"...")) | I22: =IF(OR('A23 data'!$U$23="",'A23 data'!$T$23=""),"...",IFERROR(('A23 data'!$U$23/'A23 data'!$T$23-1)*100,"...")) | J22: =IF(OR('A23 data'!$V$23="",'A23 data'!$U$23=""),"...",IFERROR(('A23 data'!$V$23/'A23 data'!$U$23-1)*100,"..."))
A23: Japan | B23: =IF('A23 data'!$V$24="","...",'A23 data'!$V$24/1000) | C23: =IFERROR(IF('A23 data'!$D$24="","...",'A23 data'!$D$24/'A23 data'!$D$20*100),"...") | D23: =IFERROR(IF('A23 data'!$I$24="","...",'A23 data'!$I$24/'A23 data'!$I$20*100),"...") | E23: =IFERROR(IF('A23 data'!$N$24="","...",'A23 data'!$N$24/'A23 data'!$N$20*100),"...") | F23: =IFERROR(IF('A23 data'!$V$24="","...",'A23 data'!$V$24/'A23 data'!$V$20*100),"...") | G23: =IF(OR('A23 data'!$V$24="",'A23 data'!$N$24=""),"...",IFERROR((('A23 data'!$V$24/'A23 data'!$N$24)^(1/8)-1)*100,"...")) | H23: =IF(OR('A23 data'!$T$24="",'A23 data'!$S$24=""),"...",IFERROR(('A23 data'!$T$24/'A23 data'!$S$24-1)*100,"...")) | I23: =IF(OR('A23 data'!$U$24="",'A23 data'!$T$24=""),"...",IFERROR(('A23 data'!$U$24/'A23 data'!$T$24-1)*100,"...")) | J23: =IF(OR('A23 data'!$V$24="",'A23 data'!$U$24=""),"...",IFERROR(('A23 data'!$V$24/'A23 data'!$U$24-1)*100,"..."))
A24: Hong Kong, China | B24: =IF('A23 data'!$V$25="","...",'A23 data'!$V$25/1000) | C24: =IFERROR(IF('A23 data'!$D$25="","...",'A23 data'!$D$25/'A23 data'!$D$20*100),"...") | D24: =IFERROR(IF('A23 data'!$I$25="","...",'A23 data'!$I$25/'A23 data'!$I$20*100),"...") | E24: =IFERROR(IF('A23 data'!$N$25="","...",'A23 data'!$N$25/'A23 data'!$N$20*100),"...") | F24: =IFERROR(IF('A23 data'!$V$25="","...",'A23 data'!$V$25/'A23 data'!$V$20*100),"...") | G24: =IF(OR('A23 data'!$V$25="",'A23 data'!$N$25=""),"...",IFERROR((('A23 data'!$V$25/'A23 data'!$N$25)^(1/8)-1)*100,"...")) | H24: =IF(OR('A23 data'!$T$25="",'A23 data'!$S$25=""),"...",IFERROR(('A23 data'!$T$25/'A23 data'!$S$25-1)*100,"...")) | I24: =IF(OR('A23 data'!$U$25="",'A23 data'!$T$25=""),"...",IFERROR(('A23 data'!$U$25/'A23 data'!$T$25-1)*100,"...")) | J24: =IF(OR('A23 data'!$V$25="",'A23 data'!$U$25=""),"...",IFERROR(('A23 data'!$V$25/'A23 data'!$U$25-1)*100,"..."))
A25: Mexico | B25: =IF('A23 data'!$V$26="","...",'A23 data'!$V$26/1000) | C25: =IFERROR(IF('A23 data'!$D$26="","...",'A23 data'!$D$26/'A23 data'!$D$20*100),"...") | D25: =IFERROR(IF('A23 data'!$I$26="","...",'A23 data'!$I$26/'A23 data'!$I$20*100),"...") | E25: =IFERROR(IF('A23 data'!$N$26="","...",'A23 data'!$N$26/'A23 data'!$N$20*100),"...") | F25: =IFERROR(IF('A23 data'!$V$26="","...",'A23 data'!$V$26/'A23 data'!$V$20*100),"...") | G25: =IF(OR('A23 data'!$V$26="",'A23 data'!$N$26=""),"...",IFERROR((('A23 data'!$V$26/'A23 data'!$N$26)^(1/8)-1)*100,"...")) | H25: =IF(OR('A23 data'!$T$26="",'A23 data'!$S$26=""),"...",IFERROR(('A23 data'!$T$26/'A23 data'!$S$26-1)*100,"...")) | I25: =IF(OR('A23 data'!$U$26="",'A23 data'!$T$26=""),"...",IFERROR(('A23 data'!$U$26/'A23 data'!$T$26-1)*100,"...")) | J25: =IF(OR('A23 data'!$V$26="",'A23 data'!$U$26=""),"...",IFERROR(('A23 data'!$V$26/'A23 data'!$U$26-1)*100,"..."))
A26: Switzerland | B26: =IF('A23 data'!$V$27="","...",'A23 data'!$V$27/1000) | C26: =IFERROR(IF('A23 data'!$D$27="","...",'A23 data'!$D$27/'A23 data'!$D$20*100),"...") | D26: =IFERROR(IF('A23 data'!$I$27="","...",'A23 data'!$I$27/'A23 data'!$I$20*100),"...") | E26: =IFERROR(IF('A23 data'!$N$27="","...",'A23 data'!$N$27/'A23 data'!$N$20*100),"...") | F26: =IFERROR(IF('A23 data'!$V$27="","...",'A23 data'!$V$27/'A23 data'!$V$20*100),"...") | G26: =IF(OR('A23 data'!$V$27="",'A23 data'!$N$27=""),"...",IFERROR((('A23 data'!$V$27/'A23 data'!$N$27)^(1/8)-1)*100,"...")) | H26: =IF(OR('A23 data'!$T$27="",'A23 data'!$S$27=""),"...",IFERROR(('A23 data'!$T$27/'A23 data'!$S$27-1)*100,"...")) | I26: =IF(OR('A23 data'!$U$27="",'A23 data'!$T$27=""),"...",IFERROR(('A23 data'!$U$27/'A23 data'!$T$27-1)*100,"...")) | J26: =IF(OR('A23 data'!$V$27="",'A23 data'!$U$27=""),"...",IFERROR(('A23 data'!$V$27/'A23 data'!$U$27-1)*100,"..."))
A27: Canada | B27: =IF('A23 data'!$V$28="","...",'A23 data'!$V$28/1000) | C27: =IFERROR(IF('A23 data'!$D$28="","...",'A23 data'!$D$28/'A23 data'!$D$20*100),"...") | D27: =IFERROR(IF('A23 data'!$I$28="","...",'A23 data'!$I$28/'A23 data'!$I$20*100),"...") | E27: =IFERROR(IF('A23 data'!$N$28="","...",'A23 data'!$N$28/'A23 data'!$N$20*100),"...") | F27: =IFERROR(IF('A23 data'!$V$28="","...",'A23 data'!$V$28/'A23 data'!$V$20*100),"...") | G27: =IF(OR('A23 data'!$V$28="",'A23 data'!$N$28=""),"...",IFERROR((('A23 data'!$V$28/'A23 data'!$N$28)^(1/8)-1)*100,"...")) | H27: =IF(OR('A23 data'!$T$28="",'A23 data'!$S$28=""),"...",IFERROR(('A23 data'!$T$28/'A23 data'!$S$28-1)*100,"...")) | I27: =IF(OR('A23 data'!$U$28="",'A23 data'!$T$28=""),"...",IFERROR(('A23 data'!$U$28/'A23 data'!$T$28-1)*100,"...")) | J27: =IF(OR('A23 data'!$V$28="",'A23 data'!$U$28=""),"...",IFERROR(('A23 data'!$V$28/'A23 data'!$U$28-1)*100,"..."))
A28: Australia | B28: =IF('A23 data'!$V$29="","...",'A23 data'!$V$29/1000) | C28: =IFERROR(IF('A23 data'!$D$29="","...",'A23 data'!$D$29/'A23 data'!$D$20*100),"...") | D28: =IFERROR(IF('A23 data'!$I$29="","...",'A23 data'!$I$29/'A23 data'!$I$20*100),"...") | E28: =IFERROR(IF('A23 data'!$N$29="","...",'A23 data'!$N$29/'A23 data'!$N$20*100),"...") | F28: =IFERROR(IF('A23 data'!$V$29="","...",'A23 data'!$V$29/'A23 data'!$V$20*100),"...") | G28: =IF(OR('A23 data'!$V$29="",'A23 data'!$N$29=""),"...",IFERROR((('A23 data'!$V$29/'A23 data'!$N$29)^(1/8)-1)*100,"...")) | H28: =IF(OR('A23 data'!$T$29="",'A23 data'!$S$29=""),"...",IFERROR(('A23 data'!$T$29/'A23 data'!$S$29-1)*100,"...")) | I28: =IF(OR('A23 data'!$U$29="",'A23 data'!$T$29=""),"...",IFERROR(('A23 data'!$U$29/'A23 data'!$T$29-1)*100,"...")) | J28: =IF(OR('A23 data'!$V$29="",'A23 data'!$U$29=""),"...",IFERROR(('A23 data'!$V$29/'A23 data'!$U$29-1)*100,"..."))
A29: Norway | B29: =IF('A23 data'!$V$30="","...",'A23 data'!$V$30/1000) | C29: =IFERROR(IF('A23 data'!$D$30="","...",'A23 data'!$D$30/'A23 data'!$D$20*100),"...") | D29: =IFERROR(IF('A23 data'!$I$30="","...",'A23 data'!$I$30/'A23 data'!$I$20*100),"...") | E29: =IFERROR(IF('A23 data'!$N$30="","...",'A23 data'!$N$30/'A23 data'!$N$20*100),"...") | F29: =IFERROR(IF('A23 data'!$V$30="","...",'A23 data'!$V$30/'A23 data'!$V$20*100),"...") | G29: =IF(OR('A23 data'!$V$30="",'A23 data'!$N$30=""),"...",IFERROR((('A23 data'!$V$30/'A23 data'!$N$30)^(1/8)-1)*100,"...")) | H29: =IF(OR('A23 data'!$T$30="",'A23 data'!$S$30=""),"...",IFERROR(('A23 data'!$T$30/'A23 data'!$S$30-1)*100,"...")) | I29: =IF(OR('A23 data'!$U$30="",'A23 data'!$T$30=""),"...",IFERROR(('A23 data'!$U$30/'A23 data'!$T$30-1)*100,"...")) | J29: =IF(OR('A23 data'!$V$30="",'A23 data'!$U$30=""),"...",IFERROR(('A23 data'!$V$30/'A23 data'!$U$30-1)*100,"..."))
A30: Singapore | B30: =IF('A23 data'!$V$31="","...",'A23 data'!$V$31/1000) | C30: =IFERROR(IF('A23 data'!$D$31="","...",'A23 data'!$D$31/'A23 data'!$D$20*100),"...") | D30: =IFERROR(IF('A23 data'!$I$31="","...",'A23 data'!$I$31/'A23 data'!$I$20*100),"...") | E30: =IFERROR(IF('A23 data'!$N$31="","...",'A23 data'!$N$31/'A23 data'!$N$20*100),"...") | F30: =IFERROR(IF('A23 data'!$V$31="","...",'A23 data'!$V$31/'A23 data'!$V$20*100),"...") | G30: =IF(OR('A23 data'!$V$31="",'A23 data'!$N$31=""),"...",IFERROR((('A23 data'!$V$31/'A23 data'!$N$31)^(1/8)-1)*100,"...")) | H30: =IF(OR('A23 data'!$T$31="",'A23 data'!$S$31=""),"...",IFERROR(('A23 data'!$T$31/'A23 data'!$S$31-1)*100,"...")) | I30: =IF(OR('A23 data'!$U$31="",'A23 data'!$T$31=""),"...",IFERROR(('A23 data'!$U$31/'A23 data'!$T$31-1)*100,"...")) | J30: =IF(OR('A23 data'!$V$31="",'A23 data'!$U$31=""),"...",IFERROR(('A23 data'!$V$31/'A23 data'!$U$31-1)*100,"..."))
A31: Above 10 | B31: =IFERROR(B20+B22+B23+B24+B25+B26+B27+B28+B29+B30,"...") | C31: =IFERROR(C20+C22+C23+C24+C25+C26+C27+C28+C29+C30,"...") | D31: =IFERROR(D20+D22+D23+D24+D25+D26+D27+D28+D29+D30,"...") | E31: =IFERROR(E20+E22+E23+E24+E25+E26+E27+E28+E29+E30,"...") | F31: =IFERROR(F20+F22+F23+F24+F25+F26+F27+F28+F29+F30,"...") | G31: - | H31: - | I31: - | J31: -
A33: Notes
A34: The EU is ranked as one economy; its member states are not ranked. Extra-EU (the EU's trade with non-members) is shown beneath it and is not ranked.
A35: Before 2000 the EU figure is added up from the member states of each year (EC-9 in 1980, EC-10 in 1981-1985, EC-12 in 1986-1994, EU-15 in 1995-1999), the United Kingdom included; economies that joined later are ranked on their own. Extra-EU cannot be added up and shows "...". If a member state has no data for a year, the EU shows "...".
A36: EU changes and growth rates before 2000 compare the same member states in both years: those of the later year, added up for the earlier year too (for example, the change for 1995 is the EU-15 in 1995 against the same 15 in 1994), so they do not count an enlargement as growth. EU values and shares are for the members of each year.
A37: Economies ranked in 1998: 116 exporters, 122 importers.
A38: "Above 10" is the sum of the ten ranked economies. "..." means not available.
A39: WTO publishes no world total for clothing exports in 1985, so the shares for that year show "...".
A40: Shares are of world clothing exports or imports. 1990-98 is the compound annual rate of change.
A41: Figures for every year are as WTO published them on 2026-09-29; WTO revises past figures, so they can differ from the printed review.
A42: Source: WTO Timeseries, indicators ITS_MTV_AX and ITS_MTV_AM, product MACL (SITC 84), via WTO Timeseries API v1 (api.wto.org).
...

Sheet A22 data
A1: Raw data for table A22 (textiles), 1999 edition (trade data for 1998), US$ million. Source: WTO Timeseries via WTO Timeseries API v1 (api.wto.org).
A2: EU: WTO's EU-27 series from 2000; before 2000 added up from the member states of each year. Extra-EU from 2000 only. Rows "members of <year>" add up the same member states in two years, for the EU's changes and growth before 2000.
A3: Flow | B3: Code | C3: Economy | D3: 1980 | E3: 1981 | F3: 1982 | G3: 1983 | H3: 1984 | I3: 1985 | J3: 1986 | K3: 1987 | L3: 1988 | M3: 1989 | N3: 1990 | O3: 1991 | P3: 1992 | Q3: 1993 | R3: 1994 | S3: 1995 | T3: 1996 | U3: 1997 | V3: 1998
A4: Exporters | B4: 000 | C4: World | D4: 54990 | M4: 95950 | N4: 104354 | O4: 108925 | P4: 117195 | Q4: 113452 | R4: 131673 | S4: 152319 | T4: 152744 | U4: 155739 | V4: 149831
A5: Exporters | B5: 918 | C5: European Union (EU-15, added up) | D5: 23864 | E5: 21127 | F5: 19943 | G5: 19758 | H5: 20333 | I5: 21713 | J5: 29484 | K5: 35296 | L5: 37863 | M5: 39003 | N5: 47150 | O5: 46380 | P5: 48909 | Q5: 42475 | R5: 48079 | S5: 62200 | T5: 61480 | U5: 59178 | V5: 60365
A6: Exporters | B6: EUT | C6: Extra-EU
A7: Exporters | B7: 344 | C7: Hong Kong, China | D7: 1771 | E7: 2183 | F7: 1888 | G7: 2033 | H7: 2726 | I7: 3038 | J7: 3959 | K7: 5669 | L7: 6371 | M7: 7574 | N7: 8213 | O7: 9770 | P7: 10979 | Q7: 11212 | R7: 12574 | S7: 13815 | T7: 14146 | U7: 14602 | V7: 13040
A8: Exporters | B8: 156 | C8: China | D8: 2540 | E8: 3390 | F8: 2735 | G8: 3270 | H8: 3825 | I8: 3680 | J8: 5440 | K8: 6485 | L8: 6975 | M8: 7215 | N8: 7219 | O8: 8014 | P8: 8583 | Q8: 8699 | R8: 11818 | S8: 13918 | T8: 12112 | U8: 13828 | V8: 12817
A9: Exporters | B9: 410 | C9: Korea, Republic of | D9: 2209 | E9: 2460 | F9: 2251 | G9: 2423 | H9: 2615 | I9: 2534 | J9: 3215 | K9: 4080 | L9: 4848 | M9: 5371 | N9: 6076 | O9: 7300 | P9: 8208 | Q9: 8954 | R9: 10693 | S9: 12313 | T9: 12718 | U9: 13337 | V9: 11279
A10: Exporters | B10: 158 | C10: Chinese Taipei | D10: 1771 | E10: 2022 | F10: 1748 | G10: 1803 | H10: 2169 | I10: 2490 | J10: 3045 | K10: 4087 | L10: 4545 | M10: 5442 | N10: 6128 | O10: 7335 | P10: 7554 | Q10: 8160 | R10: 10242 | S10: 11861 | T10: 12024 | U10: 12750 | V10: 11123
A11: Exporters | B11: 840 | C11: United States of America | D11: 3757 | E11: 3742 | F11: 2890 | G11: 2500 | H11: 2535 | I11: 2541 | J11: 2812 | K11: 3127 | L11: 3890 | M11: 4371 | N11: 5039 | O11: 5610 | P11: 5889 | Q11: 6025 | R11: 6592 | S11: 7372 | T11: 8008 | U11: 9187 | V11: 9205
A12: Exporters | B12: 392 | C12: Japan | D12: 5123 | E12: 5869 | F12: 5102 | G12: 5345 | H12: 5358 | I12: 4943 | J12: 5488 | K12: 5597 | L12: 5527 | M12: 5534 | N12: 5871 | O12: 6527 | P12: 7078 | Q12: 6717 | R12: 6780 | S12: 7178 | T12: 6927 | U12: 6751 | V12: 5971
A13: Exporters | B13: 356 | C13: India | D13: 1306 | E13: 1168 | F13: 1064 | G13: 889 | H13: 1175 | I13: 1054 | J13: 1062 | K13: 1573 | L13: 1585 | M13: 1810 | N13: 2180 | O13: 2530 | P13: 2932 | Q13: 2917 | R13: 3829 | S13: 4358 | T13: 4936 | U13: 5243 | V13: 4558
A14: Exporters | B14: 586 | C14: Pakistan | D14: 876 | E14: 976 | F14: 928 | G14: 1312 | H14: 999 | I14: 970 | J14: 1264 | K14: 1854 | L14: 1803 | M14: 2018 | N14: 2663 | O14: 3200 | P14: 3590 | Q14: 3507 | R14: 3985 | S14: 4256 | T14: 4919 | U14: 4608 | V14: 4302
A15: Exporters | B15: 792 | C15: Türkiye | D15: 343 | E15: 569 | F15: 767 | G15: 853 | H15: 1006 | I15: 1045 | J15: 935 | K15: 1208 | L15: 1340 | M15: 1331 | N15: 1440 | O15: 1429 | P15: 1619 | Q15: 1592 | R15: 2194 | S15: 2527 | T15: 2722 | U15: 3352 | V15: 3549
A16: Exporters | B16: 918 | C16: European Union, members of 1996 (EU-15), 1995 and 1996 | S16: 62200 | T16: 61480
A17: Exporters | B17: 918 | C17: European Union, members of 1997 (EU-15), 1996 and 1997 | T17: 61480 | U17: 59178
A18: Exporters | B18: 918 | C18: European Union, members of 1998 (EU-15), 1997 and 1998 | U18: 59178 | V18: 60365
A19: Exporters | B19: 918 | C19: European Union, members of 1998 (EU-15), 1990 and 1998 | N19: 50795 | V19: 60365
A20: Importers | B20: 000 | C20: World | D20: 56975 | I20: 55618 | N20: 107839 | O20: 114665 | P20: 123584 | Q20: 118287 | R20: 135585 | S20: 156515 | T20: 157848 | U20: 160869 | V20: 155336
A21: Importers | B21: 918 | C21: European Union (EU-15, added up) | D21: 22886 | E21: 19199 | F21: 18414 | G21: 18191 | H21: 18605 | I21: 19758 | J21: 26864 | K21: 33081 | L21: 35975 | M21: 37346 | N21: 45999 | O21: 45443 | P21: 47101 | Q21: 36078 | R21: 41930 | S21: 53221 | T21: 52480 | U21: 51481 | V21: 54154
A22: Importers | B22: EUT | C22: Extra-EU
A23: Importers | B23: 344 | C23: Hong Kong, China | D23: 2967 | E23: 3428 | F23: 2970 | G23: 3278 | H23: 4178 | I23: 4281 | J23: 5418 | K23: 7304 | L23: 8007 | M23: 9218 | N23: 10182 | O23: 12068 | P23: 13091 | Q23: 12784 | R23: 15294 | S23: 16859 | T23: 16515 | U23: 16205 | V23: 13483
A24: Importers | B24: 840 | C24: United States of America | D24: 2542 | E24: 3072 | F24: 2852 | G24: 3276 | H24: 4617 | I24: 4977 | J24: 5838 | K24: 6512 | L24: 6279 | M24: 6417 | N24: 6730 | O24: 7329 | P24: 8215 | Q24: 8855 | R24: 9658 | S24: 10441 | T24: 10692 | U24: 12449 | V24: 13444
A25: Importers | B25: 156 | C25: China | D25: 1100 | E25: 1670 | F25: 1170 | G25: 911 | H25: 1370 | I25: 2040 | J25: 3160 | K25: 3589 | L25: 4219 | M25: 4603 | N25: 5292 | O25: 6751 | P25: 7560 | Q25: 7645 | R25: 9347 | S25: 10914 | T25: 11980 | U25: 12267 | V25: 11082
A26: Importers | B26: 392 | C26: Japan | D26: 1722 | E26: 1639 | F26: 1612 | G26: 1496 | H26: 1934 | I26: 1900 | J26: 2185 | K26: 2994 | L26: 3934 | M26: 4347 | N26: 4133 | O26: 4331 | P26: 4175 | Q26: 3933 | R26: 5152 | S26: 5985 | T26: 6075 | U26: 5801 | V26: 4354
A27: Importers | B27: 124 | C27: Canada | D27: 1306 | E27: 1413 | F27: 1138 | G27: 1406 | H27: 1570 | I27: 1618 | J27: 1789 | K27: 2005 | L27: 2176 | M27: 2357 | N27: 2325 | O27: 2425 | P27: 2504 | Q27: 2714 | R27: 2917 | S27: 3204 | T27: 3313 | U27: 3885 | V27: 4027
A28: Importers | B28: 484 | C28: Mexico | D28: 133 | N28: 992 | O28: 1230 | P28: 1532 | Q28: 1900 | R28: 2147 | S28: 1768 | T28: 2220 | U28: 2868 | V28: 3433
A29: Importers | B29: 616 | C29: Poland | D29: 312 | E29: 187 | F29: 135 | G29: 269 | H29: 275 | I29: 274 | J29: 309 | K29: 284 | L29: 373 | M29: 353 | N29: 245 | O29: 306 | P29: 348 | Q29: 1486 | R29: 1804 | S29: 2165 | T29: 2353 | U29: 2417 | V29: 2747
A30: Importers | B30: 792 | C30: Türkiye | D30: 80 | E30: 78 | F30: 103 | G30: 98 | H30: 117 | I30: 145 | J30: 159 | K30: 202 | L30: 257 | M30: 293 | N30: 567 | O30: 537 | P30: 707 | Q30: 1011 | R30: 1110 | S30: 1811 | T30: 1933 | U30: 2324 | V30: 2317
A31: Importers | B31: 410 | C31: Korea, Republic of | D31: 409 | E31: 494 | F31: 501 | G31: 506 | H31: 603 | I31: 638 | J31: 926 | K31: 1408 | L31: 1590 | M31: 1835 | N31: 1947 | O31: 2430 | P31: 2556 | Q31: 2593 | R31: 3338 | S31: 3959 | T31: 3838 | U31: 3560 | V31: 2218
A32: Importers | B32: 918 | C32: European Union, members of 1996 (EU-15), 1995 and 1996 | S32: 53221 | T32: 52480
A33: Importers | B33: 918 | C33: European Union, members of 1997 (EU-15), 1996 and 1997 | T33: 52480 | U33: 51481
A34: Importers | B34: 918 | C34: European Union, members of 1998 (EU-15), 1997 and 1998 | U34: 51481 | V34: 54154
A35: Importers | B35: 918 | C35: European Union, members of 1998 (EU-15), 1990 and 1998 | N35: 50371 | V35: 54154

Sheet A23 data
A1: Raw data for table A23 (clothing), 1999 edition (trade data for 1998), US$ million. Source: WTO Timeseries via WTO Timeseries API v1 (api.wto.org).
A2: EU: WTO's EU-27 series from 2000; before 2000 added up from the member states of each year. Extra-EU from 2000 only. Rows "members of <year>" add up the same member states in two years, for the EU's changes and growth before 2000.
A3: Flow | B3: Code | C3: Economy | D3: 1980 | E3: 1981 | F3: 1982 | G3: 1983 | H3: 1984 | I3: 1985 | J3: 1986 | K3: 1987 | L3: 1988 | M3: 1989 | N3: 1990 | O3: 1991 | P3: 1992 | Q3: 1993 | R3: 1994 | S3: 1995 | T3: 1996 | U3: 1997 | V3: 1998
A4: Exporters | B4: 000 | C4: World | D4: 40590 | M4: 97450 | N4: 108129 | O4: 117160 | P4: 132106 | Q4: 128792 | R4: 140757 | S4: 158353 | T4: 166077 | U4: 177616 | V4: 185963
A5: Exporters | B5: 918 | C5: European Union (EU-15, added up) | D5: 14026 | E5: 12883 | F5: 12592 | G5: 12575 | H5: 13092 | I5: 14445 | J5: 22006 | K5: 27247 | L5: 28204 | M5: 29629 | N5: 37900 | O5: 39455 | P5: 43202 | Q5: 34978 | R5: 38271 | S5: 48458 | T5: 52628 | U5: 50697 | V5: 52821
A6: Exporters | B6: EUT | C6: Extra-EU
A7: Exporters | B7: 156 | C7: China | D7: 1625 | E7: 1930 | F7: 2140 | G7: 2320 | H7: 2755 | I7: 2450 | J7: 4050 | K7: 5790 | L7: 6990 | M7: 8165 | N7: 9669 | O7: 12245 | P7: 16704 | Q7: 18441 | R7: 23731 | S7: 24049 | T7: 25034 | U7: 31803 | V7: 30048
A8: Exporters | B8: 344 | C8: Hong Kong, China | D8: 4976 | E8: 5424 | F8: 5241 | G8: 5308 | H8: 6765 | I8: 6718 | J8: 8398 | K8: 10720 | L8: 11786 | M8: 13994 | N8: 15406 | O8: 17959 | P8: 20060 | Q8: 20998 | R8: 21404 | S8: 21297 | T8: 21976 | U8: 23108 | V8: 22164
A9: Exporters | B9: 840 | C9: United States of America | D9: 1263 | E9: 1305 | F9: 1040 | G9: 928 | H9: 900 | I9: 785 | J9: 949 | K9: 1209 | L9: 1640 | M9: 2211 | N9: 2565 | O9: 3316 | P9: 4211 | Q9: 4952 | R9: 5616 | S9: 6651 | T9: 7511 | U9: 8672 | V9: 8793
A10: Exporters | B10: 792 | C10: Türkiye | D10: 131 | E10: 314 | F10: 398 | G10: 648 | H10: 1267 | I10: 1208 | J10: 1245 | K10: 2197 | L10: 2352 | M10: 2741 | N10: 3331 | O10: 3478 | P10: 4179 | Q10: 4339 | R10: 4582 | S10: 6119 | T10: 6067 | U10: 6697 | V10: 7058
A11: Exporters | B11: 484 | C11: Mexico | D11: 2 | N11: 587 | O11: 773 | P11: 967 | Q11: 1185 | R11: 1701 | S11: 2731 | T11: 3753 | U11: 5636 | V11: 6603
A12: Exporters | B12: 356 | C12: India | D12: 673 | E12: 755 | F12: 625 | G12: 694 | H12: 831 | I12: 930 | J12: 1061 | K12: 1402 | L12: 1508 | M12: 2060 | N12: 2530 | O12: 2527 | P12: 3099 | Q12: 2970 | R12: 3701 | S12: 4110 | T12: 4217 | U12: 4343 | V12: 4782
A13: Exporters | B13: 410 | C13: Korea, Republic of | D13: 2949 | E13: 3868 | F13: 3774 | G13: 3707 | H13: 4501 | I13: 4450 | J13: 5483 | K13: 7537 | L13: 8694 | M13: 9096 | N13: 7879 | O13: 7420 | P13: 6770 | Q13: 6166 | R13: 5653 | S13: 4957 | T13: 4221 | U13: 4192 | V13: 4651
A14: Exporters | B14: 050 | C14: Bangladesh | D14: 2 | E14: 5 | F14: 11 | G14: 21 | H14: 77 | I14: 168 | J14: 236 | K14: 416 | L14: 416 | M14: 440 | N14: 643 | O14: 840 | P14: 1042 | Q14: 1307 | R14: 1479 | S14: 1969 | T14: 2218 | U14: 2688 | V14: 3786
A15: Exporters | B15: 764 | C15: Thailand | D15: 267 | E15: 344 | F15: 371 | G15: 409 | H15: 552 | I15: 573 | J15: 825 | K15: 1500 | L15: 1934 | M15: 2458 | N15: 2817 | O15: 3673 | P15: 3767 | Q15: 4179 | R15: 4508 | S15: 5008 | T15: 3729 | U15: 3686 | V15: 3540
A16: Exporters | B16: 918 | C16: European Union, members of 1996 (EU-15), 1995 and 1996 | S16: 48458 | T16: 52628
A17: Exporters | B17: 918 | C17: European Union, members of 1997 (EU-15), 1996 and 1997 | T17: 52628 | U17: 50697
A18: Exporters | B18: 918 | C18: European Union, members of 1998 (EU-15), 1997 and 1998 | U18: 50697 | V18: 52821
A19: Exporters | B19: 918 | C19: European Union, members of 1998 (EU-15), 1990 and 1998 | N19: 40793 | V19: 52821
A20: Importers | B20: 000 | C20: World | D20: 42271 | I20: 50822 | N20: 112236 | O20: 123751 | P20: 139571 | Q20: 135297 | R20: 145326 | S20: 162871 | T20: 171461 | U20: 182974 | V20: 191796
A21: Importers | B21: 918 | C21: European Union (EU-15, added up) | D21: 20232 | E21: 17938 | F21: 16975 | G21: 16317 | H21: 16790 | I21: 17511 | J21: 25656 | K21: 34459 | L21: 37064 | M21: 38389 | N21: 50682 | O21: 58313 | P21: 63625 | Q21: 54644 | R21: 57417 | S21: 70668 | T21: 74566 | U21: 73861 | V21: 78416
A22: Importers | B22: EUT | C22: Extra-EU
A23: Importers | B23: 840 | C23: United States of America | D23: 6943 | E23: 8118 | F23: 8791 | G23: 10418 | H23: 14598 | I23: 16201 | J23: 18692 | K23: 22116 | L23: 23061 | M23: 26026 | N23: 26977 | O23: 27696 | P23: 32951 | Q23: 35605 | R23: 38643 | S23: 41367 | T23: 43317 | U23: 50297 | V23: 55720
A24: Importers | B24: 392 | C24: Japan | D24: 1537 | E24: 1813 | F24: 1844 | G24: 1511 | H24: 1962 | I24: 2012 | J24: 2878 | K24: 4674 | L24: 6739 | M24: 8972 | N24: 8765 | O24: 9392 | P24: 11191 | Q24: 12588 | R24: 15265 | S24: 18758 | T24: 19672 | U24: 16727 | V24: 14723
A25: Importers | B25: 344 | C25: Hong Kong, China | D25: 695 | E25: 932 | F25: 1061 | G25: 1156 | H25: 1472 | I25: 1671 | J25: 2525 | K25: 3338 | L25: 4102 | M25: 5700 | N25: 6913 | O25: 8600 | P25: 10346 | Q25: 11806 | R25: 12457 | S25: 12654 | T25: 13630 | U25: 15019 | V25: 14297
A26: Importers | B26: 484 | C26: Mexico | D26: 123 | N26: 573 | O26: 798 | P26: 1122 | Q26: 1303 | R26: 1823 | S26: 1912 | T26: 2394 | U26: 3355 | V26: 3750
A27: Importers | B27: 756 | C27: Switzerland | D27: 1456 | E27: 1370 | F27: 1372 | G27: 1376 | H27: 1443 | I27: 1475 | J27: 2101 | K27: 2749 | L27: 2826 | M27: 2800 | N27: 3437 | O27: 3545 | P27: 3563 | Q27: 3326 | R27: 3469 | S27: 3821 | T27: 3685 | U27: 3403 | V27: 3528
A28: Importers | B28: 124 | C28: Canada | D28: 715 | E28: 844 | F28: 841 | G28: 1027 | H28: 1296 | I28: 1285 | J28: 1534 | K28: 1770 | L28: 1913 | M28: 2179 | N28: 2388 | O28: 2207 | P28: 2433 | Q28: 2510 | R28: 2518 | S28: 2688 | T28: 2546 | U28: 3017 | V28: 3269
A29: Importers | B29: 036 | C29: Australia | D29: 331 | E29: 413 | F29: 417 | G29: 331 | H29: 414 | I29: 396 | J29: 410 | K29: 487 | L29: 548 | M29: 656 | N29: 711 | O29: 798 | P29: 885 | Q29: 987 | R29: 1134 | S29: 1262 | T29: 1411 | U29: 1519 | V29: 1519
A30: Importers | B30: 578 | C30: Norway | D30: 709 | E30: 657 | F30: 656 | G30: 597 | H30: 632 | I30: 785 | J30: 1121 | K30: 1267 | L30: 1144 | M30: 1027 | N30: 1231 | O30: 1246 | P30: 1375 | Q30: 1198 | R30: 1292 | S30: 1419 | T30: 1381 | U30: 1394 | V30: 1429
A31: Importers | B31: 702 | C31: Singapore | D31: 142 | E31: 197 | F31: 254 | G31: 291 | H31: 313 | I31: 298 | J31: 361 | K31: 510 | L31: 602 | M31: 682 | N31: 920 | O31: 1053 | P31: 1192 | Q31: 1345 | R31: 1573 | S31: 1644 | T31: 1730 | U31: 1805 | V31: 1410
A32: Importers | B32: 918 | C32: European Union, members of 1996 (EU-15), 1995 and 1996 | S32: 70668 | T32: 74566
A33: Importers | B33: 918 | C33: European Union, members of 1997 (EU-15), 1996 and 1997 | T33: 74566 | U33: 73861
A34: Importers | B34: 918 | C34: European Union, members of 1998 (EU-15), 1997 and 1998 | U34: 73861 | V34: 78416
