Workbook

Sheet A22 textiles
A1: Table A22, 1993 edition (trade data for 1992)
A2: Top 10 exporters and importers of textiles, 1992
A3: (Billion dollars and percentage)
A5: Economy | B5: Value 1992 (US$ bn) | C5: Share 1980 (%) | D5: Share 1985 (%) | E5: Share 1990 (%) | F5: Share 1992 (%) | G5: Change 1990-92 (% p.a.) | H5: Change 1990 (%) | I5: Change 1991 (%) | J5: Change 1992 (%)
A6: Exporters
A7: European Union (EC-12, added up) | B7: =IF('A22 data'!$P$5="","...",'A22 data'!$P$5/1000) | C7: =IFERROR(IF('A22 data'!$D$5="","...",'A22 data'!$D$5/'A22 data'!$D$4*100),"...") | D7: =IFERROR(IF('A22 data'!$I$5="","...",'A22 data'!$I$5/'A22 data'!$I$4*100),"...") | E7: =IFERROR(IF('A22 data'!$N$5="","...",'A22 data'!$N$5/'A22 data'!$N$4*100),"...") | F7: =IFERROR(IF('A22 data'!$P$5="","...",'A22 data'!$P$5/'A22 data'!$P$4*100),"...") | G7: =IF(OR('A22 data'!$P$19="",'A22 data'!$N$19=""),"...",IFERROR((('A22 data'!$P$19/'A22 data'!$N$19)^(1/2)-1)*100,"...")) | H7: =IF(OR('A22 data'!$N$16="",'A22 data'!$M$16=""),"...",IFERROR(('A22 data'!$N$16/'A22 data'!$M$16-1)*100,"...")) | I7: =IF(OR('A22 data'!$O$17="",'A22 data'!$N$17=""),"...",IFERROR(('A22 data'!$O$17/'A22 data'!$N$17-1)*100,"...")) | J7: =IF(OR('A22 data'!$P$18="",'A22 data'!$O$18=""),"...",IFERROR(('A22 data'!$P$18/'A22 data'!$O$18-1)*100,"..."))
A8: Extra-EU | B8: =IF('A22 data'!$P$6="","...",'A22 data'!$P$6/1000) | C8: =IFERROR(IF('A22 data'!$D$6="","...",'A22 data'!$D$6/'A22 data'!$D$4*100),"...") | D8: =IFERROR(IF('A22 data'!$I$6="","...",'A22 data'!$I$6/'A22 data'!$I$4*100),"...") | E8: =IFERROR(IF('A22 data'!$N$6="","...",'A22 data'!$N$6/'A22 data'!$N$4*100),"...") | F8: =IFERROR(IF('A22 data'!$P$6="","...",'A22 data'!$P$6/'A22 data'!$P$4*100),"...") | G8: =IF(OR('A22 data'!$P$6="",'A22 data'!$N$6=""),"...",IFERROR((('A22 data'!$P$6/'A22 data'!$N$6)^(1/2)-1)*100,"...")) | H8: =IF(OR('A22 data'!$N$6="",'A22 data'!$M$6=""),"...",IFERROR(('A22 data'!$N$6/'A22 data'!$M$6-1)*100,"...")) | I8: =IF(OR('A22 data'!$O$6="",'A22 data'!$N$6=""),"...",IFERROR(('A22 data'!$O$6/'A22 data'!$N$6-1)*100,"...")) | J8: =IF(OR('A22 data'!$P$6="",'A22 data'!$O$6=""),"...",IFERROR(('A22 data'!$P$6/'A22 data'!$O$6-1)*100,"..."))
A9: Hong Kong, China | B9: =IF('A22 data'!$P$7="","...",'A22 data'!$P$7/1000) | C9: =IFERROR(IF('A22 data'!$D$7="","...",'A22 data'!$D$7/'A22 data'!$D$4*100),"...") | D9: =IFERROR(IF('A22 data'!$I$7="","...",'A22 data'!$I$7/'A22 data'!$I$4*100),"...") | E9: =IFERROR(IF('A22 data'!$N$7="","...",'A22 data'!$N$7/'A22 data'!$N$4*100),"...") | F9: =IFERROR(IF('A22 data'!$P$7="","...",'A22 data'!$P$7/'A22 data'!$P$4*100),"...") | G9: =IF(OR('A22 data'!$P$7="",'A22 data'!$N$7=""),"...",IFERROR((('A22 data'!$P$7/'A22 data'!$N$7)^(1/2)-1)*100,"...")) | H9: =IF(OR('A22 data'!$N$7="",'A22 data'!$M$7=""),"...",IFERROR(('A22 data'!$N$7/'A22 data'!$M$7-1)*100,"...")) | I9: =IF(OR('A22 data'!$O$7="",'A22 data'!$N$7=""),"...",IFERROR(('A22 data'!$O$7/'A22 data'!$N$7-1)*100,"...")) | J9: =IF(OR('A22 data'!$P$7="",'A22 data'!$O$7=""),"...",IFERROR(('A22 data'!$P$7/'A22 data'!$O$7-1)*100,"..."))
A10: China | B10: =IF('A22 data'!$P$8="","...",'A22 data'!$P$8/1000) | C10: =IFERROR(IF('A22 data'!$D$8="","...",'A22 data'!$D$8/'A22 data'!$D$4*100),"...") | D10: =IFERROR(IF('A22 data'!$I$8="","...",'A22 data'!$I$8/'A22 data'!$I$4*100),"...") | E10: =IFERROR(IF('A22 data'!$N$8="","...",'A22 data'!$N$8/'A22 data'!$N$4*100),"...") | F10: =IFERROR(IF('A22 data'!$P$8="","...",'A22 data'!$P$8/'A22 data'!$P$4*100),"...") | G10: =IF(OR('A22 data'!$P$8="",'A22 data'!$N$8=""),"...",IFERROR((('A22 data'!$P$8/'A22 data'!$N$8)^(1/2)-1)*100,"...")) | H10: =IF(OR('A22 data'!$N$8="",'A22 data'!$M$8=""),"...",IFERROR(('A22 data'!$N$8/'A22 data'!$M$8-1)*100,"...")) | I10: =IF(OR('A22 data'!$O$8="",'A22 data'!$N$8=""),"...",IFERROR(('A22 data'!$O$8/'A22 data'!$N$8-1)*100,"...")) | J10: =IF(OR('A22 data'!$P$8="",'A22 data'!$O$8=""),"...",IFERROR(('A22 data'!$P$8/'A22 data'!$O$8-1)*100,"..."))
A11: Korea, Republic of | B11: =IF('A22 data'!$P$9="","...",'A22 data'!$P$9/1000) | C11: =IFERROR(IF('A22 data'!$D$9="","...",'A22 data'!$D$9/'A22 data'!$D$4*100),"...") | D11: =IFERROR(IF('A22 data'!$I$9="","...",'A22 data'!$I$9/'A22 data'!$I$4*100),"...") | E11: =IFERROR(IF('A22 data'!$N$9="","...",'A22 data'!$N$9/'A22 data'!$N$4*100),"...") | F11: =IFERROR(IF('A22 data'!$P$9="","...",'A22 data'!$P$9/'A22 data'!$P$4*100),"...") | G11: =IF(OR('A22 data'!$P$9="",'A22 data'!$N$9=""),"...",IFERROR((('A22 data'!$P$9/'A22 data'!$N$9)^(1/2)-1)*100,"...")) | H11: =IF(OR('A22 data'!$N$9="",'A22 data'!$M$9=""),"...",IFERROR(('A22 data'!$N$9/'A22 data'!$M$9-1)*100,"...")) | I11: =IF(OR('A22 data'!$O$9="",'A22 data'!$N$9=""),"...",IFERROR(('A22 data'!$O$9/'A22 data'!$N$9-1)*100,"...")) | J11: =IF(OR('A22 data'!$P$9="",'A22 data'!$O$9=""),"...",IFERROR(('A22 data'!$P$9/'A22 data'!$O$9-1)*100,"..."))
A12: Chinese Taipei | B12: =IF('A22 data'!$P$10="","...",'A22 data'!$P$10/1000) | C12: =IFERROR(IF('A22 data'!$D$10="","...",'A22 data'!$D$10/'A22 data'!$D$4*100),"...") | D12: =IFERROR(IF('A22 data'!$I$10="","...",'A22 data'!$I$10/'A22 data'!$I$4*100),"...") | E12: =IFERROR(IF('A22 data'!$N$10="","...",'A22 data'!$N$10/'A22 data'!$N$4*100),"...") | F12: =IFERROR(IF('A22 data'!$P$10="","...",'A22 data'!$P$10/'A22 data'!$P$4*100),"...") | G12: =IF(OR('A22 data'!$P$10="",'A22 data'!$N$10=""),"...",IFERROR((('A22 data'!$P$10/'A22 data'!$N$10)^(1/2)-1)*100,"...")) | H12: =IF(OR('A22 data'!$N$10="",'A22 data'!$M$10=""),"...",IFERROR(('A22 data'!$N$10/'A22 data'!$M$10-1)*100,"...")) | I12: =IF(OR('A22 data'!$O$10="",'A22 data'!$N$10=""),"...",IFERROR(('A22 data'!$O$10/'A22 data'!$N$10-1)*100,"...")) | J12: =IF(OR('A22 data'!$P$10="",'A22 data'!$O$10=""),"...",IFERROR(('A22 data'!$P$10/'A22 data'!$O$10-1)*100,"..."))
A13: Japan | B13: =IF('A22 data'!$P$11="","...",'A22 data'!$P$11/1000) | C13: =IFERROR(IF('A22 data'!$D$11="","...",'A22 data'!$D$11/'A22 data'!$D$4*100),"...") | D13: =IFERROR(IF('A22 data'!$I$11="","...",'A22 data'!$I$11/'A22 data'!$I$4*100),"...") | E13: =IFERROR(IF('A22 data'!$N$11="","...",'A22 data'!$N$11/'A22 data'!$N$4*100),"...") | F13: =IFERROR(IF('A22 data'!$P$11="","...",'A22 data'!$P$11/'A22 data'!$P$4*100),"...") | G13: =IF(OR('A22 data'!$P$11="",'A22 data'!$N$11=""),"...",IFERROR((('A22 data'!$P$11/'A22 data'!$N$11)^(1/2)-1)*100,"...")) | H13: =IF(OR('A22 data'!$N$11="",'A22 data'!$M$11=""),"...",IFERROR(('A22 data'!$N$11/'A22 data'!$M$11-1)*100,"...")) | I13: =IF(OR('A22 data'!$O$11="",'A22 data'!$N$11=""),"...",IFERROR(('A22 data'!$O$11/'A22 data'!$N$11-1)*100,"...")) | J13: =IF(OR('A22 data'!$P$11="",'A22 data'!$O$11=""),"...",IFERROR(('A22 data'!$P$11/'A22 data'!$O$11-1)*100,"..."))
A14: United States of America | B14: =IF('A22 data'!$P$12="","...",'A22 data'!$P$12/1000) | C14: =IFERROR(IF('A22 data'!$D$12="","...",'A22 data'!$D$12/'A22 data'!$D$4*100),"...") | D14: =IFERROR(IF('A22 data'!$I$12="","...",'A22 data'!$I$12/'A22 data'!$I$4*100),"...") | E14: =IFERROR(IF('A22 data'!$N$12="","...",'A22 data'!$N$12/'A22 data'!$N$4*100),"...") | F14: =IFERROR(IF('A22 data'!$P$12="","...",'A22 data'!$P$12/'A22 data'!$P$4*100),"...") | G14: =IF(OR('A22 data'!$P$12="",'A22 data'!$N$12=""),"...",IFERROR((('A22 data'!$P$12/'A22 data'!$N$12)^(1/2)-1)*100,"...")) | H14: =IF(OR('A22 data'!$N$12="",'A22 data'!$M$12=""),"...",IFERROR(('A22 data'!$N$12/'A22 data'!$M$12-1)*100,"...")) | I14: =IF(OR('A22 data'!$O$12="",'A22 data'!$N$12=""),"...",IFERROR(('A22 data'!$O$12/'A22 data'!$N$12-1)*100,"...")) | J14: =IF(OR('A22 data'!$P$12="",'A22 data'!$O$12=""),"...",IFERROR(('A22 data'!$P$12/'A22 data'!$O$12-1)*100,"..."))
A15: Pakistan | B15: =IF('A22 data'!$P$13="","...",'A22 data'!$P$13/1000) | C15: =IFERROR(IF('A22 data'!$D$13="","...",'A22 data'!$D$13/'A22 data'!$D$4*100),"...") | D15: =IFERROR(IF('A22 data'!$I$13="","...",'A22 data'!$I$13/'A22 data'!$I$4*100),"...") | E15: =IFERROR(IF('A22 data'!$N$13="","...",'A22 data'!$N$13/'A22 data'!$N$4*100),"...") | F15: =IFERROR(IF('A22 data'!$P$13="","...",'A22 data'!$P$13/'A22 data'!$P$4*100),"...") | G15: =IF(OR('A22 data'!$P$13="",'A22 data'!$N$13=""),"...",IFERROR((('A22 data'!$P$13/'A22 data'!$N$13)^(1/2)-1)*100,"...")) | H15: =IF(OR('A22 data'!$N$13="",'A22 data'!$M$13=""),"...",IFERROR(('A22 data'!$N$13/'A22 data'!$M$13-1)*100,"...")) | I15: =IF(OR('A22 data'!$O$13="",'A22 data'!$N$13=""),"...",IFERROR(('A22 data'!$O$13/'A22 data'!$N$13-1)*100,"...")) | J15: =IF(OR('A22 data'!$P$13="",'A22 data'!$O$13=""),"...",IFERROR(('A22 data'!$P$13/'A22 data'!$O$13-1)*100,"..."))
A16: India | B16: =IF('A22 data'!$P$14="","...",'A22 data'!$P$14/1000) | C16: =IFERROR(IF('A22 data'!$D$14="","...",'A22 data'!$D$14/'A22 data'!$D$4*100),"...") | D16: =IFERROR(IF('A22 data'!$I$14="","...",'A22 data'!$I$14/'A22 data'!$I$4*100),"...") | E16: =IFERROR(IF('A22 data'!$N$14="","...",'A22 data'!$N$14/'A22 data'!$N$4*100),"...") | F16: =IFERROR(IF('A22 data'!$P$14="","...",'A22 data'!$P$14/'A22 data'!$P$4*100),"...") | G16: =IF(OR('A22 data'!$P$14="",'A22 data'!$N$14=""),"...",IFERROR((('A22 data'!$P$14/'A22 data'!$N$14)^(1/2)-1)*100,"...")) | H16: =IF(OR('A22 data'!$N$14="",'A22 data'!$M$14=""),"...",IFERROR(('A22 data'!$N$14/'A22 data'!$M$14-1)*100,"...")) | I16: =IF(OR('A22 data'!$O$14="",'A22 data'!$N$14=""),"...",IFERROR(('A22 data'!$O$14/'A22 data'!$N$14-1)*100,"...")) | J16: =IF(OR('A22 data'!$P$14="",'A22 data'!$O$14=""),"...",IFERROR(('A22 data'!$P$14/'A22 data'!$O$14-1)*100,"..."))
A17: Indonesia | B17: =IF('A22 data'!$P$15="","...",'A22 data'!$P$15/1000) | C17: =IFERROR(IF('A22 data'!$D$15="","...",'A22 data'!$D$15/'A22 data'!$D$4*100),"...") | D17: =IFERROR(IF('A22 data'!$I$15="","...",'A22 data'!$I$15/'A22 data'!$I$4*100),"...") | E17: =IFERROR(IF('A22 data'!$N$15="","...",'A22 data'!$N$15/'A22 data'!$N$4*100),"...") | F17: =IFERROR(IF('A22 data'!$P$15="","...",'A22 data'!$P$15/'A22 data'!$P$4*100),"...") | G17: =IF(OR('A22 data'!$P$15="",'A22 data'!$N$15=""),"...",IFERROR((('A22 data'!$P$15/'A22 data'!$N$15)^(1/2)-1)*100,"...")) | H17: =IF(OR('A22 data'!$N$15="",'A22 data'!$M$15=""),"...",IFERROR(('A22 data'!$N$15/'A22 data'!$M$15-1)*100,"...")) | I17: =IF(OR('A22 data'!$O$15="",'A22 data'!$N$15=""),"...",IFERROR(('A22 data'!$O$15/'A22 data'!$N$15-1)*100,"...")) | J17: =IF(OR('A22 data'!$P$15="",'A22 data'!$O$15=""),"...",IFERROR(('A22 data'!$P$15/'A22 data'!$O$15-1)*100,"..."))
A18: Above 10 | B18: =IFERROR(B7+B9+B10+B11+B12+B13+B14+B15+B16+B17,"...") | C18: =IFERROR(C7+C9+C10+C11+C12+C13+C14+C15+C16+C17,"...") | D18: =IFERROR(D7+D9+D10+D11+D12+D13+D14+D15+D16+D17,"...") | E18: =IFERROR(E7+E9+E10+E11+E12+E13+E14+E15+E16+E17,"...") | F18: =IFERROR(F7+F9+F10+F11+F12+F13+F14+F15+F16+F17,"...") | G18: - | H18: - | I18: - | J18: -
A19: Importers
A20: European Union (EC-12, added up) | B20: =IF('A22 data'!$P$21="","...",'A22 data'!$P$21/1000) | C20: =IFERROR(IF('A22 data'!$D$21="","...",'A22 data'!$D$21/'A22 data'!$D$20*100),"...") | D20: =IFERROR(IF('A22 data'!$I$21="","...",'A22 data'!$I$21/'A22 data'!$I$20*100),"...") | E20: =IFERROR(IF('A22 data'!$N$21="","...",'A22 data'!$N$21/'A22 data'!$N$20*100),"...") | F20: =IFERROR(IF('A22 data'!$P$21="","...",'A22 data'!$P$21/'A22 data'!$P$20*100),"...") | G20: =IF(OR('A22 data'!$P$35="",'A22 data'!$N$35=""),"...",IFERROR((('A22 data'!$P$35/'A22 data'!$N$35)^(1/2)-1)*100,"...")) | H20: =IF(OR('A22 data'!$N$32="",'A22 data'!$M$32=""),"...",IFERROR(('A22 data'!$N$32/'A22 data'!$M$32-1)*100,"...")) | I20: =IF(OR('A22 data'!$O$33="",'A22 data'!$N$33=""),"...",IFERROR(('A22 data'!$O$33/'A22 data'!$N$33-1)*100,"...")) | J20: =IF(OR('A22 data'!$P$34="",'A22 data'!$O$34=""),"...",IFERROR(('A22 data'!$P$34/'A22 data'!$O$34-1)*100,"..."))
A21: Extra-EU | B21: =IF('A22 data'!$P$22="","...",'A22 data'!$P$22/1000) | C21: =IFERROR(IF('A22 data'!$D$22="","...",'A22 data'!$D$22/'A22 data'!$D$20*100),"...") | D21: =IFERROR(IF('A22 data'!$I$22="","...",'A22 data'!$I$22/'A22 data'!$I$20*100),"...") | E21: =IFERROR(IF('A22 data'!$N$22="","...",'A22 data'!$N$22/'A22 data'!$N$20*100),"...") | F21: =IFERROR(IF('A22 data'!$P$22="","...",'A22 data'!$P$22/'A22 data'!$P$20*100),"...") | G21: =IF(OR('A22 data'!$P$22="",'A22 data'!$N$22=""),"...",IFERROR((('A22 data'!$P$22/'A22 data'!$N$22)^(1/2)-1)*100,"...")) | H21: =IF(OR('A22 data'!$N$22="",'A22 data'!$M$22=""),"...",IFERROR(('A22 data'!$N$22/'A22 data'!$M$22-1)*100,"...")) | I21: =IF(OR('A22 data'!$O$22="",'A22 data'!$N$22=""),"...",IFERROR(('A22 data'!$O$22/'A22 data'!$N$22-1)*100,"...")) | J21: =IF(OR('A22 data'!$P$22="",'A22 data'!$O$22=""),"...",IFERROR(('A22 data'!$P$22/'A22 data'!$O$22-1)*100,"..."))
A22: Hong Kong, China | B22: =IF('A22 data'!$P$23="","...",'A22 data'!$P$23/1000) | C22: =IFERROR(IF('A22 data'!$D$23="","...",'A22 data'!$D$23/'A22 data'!$D$20*100),"...") | D22: =IFERROR(IF('A22 data'!$I$23="","...",'A22 data'!$I$23/'A22 data'!$I$20*100),"...") | E22: =IFERROR(IF('A22 data'!$N$23="","...",'A22 data'!$N$23/'A22 data'!$N$20*100),"...") | F22: =IFERROR(IF('A22 data'!$P$23="","...",'A22 data'!$P$23/'A22 data'!$P$20*100),"...") | G22: =IF(OR('A22 data'!$P$23="",'A22 data'!$N$23=""),"...",IFERROR((('A22 data'!$P$23/'A22 data'!$N$23)^(1/2)-1)*100,"...")) | H22: =IF(OR('A22 data'!$N$23="",'A22 data'!$M$23=""),"...",IFERROR(('A22 data'!$N$23/'A22 data'!$M$23-1)*100,"...")) | I22: =IF(OR('A22 data'!$O$23="",'A22 data'!$N$23=""),"...",IFERROR(('A22 data'!$O$23/'A22 data'!$N$23-1)*100,"...")) | J22: =IF(OR('A22 data'!$P$23="",'A22 data'!$O$23=""),"...",IFERROR(('A22 data'!$P$23/'A22 data'!$O$23-1)*100,"..."))
A23: United States of America | B23: =IF('A22 data'!$P$24="","...",'A22 data'!$P$24/1000) | C23: =IFERROR(IF('A22 data'!$D$24="","...",'A22 data'!$D$24/'A22 data'!$D$20*100),"...") | D23: =IFERROR(IF('A22 data'!$I$24="","...",'A22 data'!$I$24/'A22 data'!$I$20*100),"...") | E23: =IFERROR(IF('A22 data'!$N$24="","...",'A22 data'!$N$24/'A22 data'!$N$20*100),"...") | F23: =IFERROR(IF('A22 data'!$P$24="","...",'A22 data'!$P$24/'A22 data'!$P$20*100),"...") | G23: =IF(OR('A22 data'!$P$24="",'A22 data'!$N$24=""),"...",IFERROR((('A22 data'!$P$24/'A22 data'!$N$24)^(1/2)-1)*100,"...")) | H23: =IF(OR('A22 data'!$N$24="",'A22 data'!$M$24=""),"...",IFERROR(('A22 data'!$N$24/'A22 data'!$M$24-1)*100,"...")) | I23: =IF(OR('A22 data'!$O$24="",'A22 data'!$N$24=""),"...",IFERROR(('A22 data'!$O$24/'A22 data'!$N$24-1)*100,"...")) | J23: =IF(OR('A22 data'!$P$24="",'A22 data'!$O$24=""),"...",IFERROR(('A22 data'!$P$24/'A22 data'!$O$24-1)*100,"..."))
A24: China | B24: =IF('A22 data'!$P$25="","...",'A22 data'!$P$25/1000) | C24: =IFERROR(IF('A22 data'!$D$25="","...",'A22 data'!$D$25/'A22 data'!$D$20*100),"...") | D24: =IFERROR(IF('A22 data'!$I$25="","...",'A22 data'!$I$25/'A22 data'!$I$20*100),"...") | E24: =IFERROR(IF('A22 data'!$N$25="","...",'A22 data'!$N$25/'A22 data'!$N$20*100),"...") | F24: =IFERROR(IF('A22 data'!$P$25="","...",'A22 data'!$P$25/'A22 data'!$P$20*100),"...") | G24: =IF(OR('A22 data'!$P$25="",'A22 data'!$N$25=""),"...",IFERROR((('A22 data'!$P$25/'A22 data'!$N$25)^(1/2)-1)*100,"...")) | H24: =IF(OR('A22 data'!$N$25="",'A22 data'!$M$25=""),"...",IFERROR(('A22 data'!$N$25/'A22 data'!$M$25-1)*100,"...")) | I24: =IF(OR('A22 data'!$O$25="",'A22 data'!$N$25=""),"...",IFERROR(('A22 data'!$O$25/'A22 data'!$N$25-1)*100,"...")) | J24: =IF(OR('A22 data'!$P$25="",'A22 data'!$O$25=""),"...",IFERROR(('A22 data'!$P$25/'A22 data'!$O$25-1)*100,"..."))
A25: Japan | B25: =IF('A22 data'!$P$26="","...",'A22 data'!$P$26/1000) | C25: =IFERROR(IF('A22 data'!$D$26="","...",'A22 data'!$D$26/'A22 data'!$D$20*100),"...") | D25: =IFERROR(IF('A22 data'!$I$26="","...",'A22 data'!$I$26/'A22 data'!$I$20*100),"...") | E25: =IFERROR(IF('A22 data'!$N$26="","...",'A22 data'!$N$26/'A22 data'!$N$20*100),"...") | F25: =IFERROR(IF('A22 data'!$P$26="","...",'A22 data'!$P$26/'A22 data'!$P$20*100),"...") | G25: =IF(OR('A22 data'!$P$26="",'A22 data'!$N$26=""),"...",IFERROR((('A22 data'!$P$26/'A22 data'!$N$26)^(1/2)-1)*100,"...")) | H25: =IF(OR('A22 data'!$N$26="",'A22 data'!$M$26=""),"...",IFERROR(('A22 data'!$N$26/'A22 data'!$M$26-1)*100,"...")) | I25: =IF(OR('A22 data'!$O$26="",'A22 data'!$N$26=""),"...",IFERROR(('A22 data'!$O$26/'A22 data'!$N$26-1)*100,"...")) | J25: =IF(OR('A22 data'!$P$26="",'A22 data'!$O$26=""),"...",IFERROR(('A22 data'!$P$26/'A22 data'!$O$26-1)*100,"..."))
A26: Korea, Republic of | B26: =IF('A22 data'!$P$27="","...",'A22 data'!$P$27/1000) | C26: =IFERROR(IF('A22 data'!$D$27="","...",'A22 data'!$D$27/'A22 data'!$D$20*100),"...") | D26: =IFERROR(IF('A22 data'!$I$27="","...",'A22 data'!$I$27/'A22 data'!$I$20*100),"...") | E26: =IFERROR(IF('A22 data'!$N$27="","...",'A22 data'!$N$27/'A22 data'!$N$20*100),"...") | F26: =IFERROR(IF('A22 data'!$P$27="","...",'A22 data'!$P$27/'A22 data'!$P$20*100),"...") | G26: =IF(OR('A22 data'!$P$27="",'A22 data'!$N$27=""),"...",IFERROR((('A22 data'!$P$27/'A22 data'!$N$27)^(1/2)-1)*100,"...")) | H26: =IF(OR('A22 data'!$N$27="",'A22 data'!$M$27=""),"...",IFERROR(('A22 data'!$N$27/'A22 data'!$M$27-1)*100,"...")) | I26: =IF(OR('A22 data'!$O$27="",'A22 data'!$N$27=""),"...",IFERROR(('A22 data'!$O$27/'A22 data'!$N$27-1)*100,"...")) | J26: =IF(OR('A22 data'!$P$27="",'A22 data'!$O$27=""),"...",IFERROR(('A22 data'!$P$27/'A22 data'!$O$27-1)*100,"..."))
A27: Canada | B27: =IF('A22 data'!$P$28="","...",'A22 data'!$P$28/1000) | C27: =IFERROR(IF('A22 data'!$D$28="","...",'A22 data'!$D$28/'A22 data'!$D$20*100),"...") | D27: =IFERROR(IF('A22 data'!$I$28="","...",'A22 data'!$I$28/'A22 data'!$I$20*100),"...") | E27: =IFERROR(IF('A22 data'!$N$28="","...",'A22 data'!$N$28/'A22 data'!$N$20*100),"...") | F27: =IFERROR(IF('A22 data'!$P$28="","...",'A22 data'!$P$28/'A22 data'!$P$20*100),"...") | G27: =IF(OR('A22 data'!$P$28="",'A22 data'!$N$28=""),"...",IFERROR((('A22 data'!$P$28/'A22 data'!$N$28)^(1/2)-1)*100,"...")) | H27: =IF(OR('A22 data'!$N$28="",'A22 data'!$M$28=""),"...",IFERROR(('A22 data'!$N$28/'A22 data'!$M$28-1)*100,"...")) | I27: =IF(OR('A22 data'!$O$28="",'A22 data'!$N$28=""),"...",IFERROR(('A22 data'!$O$28/'A22 data'!$N$28-1)*100,"...")) | J27: =IF(OR('A22 data'!$P$28="",'A22 data'!$O$28=""),"...",IFERROR(('A22 data'!$P$28/'A22 data'!$O$28-1)*100,"..."))
A28: Singapore | B28: =IF('A22 data'!$P$29="","...",'A22 data'!$P$29/1000) | C28: =IFERROR(IF('A22 data'!$D$29="","...",'A22 data'!$D$29/'A22 data'!$D$20*100),"...") | D28: =IFERROR(IF('A22 data'!$I$29="","...",'A22 data'!$I$29/'A22 data'!$I$20*100),"...") | E28: =IFERROR(IF('A22 data'!$N$29="","...",'A22 data'!$N$29/'A22 data'!$N$20*100),"...") | F28: =IFERROR(IF('A22 data'!$P$29="","...",'A22 data'!$P$29/'A22 data'!$P$20*100),"...") | G28: =IF(OR('A22 data'!$P$29="",'A22 data'!$N$29=""),"...",IFERROR((('A22 data'!$P$29/'A22 data'!$N$29)^(1/2)-1)*100,"...")) | H28: =IF(OR('A22 data'!$N$29="",'A22 data'!$M$29=""),"...",IFERROR(('A22 data'!$N$29/'A22 data'!$M$29-1)*100,"...")) | I28: =IF(OR('A22 data'!$O$29="",'A22 data'!$N$29=""),"...",IFERROR(('A22 data'!$O$29/'A22 data'!$N$29-1)*100,"...")) | J28: =IF(OR('A22 data'!$P$29="",'A22 data'!$O$29=""),"...",IFERROR(('A22 data'!$P$29/'A22 data'!$O$29-1)*100,"..."))
A29: Austria | B29: =IF('A22 data'!$P$30="","...",'A22 data'!$P$30/1000) | C29: =IFERROR(IF('A22 data'!$D$30="","...",'A22 data'!$D$30/'A22 data'!$D$20*100),"...") | D29: =IFERROR(IF('A22 data'!$I$30="","...",'A22 data'!$I$30/'A22 data'!$I$20*100),"...") | E29: =IFERROR(IF('A22 data'!$N$30="","...",'A22 data'!$N$30/'A22 data'!$N$20*100),"...") | F29: =IFERROR(IF('A22 data'!$P$30="","...",'A22 data'!$P$30/'A22 data'!$P$20*100),"...") | G29: =IF(OR('A22 data'!$P$30="",'A22 data'!$N$30=""),"...",IFERROR((('A22 data'!$P$30/'A22 data'!$N$30)^(1/2)-1)*100,"...")) | H29: =IF(OR('A22 data'!$N$30="",'A22 data'!$M$30=""),"...",IFERROR(('A22 data'!$N$30/'A22 data'!$M$30-1)*100,"...")) | I29: =IF(OR('A22 data'!$O$30="",'A22 data'!$N$30=""),"...",IFERROR(('A22 data'!$O$30/'A22 data'!$N$30-1)*100,"...")) | J29: =IF(OR('A22 data'!$P$30="",'A22 data'!$O$30=""),"...",IFERROR(('A22 data'!$P$30/'A22 data'!$O$30-1)*100,"..."))
A30: Switzerland | B30: =IF('A22 data'!$P$31="","...",'A22 data'!$P$31/1000) | C30: =IFERROR(IF('A22 data'!$D$31="","...",'A22 data'!$D$31/'A22 data'!$D$20*100),"...") | D30: =IFERROR(IF('A22 data'!$I$31="","...",'A22 data'!$I$31/'A22 data'!$I$20*100),"...") | E30: =IFERROR(IF('A22 data'!$N$31="","...",'A22 data'!$N$31/'A22 data'!$N$20*100),"...") | F30: =IFERROR(IF('A22 data'!$P$31="","...",'A22 data'!$P$31/'A22 data'!$P$20*100),"...") | G30: =IF(OR('A22 data'!$P$31="",'A22 data'!$N$31=""),"...",IFERROR((('A22 data'!$P$31/'A22 data'!$N$31)^(1/2)-1)*100,"...")) | H30: =IF(OR('A22 data'!$N$31="",'A22 data'!$M$31=""),"...",IFERROR(('A22 data'!$N$31/'A22 data'!$M$31-1)*100,"...")) | I30: =IF(OR('A22 data'!$O$31="",'A22 data'!$N$31=""),"...",IFERROR(('A22 data'!$O$31/'A22 data'!$N$31-1)*100,"...")) | J30: =IF(OR('A22 data'!$P$31="",'A22 data'!$O$31=""),"...",IFERROR(('A22 data'!$P$31/'A22 data'!$O$31-1)*100,"..."))
A31: Above 10 | B31: =IFERROR(B20+B22+B23+B24+B25+B26+B27+B28+B29+B30,"...") | C31: =IFERROR(C20+C22+C23+C24+C25+C26+C27+C28+C29+C30,"...") | D31: =IFERROR(D20+D22+D23+D24+D25+D26+D27+D28+D29+D30,"...") | E31: =IFERROR(E20+E22+E23+E24+E25+E26+E27+E28+E29+E30,"...") | F31: =IFERROR(F20+F22+F23+F24+F25+F26+F27+F28+F29+F30,"...") | G31: - | H31: - | I31: - | J31: -
A33: Notes
A34: The EU is ranked as one economy; its member states are not ranked. Extra-EU (the EU's trade with non-members) is shown beneath it and is not ranked.
A35: Before 2000 the EU figure is added up from the member states of each year (EC-9 in 1980, EC-10 in 1981-1985, EC-12 in 1986-1994, EU-15 in 1995-1999), the United Kingdom included; economies that joined later are ranked on their own. Extra-EU cannot be added up and shows "...". If a member state has no data for a year, the EU shows "...".
A36: EU changes and growth rates before 2000 compare the same member states in both years: those of the later year, added up for the earlier year too (for example, the change for 1995 is the EU-15 in 1995 against the same 15 in 1994), so they do not count an enlargement as growth. EU values and shares are for the members of each year.
A37: Where a former economy and its successor both report for the same year (for example West Germany and Germany), the former economy is ranked and the successor is not, so the same trade is not counted twice.
A38: Economies ranked in 1992: 97 exporters, 98 importers.
A39: "Above 10" is the sum of the ten ranked economies. "..." means not available.
A40: WTO publishes no world total for textiles exports in 1985, so the shares for that year show "...".
A41: Shares are of world textiles exports or imports. 1990-92 is the compound annual rate of change.
A42: Figures for every year are as WTO published them on 2026-09-29; WTO revises past figures, so they can differ from the printed review.
...

Sheet A23 clothing
A1: Table A23, 1993 edition (trade data for 1992)
A2: Top 10 exporters and importers of clothing, 1992
A3: (Billion dollars and percentage)
A5: Economy | B5: Value 1992 (US$ bn) | C5: Share 1980 (%) | D5: Share 1985 (%) | E5: Share 1990 (%) | F5: Share 1992 (%) | G5: Change 1990-92 (% p.a.) | H5: Change 1990 (%) | I5: Change 1991 (%) | J5: Change 1992 (%)
A6: Exporters
A7: European Union (EC-12, added up) | B7: =IF('A23 data'!$P$5="","...",'A23 data'!$P$5/1000) | C7: =IFERROR(IF('A23 data'!$D$5="","...",'A23 data'!$D$5/'A23 data'!$D$4*100),"...") | D7: =IFERROR(IF('A23 data'!$I$5="","...",'A23 data'!$I$5/'A23 data'!$I$4*100),"...") | E7: =IFERROR(IF('A23 data'!$N$5="","...",'A23 data'!$N$5/'A23 data'!$N$4*100),"...") | F7: =IFERROR(IF('A23 data'!$P$5="","...",'A23 data'!$P$5/'A23 data'!$P$4*100),"...") | G7: =IF(OR('A23 data'!$P$19="",'A23 data'!$N$19=""),"...",IFERROR((('A23 data'!$P$19/'A23 data'!$N$19)^(1/2)-1)*100,"...")) | H7: =IF(OR('A23 data'!$N$16="",'A23 data'!$M$16=""),"...",IFERROR(('A23 data'!$N$16/'A23 data'!$M$16-1)*100,"...")) | I7: =IF(OR('A23 data'!$O$17="",'A23 data'!$N$17=""),"...",IFERROR(('A23 data'!$O$17/'A23 data'!$N$17-1)*100,"...")) | J7: =IF(OR('A23 data'!$P$18="",'A23 data'!$O$18=""),"...",IFERROR(('A23 data'!$P$18/'A23 data'!$O$18-1)*100,"..."))
A8: Extra-EU | B8: =IF('A23 data'!$P$6="","...",'A23 data'!$P$6/1000) | C8: =IFERROR(IF('A23 data'!$D$6="","...",'A23 data'!$D$6/'A23 data'!$D$4*100),"...") | D8: =IFERROR(IF('A23 data'!$I$6="","...",'A23 data'!$I$6/'A23 data'!$I$4*100),"...") | E8: =IFERROR(IF('A23 data'!$N$6="","...",'A23 data'!$N$6/'A23 data'!$N$4*100),"...") | F8: =IFERROR(IF('A23 data'!$P$6="","...",'A23 data'!$P$6/'A23 data'!$P$4*100),"...") | G8: =IF(OR('A23 data'!$P$6="",'A23 data'!$N$6=""),"...",IFERROR((('A23 data'!$P$6/'A23 data'!$N$6)^(1/2)-1)*100,"...")) | H8: =IF(OR('A23 data'!$N$6="",'A23 data'!$M$6=""),"...",IFERROR(('A23 data'!$N$6/'A23 data'!$M$6-1)*100,"...")) | I8: =IF(OR('A23 data'!$O$6="",'A23 data'!$N$6=""),"...",IFERROR(('A23 data'!$O$6/'A23 data'!$N$6-1)*100,"...")) | J8: =IF(OR('A23 data'!$P$6="",'A23 data'!$O$6=""),"...",IFERROR(('A23 data'!$P$6/'A23 data'!$O$6-1)*100,"..."))
A9: Hong Kong, China | B9: =IF('A23 data'!$P$7="","...",'A23 data'!$P$7/1000) | C9: =IFERROR(IF('A23 data'!$D$7="","...",'A23 data'!$D$7/'A23 data'!$D$4*100),"...") | D9: =IFERROR(IF('A23 data'!$I$7="","...",'A23 data'!$I$7/'A23 data'!$I$4*100),"...") | E9: =IFERROR(IF('A23 data'!$N$7="","...",'A23 data'!$N$7/'A23 data'!$N$4*100),"...") | F9: =IFERROR(IF('A23 data'!$P$7="","...",'A23 data'!$P$7/'A23 data'!$P$4*100),"...") | G9: =IF(OR('A23 data'!$P$7="",'A23 data'!$N$7=""),"...",IFERROR((('A23 data'!$P$7/'A23 data'!$N$7)^(1/2)-1)*100,"...")) | H9: =IF(OR('A23 data'!$N$7="",'A23 data'!$M$7=""),"...",IFERROR(('A23 data'!$N$7/'A23 data'!$M$7-1)*100,"...")) | I9: =IF(OR('A23 data'!$O$7="",'A23 data'!$N$7=""),"...",IFERROR(('A23 data'!$O$7/'A23 data'!$N$7-1)*100,"...")) | J9: =IF(OR('A23 data'!$P$7="",'A23 data'!$O$7=""),"...",IFERROR(('A23 data'!$P$7/'A23 data'!$O$7-1)*100,"..."))
A10: China | B10: =IF('A23 data'!$P$8="","...",'A23 data'!$P$8/1000) | C10: =IFERROR(IF('A23 data'!$D$8="","...",'A23 data'!$D$8/'A23 data'!$D$4*100),"...") | D10: =IFERROR(IF('A23 data'!$I$8="","...",'A23 data'!$I$8/'A23 data'!$I$4*100),"...") | E10: =IFERROR(IF('A23 data'!$N$8="","...",'A23 data'!$N$8/'A23 data'!$N$4*100),"...") | F10: =IFERROR(IF('A23 data'!$P$8="","...",'A23 data'!$P$8/'A23 data'!$P$4*100),"...") | G10: =IF(OR('A23 data'!$P$8="",'A23 data'!$N$8=""),"...",IFERROR((('A23 data'!$P$8/'A23 data'!$N$8)^(1/2)-1)*100,"...")) | H10: =IF(OR('A23 data'!$N$8="",'A23 data'!$M$8=""),"...",IFERROR(('A23 data'!$N$8/'A23 data'!$M$8-1)*100,"...")) | I10: =IF(OR('A23 data'!$O$8="",'A23 data'!$N$8=""),"...",IFERROR(('A23 data'!$O$8/'A23 data'!$N$8-1)*100,"...")) | J10: =IF(OR('A23 data'!$P$8="",'A23 data'!$O$8=""),"...",IFERROR(('A23 data'!$P$8/'A23 data'!$O$8-1)*100,"..."))
A11: Korea, Republic of | B11: =IF('A23 data'!$P$9="","...",'A23 data'!$P$9/1000) | C11: =IFERROR(IF('A23 data'!$D$9="","...",'A23 data'!$D$9/'A23 data'!$D$4*100),"...") | D11: =IFERROR(IF('A23 data'!$I$9="","...",'A23 data'!$I$9/'A23 data'!$I$4*100),"...") | E11: =IFERROR(IF('A23 data'!$N$9="","...",'A23 data'!$N$9/'A23 data'!$N$4*100),"...") | F11: =IFERROR(IF('A23 data'!$P$9="","...",'A23 data'!$P$9/'A23 data'!$P$4*100),"...") | G11: =IF(OR('A23 data'!$P$9="",'A23 data'!$N$9=""),"...",IFERROR((('A23 data'!$P$9/'A23 data'!$N$9)^(1/2)-1)*100,"...")) | H11: =IF(OR('A23 data'!$N$9="",'A23 data'!$M$9=""),"...",IFERROR(('A23 data'!$N$9/'A23 data'!$M$9-1)*100,"...")) | I11: =IF(OR('A23 data'!$O$9="",'A23 data'!$N$9=""),"...",IFERROR(('A23 data'!$O$9/'A23 data'!$N$9-1)*100,"...")) | J11: =IF(OR('A23 data'!$P$9="",'A23 data'!$O$9=""),"...",IFERROR(('A23 data'!$P$9/'A23 data'!$O$9-1)*100,"..."))
A12: United States of America | B12: =IF('A23 data'!$P$10="","...",'A23 data'!$P$10/1000) | C12: =IFERROR(IF('A23 data'!$D$10="","...",'A23 data'!$D$10/'A23 data'!$D$4*100),"...") | D12: =IFERROR(IF('A23 data'!$I$10="","...",'A23 data'!$I$10/'A23 data'!$I$4*100),"...") | E12: =IFERROR(IF('A23 data'!$N$10="","...",'A23 data'!$N$10/'A23 data'!$N$4*100),"...") | F12: =IFERROR(IF('A23 data'!$P$10="","...",'A23 data'!$P$10/'A23 data'!$P$4*100),"...") | G12: =IF(OR('A23 data'!$P$10="",'A23 data'!$N$10=""),"...",IFERROR((('A23 data'!$P$10/'A23 data'!$N$10)^(1/2)-1)*100,"...")) | H12: =IF(OR('A23 data'!$N$10="",'A23 data'!$M$10=""),"...",IFERROR(('A23 data'!$N$10/'A23 data'!$M$10-1)*100,"...")) | I12: =IF(OR('A23 data'!$O$10="",'A23 data'!$N$10=""),"...",IFERROR(('A23 data'!$O$10/'A23 data'!$N$10-1)*100,"...")) | J12: =IF(OR('A23 data'!$P$10="",'A23 data'!$O$10=""),"...",IFERROR(('A23 data'!$P$10/'A23 data'!$O$10-1)*100,"..."))
A13: Türkiye | B13: =IF('A23 data'!$P$11="","...",'A23 data'!$P$11/1000) | C13: =IFERROR(IF('A23 data'!$D$11="","...",'A23 data'!$D$11/'A23 data'!$D$4*100),"...") | D13: =IFERROR(IF('A23 data'!$I$11="","...",'A23 data'!$I$11/'A23 data'!$I$4*100),"...") | E13: =IFERROR(IF('A23 data'!$N$11="","...",'A23 data'!$N$11/'A23 data'!$N$4*100),"...") | F13: =IFERROR(IF('A23 data'!$P$11="","...",'A23 data'!$P$11/'A23 data'!$P$4*100),"...") | G13: =IF(OR('A23 data'!$P$11="",'A23 data'!$N$11=""),"...",IFERROR((('A23 data'!$P$11/'A23 data'!$N$11)^(1/2)-1)*100,"...")) | H13: =IF(OR('A23 data'!$N$11="",'A23 data'!$M$11=""),"...",IFERROR(('A23 data'!$N$11/'A23 data'!$M$11-1)*100,"...")) | I13: =IF(OR('A23 data'!$O$11="",'A23 data'!$N$11=""),"...",IFERROR(('A23 data'!$O$11/'A23 data'!$N$11-1)*100,"...")) | J13: =IF(OR('A23 data'!$P$11="",'A23 data'!$O$11=""),"...",IFERROR(('A23 data'!$P$11/'A23 data'!$O$11-1)*100,"..."))
A14: Chinese Taipei | B14: =IF('A23 data'!$P$12="","...",'A23 data'!$P$12/1000) | C14: =IFERROR(IF('A23 data'!$D$12="","...",'A23 data'!$D$12/'A23 data'!$D$4*100),"...") | D14: =IFERROR(IF('A23 data'!$I$12="","...",'A23 data'!$I$12/'A23 data'!$I$4*100),"...") | E14: =IFERROR(IF('A23 data'!$N$12="","...",'A23 data'!$N$12/'A23 data'!$N$4*100),"...") | F14: =IFERROR(IF('A23 data'!$P$12="","...",'A23 data'!$P$12/'A23 data'!$P$4*100),"...") | G14: =IF(OR('A23 data'!$P$12="",'A23 data'!$N$12=""),"...",IFERROR((('A23 data'!$P$12/'A23 data'!$N$12)^(1/2)-1)*100,"...")) | H14: =IF(OR('A23 data'!$N$12="",'A23 data'!$M$12=""),"...",IFERROR(('A23 data'!$N$12/'A23 data'!$M$12-1)*100,"...")) | I14: =IF(OR('A23 data'!$O$12="",'A23 data'!$N$12=""),"...",IFERROR(('A23 data'!$O$12/'A23 data'!$N$12-1)*100,"...")) | J14: =IF(OR('A23 data'!$P$12="",'A23 data'!$O$12=""),"...",IFERROR(('A23 data'!$P$12/'A23 data'!$O$12-1)*100,"..."))
A15: Thailand | B15: =IF('A23 data'!$P$13="","...",'A23 data'!$P$13/1000) | C15: =IFERROR(IF('A23 data'!$D$13="","...",'A23 data'!$D$13/'A23 data'!$D$4*100),"...") | D15: =IFERROR(IF('A23 data'!$I$13="","...",'A23 data'!$I$13/'A23 data'!$I$4*100),"...") | E15: =IFERROR(IF('A23 data'!$N$13="","...",'A23 data'!$N$13/'A23 data'!$N$4*100),"...") | F15: =IFERROR(IF('A23 data'!$P$13="","...",'A23 data'!$P$13/'A23 data'!$P$4*100),"...") | G15: =IF(OR('A23 data'!$P$13="",'A23 data'!$N$13=""),"...",IFERROR((('A23 data'!$P$13/'A23 data'!$N$13)^(1/2)-1)*100,"...")) | H15: =IF(OR('A23 data'!$N$13="",'A23 data'!$M$13=""),"...",IFERROR(('A23 data'!$N$13/'A23 data'!$M$13-1)*100,"...")) | I15: =IF(OR('A23 data'!$O$13="",'A23 data'!$N$13=""),"...",IFERROR(('A23 data'!$O$13/'A23 data'!$N$13-1)*100,"...")) | J15: =IF(OR('A23 data'!$P$13="",'A23 data'!$O$13=""),"...",IFERROR(('A23 data'!$P$13/'A23 data'!$O$13-1)*100,"..."))
A16: Indonesia | B16: =IF('A23 data'!$P$14="","...",'A23 data'!$P$14/1000) | C16: =IFERROR(IF('A23 data'!$D$14="","...",'A23 data'!$D$14/'A23 data'!$D$4*100),"...") | D16: =IFERROR(IF('A23 data'!$I$14="","...",'A23 data'!$I$14/'A23 data'!$I$4*100),"...") | E16: =IFERROR(IF('A23 data'!$N$14="","...",'A23 data'!$N$14/'A23 data'!$N$4*100),"...") | F16: =IFERROR(IF('A23 data'!$P$14="","...",'A23 data'!$P$14/'A23 data'!$P$4*100),"...") | G16: =IF(OR('A23 data'!$P$14="",'A23 data'!$N$14=""),"...",IFERROR((('A23 data'!$P$14/'A23 data'!$N$14)^(1/2)-1)*100,"...")) | H16: =IF(OR('A23 data'!$N$14="",'A23 data'!$M$14=""),"...",IFERROR(('A23 data'!$N$14/'A23 data'!$M$14-1)*100,"...")) | I16: =IF(OR('A23 data'!$O$14="",'A23 data'!$N$14=""),"...",IFERROR(('A23 data'!$O$14/'A23 data'!$N$14-1)*100,"...")) | J16: =IF(OR('A23 data'!$P$14="",'A23 data'!$O$14=""),"...",IFERROR(('A23 data'!$P$14/'A23 data'!$O$14-1)*100,"..."))
A17: India | B17: =IF('A23 data'!$P$15="","...",'A23 data'!$P$15/1000) | C17: =IFERROR(IF('A23 data'!$D$15="","...",'A23 data'!$D$15/'A23 data'!$D$4*100),"...") | D17: =IFERROR(IF('A23 data'!$I$15="","...",'A23 data'!$I$15/'A23 data'!$I$4*100),"...") | E17: =IFERROR(IF('A23 data'!$N$15="","...",'A23 data'!$N$15/'A23 data'!$N$4*100),"...") | F17: =IFERROR(IF('A23 data'!$P$15="","...",'A23 data'!$P$15/'A23 data'!$P$4*100),"...") | G17: =IF(OR('A23 data'!$P$15="",'A23 data'!$N$15=""),"...",IFERROR((('A23 data'!$P$15/'A23 data'!$N$15)^(1/2)-1)*100,"...")) | H17: =IF(OR('A23 data'!$N$15="",'A23 data'!$M$15=""),"...",IFERROR(('A23 data'!$N$15/'A23 data'!$M$15-1)*100,"...")) | I17: =IF(OR('A23 data'!$O$15="",'A23 data'!$N$15=""),"...",IFERROR(('A23 data'!$O$15/'A23 data'!$N$15-1)*100,"...")) | J17: =IF(OR('A23 data'!$P$15="",'A23 data'!$O$15=""),"...",IFERROR(('A23 data'!$P$15/'A23 data'!$O$15-1)*100,"..."))
A18: Above 10 | B18: =IFERROR(B7+B9+B10+B11+B12+B13+B14+B15+B16+B17,"...") | C18: =IFERROR(C7+C9+C10+C11+C12+C13+C14+C15+C16+C17,"...") | D18: =IFERROR(D7+D9+D10+D11+D12+D13+D14+D15+D16+D17,"...") | E18: =IFERROR(E7+E9+E10+E11+E12+E13+E14+E15+E16+E17,"...") | F18: =IFERROR(F7+F9+F10+F11+F12+F13+F14+F15+F16+F17,"...") | G18: - | H18: - | I18: - | J18: -
A19: Importers
A20: European Union (EC-12, added up) | B20: =IF('A23 data'!$P$21="","...",'A23 data'!$P$21/1000) | C20: =IFERROR(IF('A23 data'!$D$21="","...",'A23 data'!$D$21/'A23 data'!$D$20*100),"...") | D20: =IFERROR(IF('A23 data'!$I$21="","...",'A23 data'!$I$21/'A23 data'!$I$20*100),"...") | E20: =IFERROR(IF('A23 data'!$N$21="","...",'A23 data'!$N$21/'A23 data'!$N$20*100),"...") | F20: =IFERROR(IF('A23 data'!$P$21="","...",'A23 data'!$P$21/'A23 data'!$P$20*100),"...") | G20: =IF(OR('A23 data'!$P$35="",'A23 data'!$N$35=""),"...",IFERROR((('A23 data'!$P$35/'A23 data'!$N$35)^(1/2)-1)*100,"...")) | H20: =IF(OR('A23 data'!$N$32="",'A23 data'!$M$32=""),"...",IFERROR(('A23 data'!$N$32/'A23 data'!$M$32-1)*100,"...")) | I20: =IF(OR('A23 data'!$O$33="",'A23 data'!$N$33=""),"...",IFERROR(('A23 data'!$O$33/'A23 data'!$N$33-1)*100,"...")) | J20: =IF(OR('A23 data'!$P$34="",'A23 data'!$O$34=""),"...",IFERROR(('A23 data'!$P$34/'A23 data'!$O$34-1)*100,"..."))
A21: Extra-EU | B21: =IF('A23 data'!$P$22="","...",'A23 data'!$P$22/1000) | C21: =IFERROR(IF('A23 data'!$D$22="","...",'A23 data'!$D$22/'A23 data'!$D$20*100),"...") | D21: =IFERROR(IF('A23 data'!$I$22="","...",'A23 data'!$I$22/'A23 data'!$I$20*100),"...") | E21: =IFERROR(IF('A23 data'!$N$22="","...",'A23 data'!$N$22/'A23 data'!$N$20*100),"...") | F21: =IFERROR(IF('A23 data'!$P$22="","...",'A23 data'!$P$22/'A23 data'!$P$20*100),"...") | G21: =IF(OR('A23 data'!$P$22="",'A23 data'!$N$22=""),"...",IFERROR((('A23 data'!$P$22/'A23 data'!$N$22)^(1/2)-1)*100,"...")) | H21: =IF(OR('A23 data'!$N$22="",'A23 data'!$M$22=""),"...",IFERROR(('A23 data'!$N$22/'A23 data'!$M$22-1)*100,"...")) | I21: =IF(OR('A23 data'!$O$22="",'A23 data'!$N$22=""),"...",IFERROR(('A23 data'!$O$22/'A23 data'!$N$22-1)*100,"...")) | J21: =IF(OR('A23 data'!$P$22="",'A23 data'!$O$22=""),"...",IFERROR(('A23 data'!$P$22/'A23 data'!$O$22-1)*100,"..."))
A22: United States of America | B22: =IF('A23 data'!$P$23="","...",'A23 data'!$P$23/1000) | C22: =IFERROR(IF('A23 data'!$D$23="","...",'A23 data'!$D$23/'A23 data'!$D$20*100),"...") | D22: =IFERROR(IF('A23 data'!$I$23="","...",'A23 data'!$I$23/'A23 data'!$I$20*100),"...") | E22: =IFERROR(IF('A23 data'!$N$23="","...",'A23 data'!$N$23/'A23 data'!$N$20*100),"...") | F22: =IFERROR(IF('A23 data'!$P$23="","...",'A23 data'!$P$23/'A23 data'!$P$20*100),"...") | G22: =IF(OR('A23 data'!$P$23="",'A23 data'!$N$23=""),"...",IFERROR((('A23 data'!$P$23/'A23 data'!$N$23)^(1/2)-1)*100,"...")) | H22: =IF(OR('A23 data'!$N$23="",'A23 data'!$M$23=""),"...",IFERROR(('A23 data'!$N$23/'A23 data'!$M$23-1)*100,"...")) | I22: =IF(OR('A23 data'!$O$23="",'A23 data'!$N$23=""),"...",IFERROR(('A23 data'!$O$23/'A23 data'!$N$23-1)*100,"...")) | J22: =IF(OR('A23 data'!$P$23="",'A23 data'!$O$23=""),"...",IFERROR(('A23 data'!$P$23/'A23 data'!$O$23-1)*100,"..."))
A23: Japan | B23: =IF('A23 data'!$P$24="","...",'A23 data'!$P$24/1000) | C23: =IFERROR(IF('A23 data'!$D$24="","...",'A23 data'!$D$24/'A23 data'!$D$20*100),"...") | D23: =IFERROR(IF('A23 data'!$I$24="","...",'A23 data'!$I$24/'A23 data'!$I$20*100),"...") | E23: =IFERROR(IF('A23 data'!$N$24="","...",'A23 data'!$N$24/'A23 data'!$N$20*100),"...") | F23: =IFERROR(IF('A23 data'!$P$24="","...",'A23 data'!$P$24/'A23 data'!$P$20*100),"...") | G23: =IF(OR('A23 data'!$P$24="",'A23 data'!$N$24=""),"...",IFERROR((('A23 data'!$P$24/'A23 data'!$N$24)^(1/2)-1)*100,"...")) | H23: =IF(OR('A23 data'!$N$24="",'A23 data'!$M$24=""),"...",IFERROR(('A23 data'!$N$24/'A23 data'!$M$24-1)*100,"...")) | I23: =IF(OR('A23 data'!$O$24="",'A23 data'!$N$24=""),"...",IFERROR(('A23 data'!$O$24/'A23 data'!$N$24-1)*100,"...")) | J23: =IF(OR('A23 data'!$P$24="",'A23 data'!$O$24=""),"...",IFERROR(('A23 data'!$P$24/'A23 data'!$O$24-1)*100,"..."))
A24: Hong Kong, China | B24: =IF('A23 data'!$P$25="","...",'A23 data'!$P$25/1000) | C24: =IFERROR(IF('A23 data'!$D$25="","...",'A23 data'!$D$25/'A23 data'!$D$20*100),"...") | D24: =IFERROR(IF('A23 data'!$I$25="","...",'A23 data'!$I$25/'A23 data'!$I$20*100),"...") | E24: =IFERROR(IF('A23 data'!$N$25="","...",'A23 data'!$N$25/'A23 data'!$N$20*100),"...") | F24: =IFERROR(IF('A23 data'!$P$25="","...",'A23 data'!$P$25/'A23 data'!$P$20*100),"...") | G24: =IF(OR('A23 data'!$P$25="",'A23 data'!$N$25=""),"...",IFERROR((('A23 data'!$P$25/'A23 data'!$N$25)^(1/2)-1)*100,"...")) | H24: =IF(OR('A23 data'!$N$25="",'A23 data'!$M$25=""),"...",IFERROR(('A23 data'!$N$25/'A23 data'!$M$25-1)*100,"...")) | I24: =IF(OR('A23 data'!$O$25="",'A23 data'!$N$25=""),"...",IFERROR(('A23 data'!$O$25/'A23 data'!$N$25-1)*100,"...")) | J24: =IF(OR('A23 data'!$P$25="",'A23 data'!$O$25=""),"...",IFERROR(('A23 data'!$P$25/'A23 data'!$O$25-1)*100,"..."))
A25: Switzerland | B25: =IF('A23 data'!$P$26="","...",'A23 data'!$P$26/1000) | C25: =IFERROR(IF('A23 data'!$D$26="","...",'A23 data'!$D$26/'A23 data'!$D$20*100),"...") | D25: =IFERROR(IF('A23 data'!$I$26="","...",'A23 data'!$I$26/'A23 data'!$I$20*100),"...") | E25: =IFERROR(IF('A23 data'!$N$26="","...",'A23 data'!$N$26/'A23 data'!$N$20*100),"...") | F25: =IFERROR(IF('A23 data'!$P$26="","...",'A23 data'!$P$26/'A23 data'!$P$20*100),"...") | G25: =IF(OR('A23 data'!$P$26="",'A23 data'!$N$26=""),"...",IFERROR((('A23 data'!$P$26/'A23 data'!$N$26)^(1/2)-1)*100,"...")) | H25: =IF(OR('A23 data'!$N$26="",'A23 data'!$M$26=""),"...",IFERROR(('A23 data'!$N$26/'A23 data'!$M$26-1)*100,"...")) | I25: =IF(OR('A23 data'!$O$26="",'A23 data'!$N$26=""),"...",IFERROR(('A23 data'!$O$26/'A23 data'!$N$26-1)*100,"...")) | J25: =IF(OR('A23 data'!$P$26="",'A23 data'!$O$26=""),"...",IFERROR(('A23 data'!$P$26/'A23 data'!$O$26-1)*100,"..."))
A26: Austria | B26: =IF('A23 data'!$P$27="","...",'A23 data'!$P$27/1000) | C26: =IFERROR(IF('A23 data'!$D$27="","...",'A23 data'!$D$27/'A23 data'!$D$20*100),"...") | D26: =IFERROR(IF('A23 data'!$I$27="","...",'A23 data'!$I$27/'A23 data'!$I$20*100),"...") | E26: =IFERROR(IF('A23 data'!$N$27="","...",'A23 data'!$N$27/'A23 data'!$N$20*100),"...") | F26: =IFERROR(IF('A23 data'!$P$27="","...",'A23 data'!$P$27/'A23 data'!$P$20*100),"...") | G26: =IF(OR('A23 data'!$P$27="",'A23 data'!$N$27=""),"...",IFERROR((('A23 data'!$P$27/'A23 data'!$N$27)^(1/2)-1)*100,"...")) | H26: =IF(OR('A23 data'!$N$27="",'A23 data'!$M$27=""),"...",IFERROR(('A23 data'!$N$27/'A23 data'!$M$27-1)*100,"...")) | I26: =IF(OR('A23 data'!$O$27="",'A23 data'!$N$27=""),"...",IFERROR(('A23 data'!$O$27/'A23 data'!$N$27-1)*100,"...")) | J26: =IF(OR('A23 data'!$P$27="",'A23 data'!$O$27=""),"...",IFERROR(('A23 data'!$P$27/'A23 data'!$O$27-1)*100,"..."))
A27: Sweden | B27: =IF('A23 data'!$P$28="","...",'A23 data'!$P$28/1000) | C27: =IFERROR(IF('A23 data'!$D$28="","...",'A23 data'!$D$28/'A23 data'!$D$20*100),"...") | D27: =IFERROR(IF('A23 data'!$I$28="","...",'A23 data'!$I$28/'A23 data'!$I$20*100),"...") | E27: =IFERROR(IF('A23 data'!$N$28="","...",'A23 data'!$N$28/'A23 data'!$N$20*100),"...") | F27: =IFERROR(IF('A23 data'!$P$28="","...",'A23 data'!$P$28/'A23 data'!$P$20*100),"...") | G27: =IF(OR('A23 data'!$P$28="",'A23 data'!$N$28=""),"...",IFERROR((('A23 data'!$P$28/'A23 data'!$N$28)^(1/2)-1)*100,"...")) | H27: =IF(OR('A23 data'!$N$28="",'A23 data'!$M$28=""),"...",IFERROR(('A23 data'!$N$28/'A23 data'!$M$28-1)*100,"...")) | I27: =IF(OR('A23 data'!$O$28="",'A23 data'!$N$28=""),"...",IFERROR(('A23 data'!$O$28/'A23 data'!$N$28-1)*100,"...")) | J27: =IF(OR('A23 data'!$P$28="",'A23 data'!$O$28=""),"...",IFERROR(('A23 data'!$P$28/'A23 data'!$O$28-1)*100,"..."))
A28: Canada | B28: =IF('A23 data'!$P$29="","...",'A23 data'!$P$29/1000) | C28: =IFERROR(IF('A23 data'!$D$29="","...",'A23 data'!$D$29/'A23 data'!$D$20*100),"...") | D28: =IFERROR(IF('A23 data'!$I$29="","...",'A23 data'!$I$29/'A23 data'!$I$20*100),"...") | E28: =IFERROR(IF('A23 data'!$N$29="","...",'A23 data'!$N$29/'A23 data'!$N$20*100),"...") | F28: =IFERROR(IF('A23 data'!$P$29="","...",'A23 data'!$P$29/'A23 data'!$P$20*100),"...") | G28: =IF(OR('A23 data'!$P$29="",'A23 data'!$N$29=""),"...",IFERROR((('A23 data'!$P$29/'A23 data'!$N$29)^(1/2)-1)*100,"...")) | H28: =IF(OR('A23 data'!$N$29="",'A23 data'!$M$29=""),"...",IFERROR(('A23 data'!$N$29/'A23 data'!$M$29-1)*100,"...")) | I28: =IF(OR('A23 data'!$O$29="",'A23 data'!$N$29=""),"...",IFERROR(('A23 data'!$O$29/'A23 data'!$N$29-1)*100,"...")) | J28: =IF(OR('A23 data'!$P$29="",'A23 data'!$O$29=""),"...",IFERROR(('A23 data'!$P$29/'A23 data'!$O$29-1)*100,"..."))
A29: U.S.S.R. | B29: =IF('A23 data'!$P$30="","...",'A23 data'!$P$30/1000) | C29: =IFERROR(IF('A23 data'!$D$30="","...",'A23 data'!$D$30/'A23 data'!$D$20*100),"...") | D29: =IFERROR(IF('A23 data'!$I$30="","...",'A23 data'!$I$30/'A23 data'!$I$20*100),"...") | E29: =IFERROR(IF('A23 data'!$N$30="","...",'A23 data'!$N$30/'A23 data'!$N$20*100),"...") | F29: =IFERROR(IF('A23 data'!$P$30="","...",'A23 data'!$P$30/'A23 data'!$P$20*100),"...") | G29: =IF(OR('A23 data'!$P$30="",'A23 data'!$N$30=""),"...",IFERROR((('A23 data'!$P$30/'A23 data'!$N$30)^(1/2)-1)*100,"...")) | H29: =IF(OR('A23 data'!$N$30="",'A23 data'!$M$30=""),"...",IFERROR(('A23 data'!$N$30/'A23 data'!$M$30-1)*100,"...")) | I29: =IF(OR('A23 data'!$O$30="",'A23 data'!$N$30=""),"...",IFERROR(('A23 data'!$O$30/'A23 data'!$N$30-1)*100,"...")) | J29: =IF(OR('A23 data'!$P$30="",'A23 data'!$O$30=""),"...",IFERROR(('A23 data'!$P$30/'A23 data'!$O$30-1)*100,"..."))
A30: Norway | B30: =IF('A23 data'!$P$31="","...",'A23 data'!$P$31/1000) | C30: =IFERROR(IF('A23 data'!$D$31="","...",'A23 data'!$D$31/'A23 data'!$D$20*100),"...") | D30: =IFERROR(IF('A23 data'!$I$31="","...",'A23 data'!$I$31/'A23 data'!$I$20*100),"...") | E30: =IFERROR(IF('A23 data'!$N$31="","...",'A23 data'!$N$31/'A23 data'!$N$20*100),"...") | F30: =IFERROR(IF('A23 data'!$P$31="","...",'A23 data'!$P$31/'A23 data'!$P$20*100),"...") | G30: =IF(OR('A23 data'!$P$31="",'A23 data'!$N$31=""),"...",IFERROR((('A23 data'!$P$31/'A23 data'!$N$31)^(1/2)-1)*100,"...")) | H30: =IF(OR('A23 data'!$N$31="",'A23 data'!$M$31=""),"...",IFERROR(('A23 data'!$N$31/'A23 data'!$M$31-1)*100,"...")) | I30: =IF(OR('A23 data'!$O$31="",'A23 data'!$N$31=""),"...",IFERROR(('A23 data'!$O$31/'A23 data'!$N$31-1)*100,"...")) | J30: =IF(OR('A23 data'!$P$31="",'A23 data'!$O$31=""),"...",IFERROR(('A23 data'!$P$31/'A23 data'!$O$31-1)*100,"..."))
A31: Above 10 | B31: =IFERROR(B20+B22+B23+B24+B25+B26+B27+B28+B29+B30,"...") | C31: =IFERROR(C20+C22+C23+C24+C25+C26+C27+C28+C29+C30,"...") | D31: =IFERROR(D20+D22+D23+D24+D25+D26+D27+D28+D29+D30,"...") | E31: =IFERROR(E20+E22+E23+E24+E25+E26+E27+E28+E29+E30,"...") | F31: =IFERROR(F20+F22+F23+F24+F25+F26+F27+F28+F29+F30,"...") | G31: - | H31: - | I31: - | J31: -
A33: Notes
A34: The EU is ranked as one economy; its member states are not ranked. Extra-EU (the EU's trade with non-members) is shown beneath it and is not ranked.
A35: Before 2000 the EU figure is added up from the member states of each year (EC-9 in 1980, EC-10 in 1981-1985, EC-12 in 1986-1994, EU-15 in 1995-1999), the United Kingdom included; economies that joined later are ranked on their own. Extra-EU cannot be added up and shows "...". If a member state has no data for a year, the EU shows "...".
A36: EU changes and growth rates before 2000 compare the same member states in both years: those of the later year, added up for the earlier year too (for example, the change for 1995 is the EU-15 in 1995 against the same 15 in 1994), so they do not count an enlargement as growth. EU values and shares are for the members of each year.
A37: Where a former economy and its successor both report for the same year (for example West Germany and Germany), the former economy is ranked and the successor is not, so the same trade is not counted twice.
A38: Economies ranked in 1992: 96 exporters, 98 importers.
A39: "Above 10" is the sum of the ten ranked economies. "..." means not available.
A40: WTO publishes no world total for clothing exports in 1985, so the shares for that year show "...".
A41: Shares are of world clothing exports or imports. 1990-92 is the compound annual rate of change.
A42: Figures for every year are as WTO published them on 2026-09-29; WTO revises past figures, so they can differ from the printed review.
...

Sheet A22 data
A1: Raw data for table A22 (textiles), 1993 edition (trade data for 1992), US$ million. Source: WTO Timeseries via WTO Timeseries API v1 (api.wto.org).
A2: EU: WTO's EU-27 series from 2000; before 2000 added up from the member states of each year. Extra-EU from 2000 only. Rows "members of <year>" add up the same member states in two years, for the EU's changes and growth before 2000.
A3: Flow | B3: Code | C3: Economy | D3: 1980 | E3: 1981 | F3: 1982 | G3: 1983 | H3: 1984 | I3: 1985 | J3: 1986 | K3: 1987 | L3: 1988 | M3: 1989 | N3: 1990 | O3: 1991 | P3: 1992
A4: Exporters | B4: 000 | C4: World | D4: 54990 | M4: 95950 | N4: 104354 | O4: 108925 | P4: 117195
A5: Exporters | B5: 918 | C5: European Union (EC-12, added up) | D5: 23864 | E5: 21127 | F5: 19943 | G5: 19758 | H5: 20333 | I5: 21713 | J5: 29484 | K5: 35296 | L5: 37863 | M5: 39003 | N5: 47150 | O5: 46380 | P5: 48909
A6: Exporters | B6: EUT | C6: Extra-EU
A7: Exporters | B7: 344 | C7: Hong Kong, China | D7: 1771 | E7: 2183 | F7: 1888 | G7: 2033 | H7: 2726 | I7: 3038 | J7: 3959 | K7: 5669 | L7: 6371 | M7: 7574 | N7: 8213 | O7: 9770 | P7: 10979
A8: Exporters | B8: 156 | C8: China | D8: 2540 | E8: 3390 | F8: 2735 | G8: 3270 | H8: 3825 | I8: 3680 | J8: 5440 | K8: 6485 | L8: 6975 | M8: 7215 | N8: 7219 | O8: 8014 | P8: 8583
A9: Exporters | B9: 410 | C9: Korea, Republic of | D9: 2209 | E9: 2460 | F9: 2251 | G9: 2423 | H9: 2615 | I9: 2534 | J9: 3215 | K9: 4080 | L9: 4848 | M9: 5371 | N9: 6076 | O9: 7300 | P9: 8208
A10: Exporters | B10: 158 | C10: Chinese Taipei | D10: 1771 | E10: 2022 | F10: 1748 | G10: 1803 | H10: 2169 | I10: 2490 | J10: 3045 | K10: 4087 | L10: 4545 | M10: 5442 | N10: 6128 | O10: 7335 | P10: 7554
A11: Exporters | B11: 392 | C11: Japan | D11: 5123 | E11: 5869 | F11: 5102 | G11: 5345 | H11: 5358 | I11: 4943 | J11: 5488 | K11: 5597 | L11: 5527 | M11: 5534 | N11: 5871 | O11: 6527 | P11: 7078
A12: Exporters | B12: 840 | C12: United States of America | D12: 3757 | E12: 3742 | F12: 2890 | G12: 2500 | H12: 2535 | I12: 2541 | J12: 2812 | K12: 3127 | L12: 3890 | M12: 4371 | N12: 5039 | O12: 5610 | P12: 5889
A13: Exporters | B13: 586 | C13: Pakistan | D13: 876 | E13: 976 | F13: 928 | G13: 1312 | H13: 999 | I13: 970 | J13: 1264 | K13: 1854 | L13: 1803 | M13: 2018 | N13: 2663 | O13: 3200 | P13: 3590
A14: Exporters | B14: 356 | C14: India | D14: 1306 | E14: 1168 | F14: 1064 | G14: 889 | H14: 1175 | I14: 1054 | J14: 1062 | K14: 1573 | L14: 1585 | M14: 1810 | N14: 2180 | O14: 2530 | P14: 2932
A15: Exporters | B15: 360 | C15: Indonesia | D15: 46 | E15: 36 | F15: 44 | G15: 120 | H15: 200 | I15: 240 | J15: 307 | K15: 469 | L15: 680 | M15: 828 | N15: 1241 | O15: 1755 | P15: 2837
A16: Exporters | B16: 918 | C16: European Union, members of 1990 (EC-12), 1989 and 1990 | M16: 39003 | N16: 47150
A17: Exporters | B17: 918 | C17: European Union, members of 1991 (EC-12), 1990 and 1991 | N17: 47845 | O17: 46380
A18: Exporters | B18: 918 | C18: European Union, members of 1992 (EC-12), 1991 and 1992 | O18: 46380 | P18: 48909
A19: Exporters | B19: 918 | C19: European Union, members of 1992 (EC-12), 1990 and 1992 | N19: 47845 | P19: 48909
A20: Importers | B20: 000 | C20: World | D20: 56975 | I20: 55618 | N20: 107839 | O20: 114665 | P20: 123584
A21: Importers | B21: 918 | C21: European Union (EC-12, added up) | D21: 22886 | E21: 19199 | F21: 18414 | G21: 18191 | H21: 18605 | I21: 19758 | J21: 26864 | K21: 33081 | L21: 35975 | M21: 37346 | N21: 45999 | O21: 45443 | P21: 47101
A22: Importers | B22: EUT | C22: Extra-EU
A23: Importers | B23: 344 | C23: Hong Kong, China | D23: 2967 | E23: 3428 | F23: 2970 | G23: 3278 | H23: 4178 | I23: 4281 | J23: 5418 | K23: 7304 | L23: 8007 | M23: 9218 | N23: 10182 | O23: 12068 | P23: 13091
A24: Importers | B24: 840 | C24: United States of America | D24: 2542 | E24: 3072 | F24: 2852 | G24: 3276 | H24: 4617 | I24: 4977 | J24: 5838 | K24: 6512 | L24: 6279 | M24: 6417 | N24: 6730 | O24: 7329 | P24: 8215
A25: Importers | B25: 156 | C25: China | D25: 1100 | E25: 1670 | F25: 1170 | G25: 911 | H25: 1370 | I25: 2040 | J25: 3160 | K25: 3589 | L25: 4219 | M25: 4603 | N25: 5292 | O25: 6751 | P25: 7560
A26: Importers | B26: 392 | C26: Japan | D26: 1722 | E26: 1639 | F26: 1612 | G26: 1496 | H26: 1934 | I26: 1900 | J26: 2185 | K26: 2994 | L26: 3934 | M26: 4347 | N26: 4133 | O26: 4331 | P26: 4175
A27: Importers | B27: 410 | C27: Korea, Republic of | D27: 409 | E27: 494 | F27: 501 | G27: 506 | H27: 603 | I27: 638 | J27: 926 | K27: 1408 | L27: 1590 | M27: 1835 | N27: 1947 | O27: 2430 | P27: 2556
A28: Importers | B28: 124 | C28: Canada | D28: 1306 | E28: 1413 | F28: 1138 | G28: 1406 | H28: 1570 | I28: 1618 | J28: 1789 | K28: 2005 | L28: 2176 | M28: 2357 | N28: 2325 | O28: 2425 | P28: 2504
A29: Importers | B29: 702 | C29: Singapore | D29: 853 | E29: 896 | F29: 896 | G29: 971 | H29: 948 | I29: 851 | J29: 1030 | K29: 1370 | L29: 1467 | M29: 1602 | N29: 1778 | O29: 1901 | P29: 1999
A30: Importers | B30: 040 | C30: Austria | D30: 1172 | E30: 986 | F30: 944 | G30: 909 | H30: 892 | I30: 904 | J30: 1233 | K30: 1497 | L30: 1523 | M30: 1549 | N30: 1971 | O30: 1869 | P30: 1917
A31: Importers | B31: 756 | C31: Switzerland | D31: 1191 | E31: 943 | F31: 883 | G31: 874 | H31: 896 | I31: 928 | J31: 1247 | K31: 1447 | L31: 1538 | M31: 1534 | N31: 1849 | O31: 1666 | P31: 1690
A32: Importers | B32: 918 | C32: European Union, members of 1990 (EC-12), 1989 and 1990 | M32: 37346 | N32: 45999
A33: Importers | B33: 918 | C33: European Union, members of 1991 (EC-12), 1990 and 1991 | N33: 46312 | O33: 45443
A34: Importers | B34: 918 | C34: European Union, members of 1992 (EC-12), 1991 and 1992 | O34: 45443 | P34: 47101
A35: Importers | B35: 918 | C35: European Union, members of 1992 (EC-12), 1990 and 1992 | N35: 46312 | P35: 47101

Sheet A23 data
A1: Raw data for table A23 (clothing), 1993 edition (trade data for 1992), US$ million. Source: WTO Timeseries via WTO Timeseries API v1 (api.wto.org).
A2: EU: WTO's EU-27 series from 2000; before 2000 added up from the member states of each year. Extra-EU from 2000 only. Rows "members of <year>" add up the same member states in two years, for the EU's changes and growth before 2000.
A3: Flow | B3: Code | C3: Economy | D3: 1980 | E3: 1981 | F3: 1982 | G3: 1983 | H3: 1984 | I3: 1985 | J3: 1986 | K3: 1987 | L3: 1988 | M3: 1989 | N3: 1990 | O3: 1991 | P3: 1992
A4: Exporters | B4: 000 | C4: World | D4: 40590 | M4: 97450 | N4: 108129 | O4: 117160 | P4: 132106
A5: Exporters | B5: 918 | C5: European Union (EC-12, added up) | D5: 14026 | E5: 12883 | F5: 12592 | G5: 12575 | H5: 13092 | I5: 14445 | J5: 22006 | K5: 27247 | L5: 28204 | M5: 29629 | N5: 37900 | O5: 39455 | P5: 43202
A6: Exporters | B6: EUT | C6: Extra-EU
A7: Exporters | B7: 344 | C7: Hong Kong, China | D7: 4976 | E7: 5424 | F7: 5241 | G7: 5308 | H7: 6765 | I7: 6718 | J7: 8398 | K7: 10720 | L7: 11786 | M7: 13994 | N7: 15406 | O7: 17959 | P7: 20060
A8: Exporters | B8: 156 | C8: China | D8: 1625 | E8: 1930 | F8: 2140 | G8: 2320 | H8: 2755 | I8: 2450 | J8: 4050 | K8: 5790 | L8: 6990 | M8: 8165 | N8: 9669 | O8: 12245 | P8: 16704
A9: Exporters | B9: 410 | C9: Korea, Republic of | D9: 2949 | E9: 3868 | F9: 3774 | G9: 3707 | H9: 4501 | I9: 4450 | J9: 5483 | K9: 7537 | L9: 8694 | M9: 9096 | N9: 7879 | O9: 7420 | P9: 6770
A10: Exporters | B10: 840 | C10: United States of America | D10: 1263 | E10: 1305 | F10: 1040 | G10: 928 | H10: 900 | I10: 785 | J10: 949 | K10: 1209 | L10: 1640 | M10: 2211 | N10: 2565 | O10: 3316 | P10: 4211
A11: Exporters | B11: 792 | C11: Türkiye | D11: 131 | E11: 314 | F11: 398 | G11: 648 | H11: 1267 | I11: 1208 | J11: 1245 | K11: 2197 | L11: 2352 | M11: 2741 | N11: 3331 | O11: 3478 | P11: 4179
A12: Exporters | B12: 158 | C12: Chinese Taipei | D12: 2430 | E12: 2851 | F12: 2895 | G12: 2987 | H12: 3764 | I12: 3499 | J12: 4233 | K12: 4989 | L12: 4708 | M12: 4735 | N12: 3987 | O12: 4477 | P12: 4116
A13: Exporters | B13: 764 | C13: Thailand | D13: 267 | E13: 344 | F13: 371 | G13: 409 | H13: 552 | I13: 573 | J13: 825 | K13: 1500 | L13: 1934 | M13: 2458 | N13: 2817 | O13: 3673 | P13: 3767
A14: Exporters | B14: 360 | C14: Indonesia | D14: 98 | E14: 95 | F14: 117 | G14: 157 | H14: 296 | I14: 339 | J14: 522 | K14: 596 | L14: 797 | M14: 1146 | N14: 1646 | O14: 2265 | P14: 3164
A15: Exporters | B15: 356 | C15: India | D15: 673 | E15: 755 | F15: 625 | G15: 694 | H15: 831 | I15: 930 | J15: 1061 | K15: 1402 | L15: 1508 | M15: 2060 | N15: 2530 | O15: 2527 | P15: 3099
A16: Exporters | B16: 918 | C16: European Union, members of 1990 (EC-12), 1989 and 1990 | M16: 29629 | N16: 37900
A17: Exporters | B17: 918 | C17: European Union, members of 1991 (EC-12), 1990 and 1991 | N17: 38737 | O17: 39455
A18: Exporters | B18: 918 | C18: European Union, members of 1992 (EC-12), 1991 and 1992 | O18: 39455 | P18: 43202
A19: Exporters | B19: 918 | C19: European Union, members of 1992 (EC-12), 1990 and 1992 | N19: 38737 | P19: 43202
A20: Importers | B20: 000 | C20: World | D20: 42271 | I20: 50822 | N20: 112236 | O20: 123751 | P20: 139571
A21: Importers | B21: 918 | C21: European Union (EC-12, added up) | D21: 20232 | E21: 17938 | F21: 16975 | G21: 16317 | H21: 16790 | I21: 17511 | J21: 25656 | K21: 34459 | L21: 37064 | M21: 38389 | N21: 50682 | O21: 58313 | P21: 63625
A22: Importers | B22: EUT | C22: Extra-EU
A23: Importers | B23: 840 | C23: United States of America | D23: 6943 | E23: 8118 | F23: 8791 | G23: 10418 | H23: 14598 | I23: 16201 | J23: 18692 | K23: 22116 | L23: 23061 | M23: 26026 | N23: 26977 | O23: 27696 | P23: 32951
A24: Importers | B24: 392 | C24: Japan | D24: 1537 | E24: 1813 | F24: 1844 | G24: 1511 | H24: 1962 | I24: 2012 | J24: 2878 | K24: 4674 | L24: 6739 | M24: 8972 | N24: 8765 | O24: 9392 | P24: 11191
A25: Importers | B25: 344 | C25: Hong Kong, China | D25: 695 | E25: 932 | F25: 1061 | G25: 1156 | H25: 1472 | I25: 1671 | J25: 2525 | K25: 3338 | L25: 4102 | M25: 5700 | N25: 6913 | O25: 8600 | P25: 10346
A26: Importers | B26: 756 | C26: Switzerland | D26: 1456 | E26: 1370 | F26: 1372 | G26: 1376 | H26: 1443 | I26: 1475 | J26: 2101 | K26: 2749 | L26: 2826 | M26: 2800 | N26: 3437 | O26: 3545 | P26: 3563
A27: Importers | B27: 040 | C27: Austria | D27: 941 | E27: 766 | F27: 772 | G27: 829 | H27: 871 | I27: 883 | J27: 1286 | K27: 1712 | L27: 1720 | M27: 1727 | N27: 2346 | O27: 2454 | P27: 2622
A28: Importers | B28: 752 | C28: Sweden | D28: 1344 | E28: 1152 | F28: 1081 | G28: 939 | H28: 975 | I28: 1127 | J28: 1519 | K28: 2036 | L28: 2086 | M28: 2076 | N28: 2510 | O28: 2456 | P28: 2619
A29: Importers | B29: 124 | C29: Canada | D29: 715 | E29: 844 | F29: 841 | G29: 1027 | H29: 1296 | I29: 1285 | J29: 1534 | K29: 1770 | L29: 1913 | M29: 2179 | N29: 2388 | O29: 2207 | P29: 2433
A30: Importers | B30: 810 | C30: U.S.S.R. | D30: 2530 | E30: 2640 | F30: 2680 | G30: 2570 | H30: 2700 | I30: 3210 | J30: 3700 | K30: 3810 | L30: 4220 | M30: 4820 | N30: 1057 | O30: 921 | P30: 1708
A31: Importers | B31: 578 | C31: Norway | D31: 709 | E31: 657 | F31: 656 | G31: 597 | H31: 632 | I31: 785 | J31: 1121 | K31: 1267 | L31: 1144 | M31: 1027 | N31: 1231 | O31: 1246 | P31: 1375
A32: Importers | B32: 918 | C32: European Union, members of 1990 (EC-12), 1989 and 1990 | M32: 38389 | N32: 50682
A33: Importers | B33: 918 | C33: European Union, members of 1991 (EC-12), 1990 and 1991 | N33: 51104 | O33: 58313
A34: Importers | B34: 918 | C34: European Union, members of 1992 (EC-12), 1991 and 1992 | O34: 58313 | P34: 63625
A35: Importers | B35: 918 | C35: European Union, members of 1992 (EC-12), 1990 and 1992 | N35: 51104 | P35: 63625
