Workbook

Sheet A22 textiles
A1: Table A22, 1990 edition (trade data for 1989)
A2: Top 10 exporters and importers of textiles, 1989
A3: (Billion dollars and percentage)
A5: Economy | B5: Value 1989 (US$ bn) | C5: Share 1980 (%) | D5: Share 1989 (%) | E5: Change 1980-89 (% p.a.) | F5: Change 1987 (%) | G5: Change 1988 (%) | H5: Change 1989 (%)
A6: Exporters
A7: European Union (EC-12, added up) | B7: =IF('A22 data'!$M$5="","...",'A22 data'!$M$5/1000) | C7: =IFERROR(IF('A22 data'!$D$5="","...",'A22 data'!$D$5/'A22 data'!$D$4*100),"...") | D7: =IFERROR(IF('A22 data'!$M$5="","...",'A22 data'!$M$5/'A22 data'!$M$4*100),"...") | E7: =IF(OR('A22 data'!$M$19="",'A22 data'!$D$19=""),"...",IFERROR((('A22 data'!$M$19/'A22 data'!$D$19)^(1/9)-1)*100,"...")) | F7: =IF(OR('A22 data'!$K$16="",'A22 data'!$J$16=""),"...",IFERROR(('A22 data'!$K$16/'A22 data'!$J$16-1)*100,"...")) | G7: =IF(OR('A22 data'!$L$17="",'A22 data'!$K$17=""),"...",IFERROR(('A22 data'!$L$17/'A22 data'!$K$17-1)*100,"...")) | H7: =IF(OR('A22 data'!$M$18="",'A22 data'!$L$18=""),"...",IFERROR(('A22 data'!$M$18/'A22 data'!$L$18-1)*100,"..."))
A8: Extra-EU | B8: =IF('A22 data'!$M$6="","...",'A22 data'!$M$6/1000) | C8: =IFERROR(IF('A22 data'!$D$6="","...",'A22 data'!$D$6/'A22 data'!$D$4*100),"...") | D8: =IFERROR(IF('A22 data'!$M$6="","...",'A22 data'!$M$6/'A22 data'!$M$4*100),"...") | E8: =IF(OR('A22 data'!$M$6="",'A22 data'!$D$6=""),"...",IFERROR((('A22 data'!$M$6/'A22 data'!$D$6)^(1/9)-1)*100,"...")) | F8: =IF(OR('A22 data'!$K$6="",'A22 data'!$J$6=""),"...",IFERROR(('A22 data'!$K$6/'A22 data'!$J$6-1)*100,"...")) | G8: =IF(OR('A22 data'!$L$6="",'A22 data'!$K$6=""),"...",IFERROR(('A22 data'!$L$6/'A22 data'!$K$6-1)*100,"...")) | H8: =IF(OR('A22 data'!$M$6="",'A22 data'!$L$6=""),"...",IFERROR(('A22 data'!$M$6/'A22 data'!$L$6-1)*100,"..."))
A9: Hong Kong, China | B9: =IF('A22 data'!$M$7="","...",'A22 data'!$M$7/1000) | C9: =IFERROR(IF('A22 data'!$D$7="","...",'A22 data'!$D$7/'A22 data'!$D$4*100),"...") | D9: =IFERROR(IF('A22 data'!$M$7="","...",'A22 data'!$M$7/'A22 data'!$M$4*100),"...") | E9: =IF(OR('A22 data'!$M$7="",'A22 data'!$D$7=""),"...",IFERROR((('A22 data'!$M$7/'A22 data'!$D$7)^(1/9)-1)*100,"...")) | F9: =IF(OR('A22 data'!$K$7="",'A22 data'!$J$7=""),"...",IFERROR(('A22 data'!$K$7/'A22 data'!$J$7-1)*100,"...")) | G9: =IF(OR('A22 data'!$L$7="",'A22 data'!$K$7=""),"...",IFERROR(('A22 data'!$L$7/'A22 data'!$K$7-1)*100,"...")) | H9: =IF(OR('A22 data'!$M$7="",'A22 data'!$L$7=""),"...",IFERROR(('A22 data'!$M$7/'A22 data'!$L$7-1)*100,"..."))
A10: China | B10: =IF('A22 data'!$M$8="","...",'A22 data'!$M$8/1000) | C10: =IFERROR(IF('A22 data'!$D$8="","...",'A22 data'!$D$8/'A22 data'!$D$4*100),"...") | D10: =IFERROR(IF('A22 data'!$M$8="","...",'A22 data'!$M$8/'A22 data'!$M$4*100),"...") | E10: =IF(OR('A22 data'!$M$8="",'A22 data'!$D$8=""),"...",IFERROR((('A22 data'!$M$8/'A22 data'!$D$8)^(1/9)-1)*100,"...")) | F10: =IF(OR('A22 data'!$K$8="",'A22 data'!$J$8=""),"...",IFERROR(('A22 data'!$K$8/'A22 data'!$J$8-1)*100,"...")) | G10: =IF(OR('A22 data'!$L$8="",'A22 data'!$K$8=""),"...",IFERROR(('A22 data'!$L$8/'A22 data'!$K$8-1)*100,"...")) | H10: =IF(OR('A22 data'!$M$8="",'A22 data'!$L$8=""),"...",IFERROR(('A22 data'!$M$8/'A22 data'!$L$8-1)*100,"..."))
A11: Japan | B11: =IF('A22 data'!$M$9="","...",'A22 data'!$M$9/1000) | C11: =IFERROR(IF('A22 data'!$D$9="","...",'A22 data'!$D$9/'A22 data'!$D$4*100),"...") | D11: =IFERROR(IF('A22 data'!$M$9="","...",'A22 data'!$M$9/'A22 data'!$M$4*100),"...") | E11: =IF(OR('A22 data'!$M$9="",'A22 data'!$D$9=""),"...",IFERROR((('A22 data'!$M$9/'A22 data'!$D$9)^(1/9)-1)*100,"...")) | F11: =IF(OR('A22 data'!$K$9="",'A22 data'!$J$9=""),"...",IFERROR(('A22 data'!$K$9/'A22 data'!$J$9-1)*100,"...")) | G11: =IF(OR('A22 data'!$L$9="",'A22 data'!$K$9=""),"...",IFERROR(('A22 data'!$L$9/'A22 data'!$K$9-1)*100,"...")) | H11: =IF(OR('A22 data'!$M$9="",'A22 data'!$L$9=""),"...",IFERROR(('A22 data'!$M$9/'A22 data'!$L$9-1)*100,"..."))
A12: Chinese Taipei | B12: =IF('A22 data'!$M$10="","...",'A22 data'!$M$10/1000) | C12: =IFERROR(IF('A22 data'!$D$10="","...",'A22 data'!$D$10/'A22 data'!$D$4*100),"...") | D12: =IFERROR(IF('A22 data'!$M$10="","...",'A22 data'!$M$10/'A22 data'!$M$4*100),"...") | E12: =IF(OR('A22 data'!$M$10="",'A22 data'!$D$10=""),"...",IFERROR((('A22 data'!$M$10/'A22 data'!$D$10)^(1/9)-1)*100,"...")) | F12: =IF(OR('A22 data'!$K$10="",'A22 data'!$J$10=""),"...",IFERROR(('A22 data'!$K$10/'A22 data'!$J$10-1)*100,"...")) | G12: =IF(OR('A22 data'!$L$10="",'A22 data'!$K$10=""),"...",IFERROR(('A22 data'!$L$10/'A22 data'!$K$10-1)*100,"...")) | H12: =IF(OR('A22 data'!$M$10="",'A22 data'!$L$10=""),"...",IFERROR(('A22 data'!$M$10/'A22 data'!$L$10-1)*100,"..."))
A13: Korea, Republic of | B13: =IF('A22 data'!$M$11="","...",'A22 data'!$M$11/1000) | C13: =IFERROR(IF('A22 data'!$D$11="","...",'A22 data'!$D$11/'A22 data'!$D$4*100),"...") | D13: =IFERROR(IF('A22 data'!$M$11="","...",'A22 data'!$M$11/'A22 data'!$M$4*100),"...") | E13: =IF(OR('A22 data'!$M$11="",'A22 data'!$D$11=""),"...",IFERROR((('A22 data'!$M$11/'A22 data'!$D$11)^(1/9)-1)*100,"...")) | F13: =IF(OR('A22 data'!$K$11="",'A22 data'!$J$11=""),"...",IFERROR(('A22 data'!$K$11/'A22 data'!$J$11-1)*100,"...")) | G13: =IF(OR('A22 data'!$L$11="",'A22 data'!$K$11=""),"...",IFERROR(('A22 data'!$L$11/'A22 data'!$K$11-1)*100,"...")) | H13: =IF(OR('A22 data'!$M$11="",'A22 data'!$L$11=""),"...",IFERROR(('A22 data'!$M$11/'A22 data'!$L$11-1)*100,"..."))
A14: United States of America | B14: =IF('A22 data'!$M$12="","...",'A22 data'!$M$12/1000) | C14: =IFERROR(IF('A22 data'!$D$12="","...",'A22 data'!$D$12/'A22 data'!$D$4*100),"...") | D14: =IFERROR(IF('A22 data'!$M$12="","...",'A22 data'!$M$12/'A22 data'!$M$4*100),"...") | E14: =IF(OR('A22 data'!$M$12="",'A22 data'!$D$12=""),"...",IFERROR((('A22 data'!$M$12/'A22 data'!$D$12)^(1/9)-1)*100,"...")) | F14: =IF(OR('A22 data'!$K$12="",'A22 data'!$J$12=""),"...",IFERROR(('A22 data'!$K$12/'A22 data'!$J$12-1)*100,"...")) | G14: =IF(OR('A22 data'!$L$12="",'A22 data'!$K$12=""),"...",IFERROR(('A22 data'!$L$12/'A22 data'!$K$12-1)*100,"...")) | H14: =IF(OR('A22 data'!$M$12="",'A22 data'!$L$12=""),"...",IFERROR(('A22 data'!$M$12/'A22 data'!$L$12-1)*100,"..."))
A15: Switzerland | B15: =IF('A22 data'!$M$13="","...",'A22 data'!$M$13/1000) | C15: =IFERROR(IF('A22 data'!$D$13="","...",'A22 data'!$D$13/'A22 data'!$D$4*100),"...") | D15: =IFERROR(IF('A22 data'!$M$13="","...",'A22 data'!$M$13/'A22 data'!$M$4*100),"...") | E15: =IF(OR('A22 data'!$M$13="",'A22 data'!$D$13=""),"...",IFERROR((('A22 data'!$M$13/'A22 data'!$D$13)^(1/9)-1)*100,"...")) | F15: =IF(OR('A22 data'!$K$13="",'A22 data'!$J$13=""),"...",IFERROR(('A22 data'!$K$13/'A22 data'!$J$13-1)*100,"...")) | G15: =IF(OR('A22 data'!$L$13="",'A22 data'!$K$13=""),"...",IFERROR(('A22 data'!$L$13/'A22 data'!$K$13-1)*100,"...")) | H15: =IF(OR('A22 data'!$M$13="",'A22 data'!$L$13=""),"...",IFERROR(('A22 data'!$M$13/'A22 data'!$L$13-1)*100,"..."))
A16: Pakistan | B16: =IF('A22 data'!$M$14="","...",'A22 data'!$M$14/1000) | C16: =IFERROR(IF('A22 data'!$D$14="","...",'A22 data'!$D$14/'A22 data'!$D$4*100),"...") | D16: =IFERROR(IF('A22 data'!$M$14="","...",'A22 data'!$M$14/'A22 data'!$M$4*100),"...") | E16: =IF(OR('A22 data'!$M$14="",'A22 data'!$D$14=""),"...",IFERROR((('A22 data'!$M$14/'A22 data'!$D$14)^(1/9)-1)*100,"...")) | F16: =IF(OR('A22 data'!$K$14="",'A22 data'!$J$14=""),"...",IFERROR(('A22 data'!$K$14/'A22 data'!$J$14-1)*100,"...")) | G16: =IF(OR('A22 data'!$L$14="",'A22 data'!$K$14=""),"...",IFERROR(('A22 data'!$L$14/'A22 data'!$K$14-1)*100,"...")) | H16: =IF(OR('A22 data'!$M$14="",'A22 data'!$L$14=""),"...",IFERROR(('A22 data'!$M$14/'A22 data'!$L$14-1)*100,"..."))
A17: India | B17: =IF('A22 data'!$M$15="","...",'A22 data'!$M$15/1000) | C17: =IFERROR(IF('A22 data'!$D$15="","...",'A22 data'!$D$15/'A22 data'!$D$4*100),"...") | D17: =IFERROR(IF('A22 data'!$M$15="","...",'A22 data'!$M$15/'A22 data'!$M$4*100),"...") | E17: =IF(OR('A22 data'!$M$15="",'A22 data'!$D$15=""),"...",IFERROR((('A22 data'!$M$15/'A22 data'!$D$15)^(1/9)-1)*100,"...")) | F17: =IF(OR('A22 data'!$K$15="",'A22 data'!$J$15=""),"...",IFERROR(('A22 data'!$K$15/'A22 data'!$J$15-1)*100,"...")) | G17: =IF(OR('A22 data'!$L$15="",'A22 data'!$K$15=""),"...",IFERROR(('A22 data'!$L$15/'A22 data'!$K$15-1)*100,"...")) | H17: =IF(OR('A22 data'!$M$15="",'A22 data'!$L$15=""),"...",IFERROR(('A22 data'!$M$15/'A22 data'!$L$15-1)*100,"..."))
A18: Above 10 | B18: =IFERROR(B7+B9+B10+B11+B12+B13+B14+B15+B16+B17,"...") | C18: =IFERROR(C7+C9+C10+C11+C12+C13+C14+C15+C16+C17,"...") | D18: =IFERROR(D7+D9+D10+D11+D12+D13+D14+D15+D16+D17,"...") | E18: - | F18: - | G18: - | H18: -
A19: Importers
A20: European Union (EC-12, added up) | B20: =IF('A22 data'!$M$21="","...",'A22 data'!$M$21/1000) | C20: =IFERROR(IF('A22 data'!$D$21="","...",'A22 data'!$D$21/'A22 data'!$D$20*100),"...") | D20: =IFERROR(IF('A22 data'!$M$21="","...",'A22 data'!$M$21/'A22 data'!$M$20*100),"...") | E20: =IF(OR('A22 data'!$M$35="",'A22 data'!$D$35=""),"...",IFERROR((('A22 data'!$M$35/'A22 data'!$D$35)^(1/9)-1)*100,"...")) | F20: =IF(OR('A22 data'!$K$32="",'A22 data'!$J$32=""),"...",IFERROR(('A22 data'!$K$32/'A22 data'!$J$32-1)*100,"...")) | G20: =IF(OR('A22 data'!$L$33="",'A22 data'!$K$33=""),"...",IFERROR(('A22 data'!$L$33/'A22 data'!$K$33-1)*100,"...")) | H20: =IF(OR('A22 data'!$M$34="",'A22 data'!$L$34=""),"...",IFERROR(('A22 data'!$M$34/'A22 data'!$L$34-1)*100,"..."))
A21: Extra-EU | B21: =IF('A22 data'!$M$22="","...",'A22 data'!$M$22/1000) | C21: =IFERROR(IF('A22 data'!$D$22="","...",'A22 data'!$D$22/'A22 data'!$D$20*100),"...") | D21: =IFERROR(IF('A22 data'!$M$22="","...",'A22 data'!$M$22/'A22 data'!$M$20*100),"...") | E21: =IF(OR('A22 data'!$M$22="",'A22 data'!$D$22=""),"...",IFERROR((('A22 data'!$M$22/'A22 data'!$D$22)^(1/9)-1)*100,"...")) | F21: =IF(OR('A22 data'!$K$22="",'A22 data'!$J$22=""),"...",IFERROR(('A22 data'!$K$22/'A22 data'!$J$22-1)*100,"...")) | G21: =IF(OR('A22 data'!$L$22="",'A22 data'!$K$22=""),"...",IFERROR(('A22 data'!$L$22/'A22 data'!$K$22-1)*100,"...")) | H21: =IF(OR('A22 data'!$M$22="",'A22 data'!$L$22=""),"...",IFERROR(('A22 data'!$M$22/'A22 data'!$L$22-1)*100,"..."))
A22: Hong Kong, China | B22: =IF('A22 data'!$M$23="","...",'A22 data'!$M$23/1000) | C22: =IFERROR(IF('A22 data'!$D$23="","...",'A22 data'!$D$23/'A22 data'!$D$20*100),"...") | D22: =IFERROR(IF('A22 data'!$M$23="","...",'A22 data'!$M$23/'A22 data'!$M$20*100),"...") | E22: =IF(OR('A22 data'!$M$23="",'A22 data'!$D$23=""),"...",IFERROR((('A22 data'!$M$23/'A22 data'!$D$23)^(1/9)-1)*100,"...")) | F22: =IF(OR('A22 data'!$K$23="",'A22 data'!$J$23=""),"...",IFERROR(('A22 data'!$K$23/'A22 data'!$J$23-1)*100,"...")) | G22: =IF(OR('A22 data'!$L$23="",'A22 data'!$K$23=""),"...",IFERROR(('A22 data'!$L$23/'A22 data'!$K$23-1)*100,"...")) | H22: =IF(OR('A22 data'!$M$23="",'A22 data'!$L$23=""),"...",IFERROR(('A22 data'!$M$23/'A22 data'!$L$23-1)*100,"..."))
A23: United States of America | B23: =IF('A22 data'!$M$24="","...",'A22 data'!$M$24/1000) | C23: =IFERROR(IF('A22 data'!$D$24="","...",'A22 data'!$D$24/'A22 data'!$D$20*100),"...") | D23: =IFERROR(IF('A22 data'!$M$24="","...",'A22 data'!$M$24/'A22 data'!$M$20*100),"...") | E23: =IF(OR('A22 data'!$M$24="",'A22 data'!$D$24=""),"...",IFERROR((('A22 data'!$M$24/'A22 data'!$D$24)^(1/9)-1)*100,"...")) | F23: =IF(OR('A22 data'!$K$24="",'A22 data'!$J$24=""),"...",IFERROR(('A22 data'!$K$24/'A22 data'!$J$24-1)*100,"...")) | G23: =IF(OR('A22 data'!$L$24="",'A22 data'!$K$24=""),"...",IFERROR(('A22 data'!$L$24/'A22 data'!$K$24-1)*100,"...")) | H23: =IF(OR('A22 data'!$M$24="",'A22 data'!$L$24=""),"...",IFERROR(('A22 data'!$M$24/'A22 data'!$L$24-1)*100,"..."))
A24: China | B24: =IF('A22 data'!$M$25="","...",'A22 data'!$M$25/1000) | C24: =IFERROR(IF('A22 data'!$D$25="","...",'A22 data'!$D$25/'A22 data'!$D$20*100),"...") | D24: =IFERROR(IF('A22 data'!$M$25="","...",'A22 data'!$M$25/'A22 data'!$M$20*100),"...") | E24: =IF(OR('A22 data'!$M$25="",'A22 data'!$D$25=""),"...",IFERROR((('A22 data'!$M$25/'A22 data'!$D$25)^(1/9)-1)*100,"...")) | F24: =IF(OR('A22 data'!$K$25="",'A22 data'!$J$25=""),"...",IFERROR(('A22 data'!$K$25/'A22 data'!$J$25-1)*100,"...")) | G24: =IF(OR('A22 data'!$L$25="",'A22 data'!$K$25=""),"...",IFERROR(('A22 data'!$L$25/'A22 data'!$K$25-1)*100,"...")) | H24: =IF(OR('A22 data'!$M$25="",'A22 data'!$L$25=""),"...",IFERROR(('A22 data'!$M$25/'A22 data'!$L$25-1)*100,"..."))
A25: Japan | B25: =IF('A22 data'!$M$26="","...",'A22 data'!$M$26/1000) | C25: =IFERROR(IF('A22 data'!$D$26="","...",'A22 data'!$D$26/'A22 data'!$D$20*100),"...") | D25: =IFERROR(IF('A22 data'!$M$26="","...",'A22 data'!$M$26/'A22 data'!$M$20*100),"...") | E25: =IF(OR('A22 data'!$M$26="",'A22 data'!$D$26=""),"...",IFERROR((('A22 data'!$M$26/'A22 data'!$D$26)^(1/9)-1)*100,"...")) | F25: =IF(OR('A22 data'!$K$26="",'A22 data'!$J$26=""),"...",IFERROR(('A22 data'!$K$26/'A22 data'!$J$26-1)*100,"...")) | G25: =IF(OR('A22 data'!$L$26="",'A22 data'!$K$26=""),"...",IFERROR(('A22 data'!$L$26/'A22 data'!$K$26-1)*100,"...")) | H25: =IF(OR('A22 data'!$M$26="",'A22 data'!$L$26=""),"...",IFERROR(('A22 data'!$M$26/'A22 data'!$L$26-1)*100,"..."))
A26: U.S.S.R. | B26: =IF('A22 data'!$M$27="","...",'A22 data'!$M$27/1000) | C26: =IFERROR(IF('A22 data'!$D$27="","...",'A22 data'!$D$27/'A22 data'!$D$20*100),"...") | D26: =IFERROR(IF('A22 data'!$M$27="","...",'A22 data'!$M$27/'A22 data'!$M$20*100),"...") | E26: =IF(OR('A22 data'!$M$27="",'A22 data'!$D$27=""),"...",IFERROR((('A22 data'!$M$27/'A22 data'!$D$27)^(1/9)-1)*100,"...")) | F26: =IF(OR('A22 data'!$K$27="",'A22 data'!$J$27=""),"...",IFERROR(('A22 data'!$K$27/'A22 data'!$J$27-1)*100,"...")) | G26: =IF(OR('A22 data'!$L$27="",'A22 data'!$K$27=""),"...",IFERROR(('A22 data'!$L$27/'A22 data'!$K$27-1)*100,"...")) | H26: =IF(OR('A22 data'!$M$27="",'A22 data'!$L$27=""),"...",IFERROR(('A22 data'!$M$27/'A22 data'!$L$27-1)*100,"..."))
A27: Canada | B27: =IF('A22 data'!$M$28="","...",'A22 data'!$M$28/1000) | C27: =IFERROR(IF('A22 data'!$D$28="","...",'A22 data'!$D$28/'A22 data'!$D$20*100),"...") | D27: =IFERROR(IF('A22 data'!$M$28="","...",'A22 data'!$M$28/'A22 data'!$M$20*100),"...") | E27: =IF(OR('A22 data'!$M$28="",'A22 data'!$D$28=""),"...",IFERROR((('A22 data'!$M$28/'A22 data'!$D$28)^(1/9)-1)*100,"...")) | F27: =IF(OR('A22 data'!$K$28="",'A22 data'!$J$28=""),"...",IFERROR(('A22 data'!$K$28/'A22 data'!$J$28-1)*100,"...")) | G27: =IF(OR('A22 data'!$L$28="",'A22 data'!$K$28=""),"...",IFERROR(('A22 data'!$L$28/'A22 data'!$K$28-1)*100,"...")) | H27: =IF(OR('A22 data'!$M$28="",'A22 data'!$L$28=""),"...",IFERROR(('A22 data'!$M$28/'A22 data'!$L$28-1)*100,"..."))
A28: Korea, Republic of | B28: =IF('A22 data'!$M$29="","...",'A22 data'!$M$29/1000) | C28: =IFERROR(IF('A22 data'!$D$29="","...",'A22 data'!$D$29/'A22 data'!$D$20*100),"...") | D28: =IFERROR(IF('A22 data'!$M$29="","...",'A22 data'!$M$29/'A22 data'!$M$20*100),"...") | E28: =IF(OR('A22 data'!$M$29="",'A22 data'!$D$29=""),"...",IFERROR((('A22 data'!$M$29/'A22 data'!$D$29)^(1/9)-1)*100,"...")) | F28: =IF(OR('A22 data'!$K$29="",'A22 data'!$J$29=""),"...",IFERROR(('A22 data'!$K$29/'A22 data'!$J$29-1)*100,"...")) | G28: =IF(OR('A22 data'!$L$29="",'A22 data'!$K$29=""),"...",IFERROR(('A22 data'!$L$29/'A22 data'!$K$29-1)*100,"...")) | H28: =IF(OR('A22 data'!$M$29="",'A22 data'!$L$29=""),"...",IFERROR(('A22 data'!$M$29/'A22 data'!$L$29-1)*100,"..."))
A29: Singapore | B29: =IF('A22 data'!$M$30="","...",'A22 data'!$M$30/1000) | C29: =IFERROR(IF('A22 data'!$D$30="","...",'A22 data'!$D$30/'A22 data'!$D$20*100),"...") | D29: =IFERROR(IF('A22 data'!$M$30="","...",'A22 data'!$M$30/'A22 data'!$M$20*100),"...") | E29: =IF(OR('A22 data'!$M$30="",'A22 data'!$D$30=""),"...",IFERROR((('A22 data'!$M$30/'A22 data'!$D$30)^(1/9)-1)*100,"...")) | F29: =IF(OR('A22 data'!$K$30="",'A22 data'!$J$30=""),"...",IFERROR(('A22 data'!$K$30/'A22 data'!$J$30-1)*100,"...")) | G29: =IF(OR('A22 data'!$L$30="",'A22 data'!$K$30=""),"...",IFERROR(('A22 data'!$L$30/'A22 data'!$K$30-1)*100,"...")) | H29: =IF(OR('A22 data'!$M$30="",'A22 data'!$L$30=""),"...",IFERROR(('A22 data'!$M$30/'A22 data'!$L$30-1)*100,"..."))
A30: Australia | B30: =IF('A22 data'!$M$31="","...",'A22 data'!$M$31/1000) | C30: =IFERROR(IF('A22 data'!$D$31="","...",'A22 data'!$D$31/'A22 data'!$D$20*100),"...") | D30: =IFERROR(IF('A22 data'!$M$31="","...",'A22 data'!$M$31/'A22 data'!$M$20*100),"...") | E30: =IF(OR('A22 data'!$M$31="",'A22 data'!$D$31=""),"...",IFERROR((('A22 data'!$M$31/'A22 data'!$D$31)^(1/9)-1)*100,"...")) | F30: =IF(OR('A22 data'!$K$31="",'A22 data'!$J$31=""),"...",IFERROR(('A22 data'!$K$31/'A22 data'!$J$31-1)*100,"...")) | G30: =IF(OR('A22 data'!$L$31="",'A22 data'!$K$31=""),"...",IFERROR(('A22 data'!$L$31/'A22 data'!$K$31-1)*100,"...")) | H30: =IF(OR('A22 data'!$M$31="",'A22 data'!$L$31=""),"...",IFERROR(('A22 data'!$M$31/'A22 data'!$L$31-1)*100,"..."))
A31: Above 10 | B31: =IFERROR(B20+B22+B23+B24+B25+B26+B27+B28+B29+B30,"...") | C31: =IFERROR(C20+C22+C23+C24+C25+C26+C27+C28+C29+C30,"...") | D31: =IFERROR(D20+D22+D23+D24+D25+D26+D27+D28+D29+D30,"...") | E31: - | F31: - | G31: - | H31: -
A33: Notes
A34: The EU is ranked as one economy; its member states are not ranked. Extra-EU (the EU's trade with non-members) is shown beneath it and is not ranked.
A35: Before 2000 the EU figure is added up from the member states of each year (EC-9 in 1980, EC-10 in 1981-1985, EC-12 in 1986-1994, EU-15 in 1995-1999), the United Kingdom included; economies that joined later are ranked on their own. Extra-EU cannot be added up and shows "...". If a member state has no data for a year, the EU shows "...".
A36: EU changes and growth rates before 2000 compare the same member states in both years: those of the later year, added up for the earlier year too (for example, the change for 1995 is the EU-15 in 1995 against the same 15 in 1994), so they do not count an enlargement as growth. EU values and shares are for the members of each year.
A37: Where a former economy and its successor both report for the same year (for example West Germany and Germany), the former economy is ranked and the successor is not, so the same trade is not counted twice.
A38: Economies ranked in 1989: 101 exporters, 102 importers.
A39: "Above 10" is the sum of the ten ranked economies. "..." means not available.
A40: WTO publishes no world total for textiles imports in 1989, so the shares for that year show "...".
A41: Shares are of world textiles exports or imports. 1980-89 is the compound annual rate of change.
A42: Figures for every year are as WTO published them on 2026-09-29; WTO revises past figures, so they can differ from the printed review.
...

Sheet A23 clothing
A1: Table A23, 1990 edition (trade data for 1989)
A2: Top 10 exporters and importers of clothing, 1989
A3: (Billion dollars and percentage)
A5: Economy | B5: Value 1989 (US$ bn) | C5: Share 1980 (%) | D5: Share 1989 (%) | E5: Change 1980-89 (% p.a.) | F5: Change 1987 (%) | G5: Change 1988 (%) | H5: Change 1989 (%)
A6: Exporters
A7: European Union (EC-12, added up) | B7: =IF('A23 data'!$M$5="","...",'A23 data'!$M$5/1000) | C7: =IFERROR(IF('A23 data'!$D$5="","...",'A23 data'!$D$5/'A23 data'!$D$4*100),"...") | D7: =IFERROR(IF('A23 data'!$M$5="","...",'A23 data'!$M$5/'A23 data'!$M$4*100),"...") | E7: =IF(OR('A23 data'!$M$19="",'A23 data'!$D$19=""),"...",IFERROR((('A23 data'!$M$19/'A23 data'!$D$19)^(1/9)-1)*100,"...")) | F7: =IF(OR('A23 data'!$K$16="",'A23 data'!$J$16=""),"...",IFERROR(('A23 data'!$K$16/'A23 data'!$J$16-1)*100,"...")) | G7: =IF(OR('A23 data'!$L$17="",'A23 data'!$K$17=""),"...",IFERROR(('A23 data'!$L$17/'A23 data'!$K$17-1)*100,"...")) | H7: =IF(OR('A23 data'!$M$18="",'A23 data'!$L$18=""),"...",IFERROR(('A23 data'!$M$18/'A23 data'!$L$18-1)*100,"..."))
A8: Extra-EU | B8: =IF('A23 data'!$M$6="","...",'A23 data'!$M$6/1000) | C8: =IFERROR(IF('A23 data'!$D$6="","...",'A23 data'!$D$6/'A23 data'!$D$4*100),"...") | D8: =IFERROR(IF('A23 data'!$M$6="","...",'A23 data'!$M$6/'A23 data'!$M$4*100),"...") | E8: =IF(OR('A23 data'!$M$6="",'A23 data'!$D$6=""),"...",IFERROR((('A23 data'!$M$6/'A23 data'!$D$6)^(1/9)-1)*100,"...")) | F8: =IF(OR('A23 data'!$K$6="",'A23 data'!$J$6=""),"...",IFERROR(('A23 data'!$K$6/'A23 data'!$J$6-1)*100,"...")) | G8: =IF(OR('A23 data'!$L$6="",'A23 data'!$K$6=""),"...",IFERROR(('A23 data'!$L$6/'A23 data'!$K$6-1)*100,"...")) | H8: =IF(OR('A23 data'!$M$6="",'A23 data'!$L$6=""),"...",IFERROR(('A23 data'!$M$6/'A23 data'!$L$6-1)*100,"..."))
A9: Hong Kong, China | B9: =IF('A23 data'!$M$7="","...",'A23 data'!$M$7/1000) | C9: =IFERROR(IF('A23 data'!$D$7="","...",'A23 data'!$D$7/'A23 data'!$D$4*100),"...") | D9: =IFERROR(IF('A23 data'!$M$7="","...",'A23 data'!$M$7/'A23 data'!$M$4*100),"...") | E9: =IF(OR('A23 data'!$M$7="",'A23 data'!$D$7=""),"...",IFERROR((('A23 data'!$M$7/'A23 data'!$D$7)^(1/9)-1)*100,"...")) | F9: =IF(OR('A23 data'!$K$7="",'A23 data'!$J$7=""),"...",IFERROR(('A23 data'!$K$7/'A23 data'!$J$7-1)*100,"...")) | G9: =IF(OR('A23 data'!$L$7="",'A23 data'!$K$7=""),"...",IFERROR(('A23 data'!$L$7/'A23 data'!$K$7-1)*100,"...")) | H9: =IF(OR('A23 data'!$M$7="",'A23 data'!$L$7=""),"...",IFERROR(('A23 data'!$M$7/'A23 data'!$L$7-1)*100,"..."))
A10: Korea, Republic of | B10: =IF('A23 data'!$M$8="","...",'A23 data'!$M$8/1000) | C10: =IFERROR(IF('A23 data'!$D$8="","...",'A23 data'!$D$8/'A23 data'!$D$4*100),"...") | D10: =IFERROR(IF('A23 data'!$M$8="","...",'A23 data'!$M$8/'A23 data'!$M$4*100),"...") | E10: =IF(OR('A23 data'!$M$8="",'A23 data'!$D$8=""),"...",IFERROR((('A23 data'!$M$8/'A23 data'!$D$8)^(1/9)-1)*100,"...")) | F10: =IF(OR('A23 data'!$K$8="",'A23 data'!$J$8=""),"...",IFERROR(('A23 data'!$K$8/'A23 data'!$J$8-1)*100,"...")) | G10: =IF(OR('A23 data'!$L$8="",'A23 data'!$K$8=""),"...",IFERROR(('A23 data'!$L$8/'A23 data'!$K$8-1)*100,"...")) | H10: =IF(OR('A23 data'!$M$8="",'A23 data'!$L$8=""),"...",IFERROR(('A23 data'!$M$8/'A23 data'!$L$8-1)*100,"..."))
A11: China | B11: =IF('A23 data'!$M$9="","...",'A23 data'!$M$9/1000) | C11: =IFERROR(IF('A23 data'!$D$9="","...",'A23 data'!$D$9/'A23 data'!$D$4*100),"...") | D11: =IFERROR(IF('A23 data'!$M$9="","...",'A23 data'!$M$9/'A23 data'!$M$4*100),"...") | E11: =IF(OR('A23 data'!$M$9="",'A23 data'!$D$9=""),"...",IFERROR((('A23 data'!$M$9/'A23 data'!$D$9)^(1/9)-1)*100,"...")) | F11: =IF(OR('A23 data'!$K$9="",'A23 data'!$J$9=""),"...",IFERROR(('A23 data'!$K$9/'A23 data'!$J$9-1)*100,"...")) | G11: =IF(OR('A23 data'!$L$9="",'A23 data'!$K$9=""),"...",IFERROR(('A23 data'!$L$9/'A23 data'!$K$9-1)*100,"...")) | H11: =IF(OR('A23 data'!$M$9="",'A23 data'!$L$9=""),"...",IFERROR(('A23 data'!$M$9/'A23 data'!$L$9-1)*100,"..."))
A12: Chinese Taipei | B12: =IF('A23 data'!$M$10="","...",'A23 data'!$M$10/1000) | C12: =IFERROR(IF('A23 data'!$D$10="","...",'A23 data'!$D$10/'A23 data'!$D$4*100),"...") | D12: =IFERROR(IF('A23 data'!$M$10="","...",'A23 data'!$M$10/'A23 data'!$M$4*100),"...") | E12: =IF(OR('A23 data'!$M$10="",'A23 data'!$D$10=""),"...",IFERROR((('A23 data'!$M$10/'A23 data'!$D$10)^(1/9)-1)*100,"...")) | F12: =IF(OR('A23 data'!$K$10="",'A23 data'!$J$10=""),"...",IFERROR(('A23 data'!$K$10/'A23 data'!$J$10-1)*100,"...")) | G12: =IF(OR('A23 data'!$L$10="",'A23 data'!$K$10=""),"...",IFERROR(('A23 data'!$L$10/'A23 data'!$K$10-1)*100,"...")) | H12: =IF(OR('A23 data'!$M$10="",'A23 data'!$L$10=""),"...",IFERROR(('A23 data'!$M$10/'A23 data'!$L$10-1)*100,"..."))
A13: Türkiye | B13: =IF('A23 data'!$M$11="","...",'A23 data'!$M$11/1000) | C13: =IFERROR(IF('A23 data'!$D$11="","...",'A23 data'!$D$11/'A23 data'!$D$4*100),"...") | D13: =IFERROR(IF('A23 data'!$M$11="","...",'A23 data'!$M$11/'A23 data'!$M$4*100),"...") | E13: =IF(OR('A23 data'!$M$11="",'A23 data'!$D$11=""),"...",IFERROR((('A23 data'!$M$11/'A23 data'!$D$11)^(1/9)-1)*100,"...")) | F13: =IF(OR('A23 data'!$K$11="",'A23 data'!$J$11=""),"...",IFERROR(('A23 data'!$K$11/'A23 data'!$J$11-1)*100,"...")) | G13: =IF(OR('A23 data'!$L$11="",'A23 data'!$K$11=""),"...",IFERROR(('A23 data'!$L$11/'A23 data'!$K$11-1)*100,"...")) | H13: =IF(OR('A23 data'!$M$11="",'A23 data'!$L$11=""),"...",IFERROR(('A23 data'!$M$11/'A23 data'!$L$11-1)*100,"..."))
A14: Thailand | B14: =IF('A23 data'!$M$12="","...",'A23 data'!$M$12/1000) | C14: =IFERROR(IF('A23 data'!$D$12="","...",'A23 data'!$D$12/'A23 data'!$D$4*100),"...") | D14: =IFERROR(IF('A23 data'!$M$12="","...",'A23 data'!$M$12/'A23 data'!$M$4*100),"...") | E14: =IF(OR('A23 data'!$M$12="",'A23 data'!$D$12=""),"...",IFERROR((('A23 data'!$M$12/'A23 data'!$D$12)^(1/9)-1)*100,"...")) | F14: =IF(OR('A23 data'!$K$12="",'A23 data'!$J$12=""),"...",IFERROR(('A23 data'!$K$12/'A23 data'!$J$12-1)*100,"...")) | G14: =IF(OR('A23 data'!$L$12="",'A23 data'!$K$12=""),"...",IFERROR(('A23 data'!$L$12/'A23 data'!$K$12-1)*100,"...")) | H14: =IF(OR('A23 data'!$M$12="",'A23 data'!$L$12=""),"...",IFERROR(('A23 data'!$M$12/'A23 data'!$L$12-1)*100,"..."))
A15: United States of America | B15: =IF('A23 data'!$M$13="","...",'A23 data'!$M$13/1000) | C15: =IFERROR(IF('A23 data'!$D$13="","...",'A23 data'!$D$13/'A23 data'!$D$4*100),"...") | D15: =IFERROR(IF('A23 data'!$M$13="","...",'A23 data'!$M$13/'A23 data'!$M$4*100),"...") | E15: =IF(OR('A23 data'!$M$13="",'A23 data'!$D$13=""),"...",IFERROR((('A23 data'!$M$13/'A23 data'!$D$13)^(1/9)-1)*100,"...")) | F15: =IF(OR('A23 data'!$K$13="",'A23 data'!$J$13=""),"...",IFERROR(('A23 data'!$K$13/'A23 data'!$J$13-1)*100,"...")) | G15: =IF(OR('A23 data'!$L$13="",'A23 data'!$K$13=""),"...",IFERROR(('A23 data'!$L$13/'A23 data'!$K$13-1)*100,"...")) | H15: =IF(OR('A23 data'!$M$13="",'A23 data'!$L$13=""),"...",IFERROR(('A23 data'!$M$13/'A23 data'!$L$13-1)*100,"..."))
A16: India | B16: =IF('A23 data'!$M$14="","...",'A23 data'!$M$14/1000) | C16: =IFERROR(IF('A23 data'!$D$14="","...",'A23 data'!$D$14/'A23 data'!$D$4*100),"...") | D16: =IFERROR(IF('A23 data'!$M$14="","...",'A23 data'!$M$14/'A23 data'!$M$4*100),"...") | E16: =IF(OR('A23 data'!$M$14="",'A23 data'!$D$14=""),"...",IFERROR((('A23 data'!$M$14/'A23 data'!$D$14)^(1/9)-1)*100,"...")) | F16: =IF(OR('A23 data'!$K$14="",'A23 data'!$J$14=""),"...",IFERROR(('A23 data'!$K$14/'A23 data'!$J$14-1)*100,"...")) | G16: =IF(OR('A23 data'!$L$14="",'A23 data'!$K$14=""),"...",IFERROR(('A23 data'!$L$14/'A23 data'!$K$14-1)*100,"...")) | H16: =IF(OR('A23 data'!$M$14="",'A23 data'!$L$14=""),"...",IFERROR(('A23 data'!$M$14/'A23 data'!$L$14-1)*100,"..."))
A17: Philippines | B17: =IF('A23 data'!$M$15="","...",'A23 data'!$M$15/1000) | C17: =IFERROR(IF('A23 data'!$D$15="","...",'A23 data'!$D$15/'A23 data'!$D$4*100),"...") | D17: =IFERROR(IF('A23 data'!$M$15="","...",'A23 data'!$M$15/'A23 data'!$M$4*100),"...") | E17: =IF(OR('A23 data'!$M$15="",'A23 data'!$D$15=""),"...",IFERROR((('A23 data'!$M$15/'A23 data'!$D$15)^(1/9)-1)*100,"...")) | F17: =IF(OR('A23 data'!$K$15="",'A23 data'!$J$15=""),"...",IFERROR(('A23 data'!$K$15/'A23 data'!$J$15-1)*100,"...")) | G17: =IF(OR('A23 data'!$L$15="",'A23 data'!$K$15=""),"...",IFERROR(('A23 data'!$L$15/'A23 data'!$K$15-1)*100,"...")) | H17: =IF(OR('A23 data'!$M$15="",'A23 data'!$L$15=""),"...",IFERROR(('A23 data'!$M$15/'A23 data'!$L$15-1)*100,"..."))
A18: Above 10 | B18: =IFERROR(B7+B9+B10+B11+B12+B13+B14+B15+B16+B17,"...") | C18: =IFERROR(C7+C9+C10+C11+C12+C13+C14+C15+C16+C17,"...") | D18: =IFERROR(D7+D9+D10+D11+D12+D13+D14+D15+D16+D17,"...") | E18: - | F18: - | G18: - | H18: -
A19: Importers
A20: European Union (EC-12, added up) | B20: =IF('A23 data'!$M$21="","...",'A23 data'!$M$21/1000) | C20: =IFERROR(IF('A23 data'!$D$21="","...",'A23 data'!$D$21/'A23 data'!$D$20*100),"...") | D20: =IFERROR(IF('A23 data'!$M$21="","...",'A23 data'!$M$21/'A23 data'!$M$20*100),"...") | E20: =IF(OR('A23 data'!$M$35="",'A23 data'!$D$35=""),"...",IFERROR((('A23 data'!$M$35/'A23 data'!$D$35)^(1/9)-1)*100,"...")) | F20: =IF(OR('A23 data'!$K$32="",'A23 data'!$J$32=""),"...",IFERROR(('A23 data'!$K$32/'A23 data'!$J$32-1)*100,"...")) | G20: =IF(OR('A23 data'!$L$33="",'A23 data'!$K$33=""),"...",IFERROR(('A23 data'!$L$33/'A23 data'!$K$33-1)*100,"...")) | H20: =IF(OR('A23 data'!$M$34="",'A23 data'!$L$34=""),"...",IFERROR(('A23 data'!$M$34/'A23 data'!$L$34-1)*100,"..."))
A21: Extra-EU | B21: =IF('A23 data'!$M$22="","...",'A23 data'!$M$22/1000) | C21: =IFERROR(IF('A23 data'!$D$22="","...",'A23 data'!$D$22/'A23 data'!$D$20*100),"...") | D21: =IFERROR(IF('A23 data'!$M$22="","...",'A23 data'!$M$22/'A23 data'!$M$20*100),"...") | E21: =IF(OR('A23 data'!$M$22="",'A23 data'!$D$22=""),"...",IFERROR((('A23 data'!$M$22/'A23 data'!$D$22)^(1/9)-1)*100,"...")) | F21: =IF(OR('A23 data'!$K$22="",'A23 data'!$J$22=""),"...",IFERROR(('A23 data'!$K$22/'A23 data'!$J$22-1)*100,"...")) | G21: =IF(OR('A23 data'!$L$22="",'A23 data'!$K$22=""),"...",IFERROR(('A23 data'!$L$22/'A23 data'!$K$22-1)*100,"...")) | H21: =IF(OR('A23 data'!$M$22="",'A23 data'!$L$22=""),"...",IFERROR(('A23 data'!$M$22/'A23 data'!$L$22-1)*100,"..."))
A22: United States of America | B22: =IF('A23 data'!$M$23="","...",'A23 data'!$M$23/1000) | C22: =IFERROR(IF('A23 data'!$D$23="","...",'A23 data'!$D$23/'A23 data'!$D$20*100),"...") | D22: =IFERROR(IF('A23 data'!$M$23="","...",'A23 data'!$M$23/'A23 data'!$M$20*100),"...") | E22: =IF(OR('A23 data'!$M$23="",'A23 data'!$D$23=""),"...",IFERROR((('A23 data'!$M$23/'A23 data'!$D$23)^(1/9)-1)*100,"...")) | F22: =IF(OR('A23 data'!$K$23="",'A23 data'!$J$23=""),"...",IFERROR(('A23 data'!$K$23/'A23 data'!$J$23-1)*100,"...")) | G22: =IF(OR('A23 data'!$L$23="",'A23 data'!$K$23=""),"...",IFERROR(('A23 data'!$L$23/'A23 data'!$K$23-1)*100,"...")) | H22: =IF(OR('A23 data'!$M$23="",'A23 data'!$L$23=""),"...",IFERROR(('A23 data'!$M$23/'A23 data'!$L$23-1)*100,"..."))
A23: Japan | B23: =IF('A23 data'!$M$24="","...",'A23 data'!$M$24/1000) | C23: =IFERROR(IF('A23 data'!$D$24="","...",'A23 data'!$D$24/'A23 data'!$D$20*100),"...") | D23: =IFERROR(IF('A23 data'!$M$24="","...",'A23 data'!$M$24/'A23 data'!$M$20*100),"...") | E23: =IF(OR('A23 data'!$M$24="",'A23 data'!$D$24=""),"...",IFERROR((('A23 data'!$M$24/'A23 data'!$D$24)^(1/9)-1)*100,"...")) | F23: =IF(OR('A23 data'!$K$24="",'A23 data'!$J$24=""),"...",IFERROR(('A23 data'!$K$24/'A23 data'!$J$24-1)*100,"...")) | G23: =IF(OR('A23 data'!$L$24="",'A23 data'!$K$24=""),"...",IFERROR(('A23 data'!$L$24/'A23 data'!$K$24-1)*100,"...")) | H23: =IF(OR('A23 data'!$M$24="",'A23 data'!$L$24=""),"...",IFERROR(('A23 data'!$M$24/'A23 data'!$L$24-1)*100,"..."))
A24: Hong Kong, China | B24: =IF('A23 data'!$M$25="","...",'A23 data'!$M$25/1000) | C24: =IFERROR(IF('A23 data'!$D$25="","...",'A23 data'!$D$25/'A23 data'!$D$20*100),"...") | D24: =IFERROR(IF('A23 data'!$M$25="","...",'A23 data'!$M$25/'A23 data'!$M$20*100),"...") | E24: =IF(OR('A23 data'!$M$25="",'A23 data'!$D$25=""),"...",IFERROR((('A23 data'!$M$25/'A23 data'!$D$25)^(1/9)-1)*100,"...")) | F24: =IF(OR('A23 data'!$K$25="",'A23 data'!$J$25=""),"...",IFERROR(('A23 data'!$K$25/'A23 data'!$J$25-1)*100,"...")) | G24: =IF(OR('A23 data'!$L$25="",'A23 data'!$K$25=""),"...",IFERROR(('A23 data'!$L$25/'A23 data'!$K$25-1)*100,"...")) | H24: =IF(OR('A23 data'!$M$25="",'A23 data'!$L$25=""),"...",IFERROR(('A23 data'!$M$25/'A23 data'!$L$25-1)*100,"..."))
A25: U.S.S.R. | B25: =IF('A23 data'!$M$26="","...",'A23 data'!$M$26/1000) | C25: =IFERROR(IF('A23 data'!$D$26="","...",'A23 data'!$D$26/'A23 data'!$D$20*100),"...") | D25: =IFERROR(IF('A23 data'!$M$26="","...",'A23 data'!$M$26/'A23 data'!$M$20*100),"...") | E25: =IF(OR('A23 data'!$M$26="",'A23 data'!$D$26=""),"...",IFERROR((('A23 data'!$M$26/'A23 data'!$D$26)^(1/9)-1)*100,"...")) | F25: =IF(OR('A23 data'!$K$26="",'A23 data'!$J$26=""),"...",IFERROR(('A23 data'!$K$26/'A23 data'!$J$26-1)*100,"...")) | G25: =IF(OR('A23 data'!$L$26="",'A23 data'!$K$26=""),"...",IFERROR(('A23 data'!$L$26/'A23 data'!$K$26-1)*100,"...")) | H25: =IF(OR('A23 data'!$M$26="",'A23 data'!$L$26=""),"...",IFERROR(('A23 data'!$M$26/'A23 data'!$L$26-1)*100,"..."))
A26: Switzerland | B26: =IF('A23 data'!$M$27="","...",'A23 data'!$M$27/1000) | C26: =IFERROR(IF('A23 data'!$D$27="","...",'A23 data'!$D$27/'A23 data'!$D$20*100),"...") | D26: =IFERROR(IF('A23 data'!$M$27="","...",'A23 data'!$M$27/'A23 data'!$M$20*100),"...") | E26: =IF(OR('A23 data'!$M$27="",'A23 data'!$D$27=""),"...",IFERROR((('A23 data'!$M$27/'A23 data'!$D$27)^(1/9)-1)*100,"...")) | F26: =IF(OR('A23 data'!$K$27="",'A23 data'!$J$27=""),"...",IFERROR(('A23 data'!$K$27/'A23 data'!$J$27-1)*100,"...")) | G26: =IF(OR('A23 data'!$L$27="",'A23 data'!$K$27=""),"...",IFERROR(('A23 data'!$L$27/'A23 data'!$K$27-1)*100,"...")) | H26: =IF(OR('A23 data'!$M$27="",'A23 data'!$L$27=""),"...",IFERROR(('A23 data'!$M$27/'A23 data'!$L$27-1)*100,"..."))
A27: Canada | B27: =IF('A23 data'!$M$28="","...",'A23 data'!$M$28/1000) | C27: =IFERROR(IF('A23 data'!$D$28="","...",'A23 data'!$D$28/'A23 data'!$D$20*100),"...") | D27: =IFERROR(IF('A23 data'!$M$28="","...",'A23 data'!$M$28/'A23 data'!$M$20*100),"...") | E27: =IF(OR('A23 data'!$M$28="",'A23 data'!$D$28=""),"...",IFERROR((('A23 data'!$M$28/'A23 data'!$D$28)^(1/9)-1)*100,"...")) | F27: =IF(OR('A23 data'!$K$28="",'A23 data'!$J$28=""),"...",IFERROR(('A23 data'!$K$28/'A23 data'!$J$28-1)*100,"...")) | G27: =IF(OR('A23 data'!$L$28="",'A23 data'!$K$28=""),"...",IFERROR(('A23 data'!$L$28/'A23 data'!$K$28-1)*100,"...")) | H27: =IF(OR('A23 data'!$M$28="",'A23 data'!$L$28=""),"...",IFERROR(('A23 data'!$M$28/'A23 data'!$L$28-1)*100,"..."))
A28: Sweden | B28: =IF('A23 data'!$M$29="","...",'A23 data'!$M$29/1000) | C28: =IFERROR(IF('A23 data'!$D$29="","...",'A23 data'!$D$29/'A23 data'!$D$20*100),"...") | D28: =IFERROR(IF('A23 data'!$M$29="","...",'A23 data'!$M$29/'A23 data'!$M$20*100),"...") | E28: =IF(OR('A23 data'!$M$29="",'A23 data'!$D$29=""),"...",IFERROR((('A23 data'!$M$29/'A23 data'!$D$29)^(1/9)-1)*100,"...")) | F28: =IF(OR('A23 data'!$K$29="",'A23 data'!$J$29=""),"...",IFERROR(('A23 data'!$K$29/'A23 data'!$J$29-1)*100,"...")) | G28: =IF(OR('A23 data'!$L$29="",'A23 data'!$K$29=""),"...",IFERROR(('A23 data'!$L$29/'A23 data'!$K$29-1)*100,"...")) | H28: =IF(OR('A23 data'!$M$29="",'A23 data'!$L$29=""),"...",IFERROR(('A23 data'!$M$29/'A23 data'!$L$29-1)*100,"..."))
A29: Austria | B29: =IF('A23 data'!$M$30="","...",'A23 data'!$M$30/1000) | C29: =IFERROR(IF('A23 data'!$D$30="","...",'A23 data'!$D$30/'A23 data'!$D$20*100),"...") | D29: =IFERROR(IF('A23 data'!$M$30="","...",'A23 data'!$M$30/'A23 data'!$M$20*100),"...") | E29: =IF(OR('A23 data'!$M$30="",'A23 data'!$D$30=""),"...",IFERROR((('A23 data'!$M$30/'A23 data'!$D$30)^(1/9)-1)*100,"...")) | F29: =IF(OR('A23 data'!$K$30="",'A23 data'!$J$30=""),"...",IFERROR(('A23 data'!$K$30/'A23 data'!$J$30-1)*100,"...")) | G29: =IF(OR('A23 data'!$L$30="",'A23 data'!$K$30=""),"...",IFERROR(('A23 data'!$L$30/'A23 data'!$K$30-1)*100,"...")) | H29: =IF(OR('A23 data'!$M$30="",'A23 data'!$L$30=""),"...",IFERROR(('A23 data'!$M$30/'A23 data'!$L$30-1)*100,"..."))
A30: Norway | B30: =IF('A23 data'!$M$31="","...",'A23 data'!$M$31/1000) | C30: =IFERROR(IF('A23 data'!$D$31="","...",'A23 data'!$D$31/'A23 data'!$D$20*100),"...") | D30: =IFERROR(IF('A23 data'!$M$31="","...",'A23 data'!$M$31/'A23 data'!$M$20*100),"...") | E30: =IF(OR('A23 data'!$M$31="",'A23 data'!$D$31=""),"...",IFERROR((('A23 data'!$M$31/'A23 data'!$D$31)^(1/9)-1)*100,"...")) | F30: =IF(OR('A23 data'!$K$31="",'A23 data'!$J$31=""),"...",IFERROR(('A23 data'!$K$31/'A23 data'!$J$31-1)*100,"...")) | G30: =IF(OR('A23 data'!$L$31="",'A23 data'!$K$31=""),"...",IFERROR(('A23 data'!$L$31/'A23 data'!$K$31-1)*100,"...")) | H30: =IF(OR('A23 data'!$M$31="",'A23 data'!$L$31=""),"...",IFERROR(('A23 data'!$M$31/'A23 data'!$L$31-1)*100,"..."))
A31: Above 10 | B31: =IFERROR(B20+B22+B23+B24+B25+B26+B27+B28+B29+B30,"...") | C31: =IFERROR(C20+C22+C23+C24+C25+C26+C27+C28+C29+C30,"...") | D31: =IFERROR(D20+D22+D23+D24+D25+D26+D27+D28+D29+D30,"...") | E31: - | F31: - | G31: - | H31: -
A33: Notes
A34: The EU is ranked as one economy; its member states are not ranked. Extra-EU (the EU's trade with non-members) is shown beneath it and is not ranked.
A35: Before 2000 the EU figure is added up from the member states of each year (EC-9 in 1980, EC-10 in 1981-1985, EC-12 in 1986-1994, EU-15 in 1995-1999), the United Kingdom included; economies that joined later are ranked on their own. Extra-EU cannot be added up and shows "...". If a member state has no data for a year, the EU shows "...".
A36: EU changes and growth rates before 2000 compare the same member states in both years: those of the later year, added up for the earlier year too (for example, the change for 1995 is the EU-15 in 1995 against the same 15 in 1994), so they do not count an enlargement as growth. EU values and shares are for the members of each year.
A37: Where a former economy and its successor both report for the same year (for example West Germany and Germany), the former economy is ranked and the successor is not, so the same trade is not counted twice.
A38: Economies ranked in 1989: 95 exporters, 101 importers.
A39: "Above 10" is the sum of the ten ranked economies. "..." means not available.
A40: WTO publishes no world total for clothing imports in 1989, so the shares for that year show "...".
A41: Shares are of world clothing exports or imports. 1980-89 is the compound annual rate of change.
A42: Figures for every year are as WTO published them on 2026-09-29; WTO revises past figures, so they can differ from the printed review.
...

Sheet A22 data
A1: Raw data for table A22 (textiles), 1990 edition (trade data for 1989), US$ million. Source: WTO Timeseries via WTO Timeseries API v1 (api.wto.org).
A2: EU: WTO's EU-27 series from 2000; before 2000 added up from the member states of each year. Extra-EU from 2000 only. Rows "members of <year>" add up the same member states in two years, for the EU's changes and growth before 2000.
A3: Flow | B3: Code | C3: Economy | D3: 1980 | E3: 1981 | F3: 1982 | G3: 1983 | H3: 1984 | I3: 1985 | J3: 1986 | K3: 1987 | L3: 1988 | M3: 1989
A4: Exporters | B4: 000 | C4: World | D4: 54990 | M4: 95950
A5: Exporters | B5: 918 | C5: European Union (EC-12, added up) | D5: 23864 | E5: 21127 | F5: 19943 | G5: 19758 | H5: 20333 | I5: 21713 | J5: 29484 | K5: 35296 | L5: 37863 | M5: 39003
A6: Exporters | B6: EUT | C6: Extra-EU
A7: Exporters | B7: 344 | C7: Hong Kong, China | D7: 1771 | E7: 2183 | F7: 1888 | G7: 2033 | H7: 2726 | I7: 3038 | J7: 3959 | K7: 5669 | L7: 6371 | M7: 7574
A8: Exporters | B8: 156 | C8: China | D8: 2540 | E8: 3390 | F8: 2735 | G8: 3270 | H8: 3825 | I8: 3680 | J8: 5440 | K8: 6485 | L8: 6975 | M8: 7215
A9: Exporters | B9: 392 | C9: Japan | D9: 5123 | E9: 5869 | F9: 5102 | G9: 5345 | H9: 5358 | I9: 4943 | J9: 5488 | K9: 5597 | L9: 5527 | M9: 5534
A10: Exporters | B10: 158 | C10: Chinese Taipei | D10: 1771 | E10: 2022 | F10: 1748 | G10: 1803 | H10: 2169 | I10: 2490 | J10: 3045 | K10: 4087 | L10: 4545 | M10: 5442
A11: Exporters | B11: 410 | C11: Korea, Republic of | D11: 2209 | E11: 2460 | F11: 2251 | G11: 2423 | H11: 2615 | I11: 2534 | J11: 3215 | K11: 4080 | L11: 4848 | M11: 5371
A12: Exporters | B12: 840 | C12: United States of America | D12: 3757 | E12: 3742 | F12: 2890 | G12: 2500 | H12: 2535 | I12: 2541 | J12: 2812 | K12: 3127 | L12: 3890 | M12: 4371
A13: Exporters | B13: 756 | C13: Switzerland | D13: 1534 | E13: 1393 | F13: 1376 | G13: 1374 | H13: 1369 | I13: 1443 | J13: 1892 | K13: 2118 | L13: 2188 | M13: 2116
A14: Exporters | B14: 586 | C14: Pakistan | D14: 876 | E14: 976 | F14: 928 | G14: 1312 | H14: 999 | I14: 970 | J14: 1264 | K14: 1854 | L14: 1803 | M14: 2018
A15: Exporters | B15: 356 | C15: India | D15: 1306 | E15: 1168 | F15: 1064 | G15: 889 | H15: 1175 | I15: 1054 | J15: 1062 | K15: 1573 | L15: 1585 | M15: 1810
A16: Exporters | B16: 918 | C16: European Union, members of 1987 (EC-12), 1986 and 1987 | J16: 29484 | K16: 35296
A17: Exporters | B17: 918 | C17: European Union, members of 1988 (EC-12), 1987 and 1988 | K17: 35296 | L17: 37863
A18: Exporters | B18: 918 | C18: European Union, members of 1989 (EC-12), 1988 and 1989 | L18: 37863 | M18: 39003
A19: Exporters | B19: 918 | C19: European Union, members of 1989 (EC-12), 1980 and 1989 | D19: 25649 | M19: 39003
A20: Importers | B20: 000 | C20: World | D20: 56975 | I20: 55618
A21: Importers | B21: 918 | C21: European Union (EC-12, added up) | D21: 22886 | E21: 19199 | F21: 18414 | G21: 18191 | H21: 18605 | I21: 19758 | J21: 26864 | K21: 33081 | L21: 35975 | M21: 37346
A22: Importers | B22: EUT | C22: Extra-EU
A23: Importers | B23: 344 | C23: Hong Kong, China | D23: 2967 | E23: 3428 | F23: 2970 | G23: 3278 | H23: 4178 | I23: 4281 | J23: 5418 | K23: 7304 | L23: 8007 | M23: 9218
A24: Importers | B24: 840 | C24: United States of America | D24: 2542 | E24: 3072 | F24: 2852 | G24: 3276 | H24: 4617 | I24: 4977 | J24: 5838 | K24: 6512 | L24: 6279 | M24: 6417
A25: Importers | B25: 156 | C25: China | D25: 1100 | E25: 1670 | F25: 1170 | G25: 911 | H25: 1370 | I25: 2040 | J25: 3160 | K25: 3589 | L25: 4219 | M25: 4603
A26: Importers | B26: 392 | C26: Japan | D26: 1722 | E26: 1639 | F26: 1612 | G26: 1496 | H26: 1934 | I26: 1900 | J26: 2185 | K26: 2994 | L26: 3934 | M26: 4347
A27: Importers | B27: 810 | C27: U.S.S.R. | D27: 2110 | E27: 1980 | F27: 2000 | G27: 1470 | H27: 1970 | I27: 2070 | J27: 2140 | K27: 2060 | L27: 2250 | M27: 2500
A28: Importers | B28: 124 | C28: Canada | D28: 1306 | E28: 1413 | F28: 1138 | G28: 1406 | H28: 1570 | I28: 1618 | J28: 1789 | K28: 2005 | L28: 2176 | M28: 2357
A29: Importers | B29: 410 | C29: Korea, Republic of | D29: 409 | E29: 494 | F29: 501 | G29: 506 | H29: 603 | I29: 638 | J29: 926 | K29: 1408 | L29: 1590 | M29: 1835
A30: Importers | B30: 702 | C30: Singapore | D30: 853 | E30: 896 | F30: 896 | G30: 971 | H30: 948 | I30: 851 | J30: 1030 | K30: 1370 | L30: 1467 | M30: 1602
A31: Importers | B31: 036 | C31: Australia | D31: 1117 | E31: 1163 | F31: 1118 | G31: 987 | H31: 1219 | I31: 1107 | J31: 1159 | K31: 1337 | L31: 1494 | M31: 1578
A32: Importers | B32: 918 | C32: European Union, members of 1987 (EC-12), 1986 and 1987 | J32: 26864 | K32: 33081
A33: Importers | B33: 918 | C33: European Union, members of 1988 (EC-12), 1987 and 1988 | K33: 33081 | L33: 35975
A34: Importers | B34: 918 | C34: European Union, members of 1989 (EC-12), 1988 and 1989 | L34: 35975 | M34: 37346
A35: Importers | B35: 918 | C35: European Union, members of 1989 (EC-12), 1980 and 1989 | D35: 23722 | M35: 37346

Sheet A23 data
A1: Raw data for table A23 (clothing), 1990 edition (trade data for 1989), US$ million. Source: WTO Timeseries via WTO Timeseries API v1 (api.wto.org).
A2: EU: WTO's EU-27 series from 2000; before 2000 added up from the member states of each year. Extra-EU from 2000 only. Rows "members of <year>" add up the same member states in two years, for the EU's changes and growth before 2000.
A3: Flow | B3: Code | C3: Economy | D3: 1980 | E3: 1981 | F3: 1982 | G3: 1983 | H3: 1984 | I3: 1985 | J3: 1986 | K3: 1987 | L3: 1988 | M3: 1989
A4: Exporters | B4: 000 | C4: World | D4: 40590 | M4: 97450
A5: Exporters | B5: 918 | C5: European Union (EC-12, added up) | D5: 14026 | E5: 12883 | F5: 12592 | G5: 12575 | H5: 13092 | I5: 14445 | J5: 22006 | K5: 27247 | L5: 28204 | M5: 29629
A6: Exporters | B6: EUT | C6: Extra-EU
A7: Exporters | B7: 344 | C7: Hong Kong, China | D7: 4976 | E7: 5424 | F7: 5241 | G7: 5308 | H7: 6765 | I7: 6718 | J7: 8398 | K7: 10720 | L7: 11786 | M7: 13994
A8: Exporters | B8: 410 | C8: Korea, Republic of | D8: 2949 | E8: 3868 | F8: 3774 | G8: 3707 | H8: 4501 | I8: 4450 | J8: 5483 | K8: 7537 | L8: 8694 | M8: 9096
A9: Exporters | B9: 156 | C9: China | D9: 1625 | E9: 1930 | F9: 2140 | G9: 2320 | H9: 2755 | I9: 2450 | J9: 4050 | K9: 5790 | L9: 6990 | M9: 8165
A10: Exporters | B10: 158 | C10: Chinese Taipei | D10: 2430 | E10: 2851 | F10: 2895 | G10: 2987 | H10: 3764 | I10: 3499 | J10: 4233 | K10: 4989 | L10: 4708 | M10: 4735
A11: Exporters | B11: 792 | C11: Türkiye | D11: 131 | E11: 314 | F11: 398 | G11: 648 | H11: 1267 | I11: 1208 | J11: 1245 | K11: 2197 | L11: 2352 | M11: 2741
A12: Exporters | B12: 764 | C12: Thailand | D12: 267 | E12: 344 | F12: 371 | G12: 409 | H12: 552 | I12: 573 | J12: 825 | K12: 1500 | L12: 1934 | M12: 2458
A13: Exporters | B13: 840 | C13: United States of America | D13: 1263 | E13: 1305 | F13: 1040 | G13: 928 | H13: 900 | I13: 785 | J13: 949 | K13: 1209 | L13: 1640 | M13: 2211
A14: Exporters | B14: 356 | C14: India | D14: 673 | E14: 755 | F14: 625 | G14: 694 | H14: 831 | I14: 930 | J14: 1061 | K14: 1402 | L14: 1508 | M14: 2060
A15: Exporters | B15: 608 | C15: Philippines | D15: 279 | E15: 578 | F15: 528 | G15: 526 | H15: 619 | I15: 598 | J15: 727 | K15: 1004 | L15: 1232 | M15: 1452
A16: Exporters | B16: 918 | C16: European Union, members of 1987 (EC-12), 1986 and 1987 | J16: 22006 | K16: 27247
A17: Exporters | B17: 918 | C17: European Union, members of 1988 (EC-12), 1987 and 1988 | K17: 27247 | L17: 28204
A18: Exporters | B18: 918 | C18: European Union, members of 1989 (EC-12), 1988 and 1989 | L18: 28204 | M18: 29629
A19: Exporters | B19: 918 | C19: European Union, members of 1989 (EC-12), 1980 and 1989 | D19: 15367 | M19: 29629
A20: Importers | B20: 000 | C20: World | D20: 42271 | I20: 50822
A21: Importers | B21: 918 | C21: European Union (EC-12, added up) | D21: 20232 | E21: 17938 | F21: 16975 | G21: 16317 | H21: 16790 | I21: 17511 | J21: 25656 | K21: 34459 | L21: 37064 | M21: 38389
A22: Importers | B22: EUT | C22: Extra-EU
A23: Importers | B23: 840 | C23: United States of America | D23: 6943 | E23: 8118 | F23: 8791 | G23: 10418 | H23: 14598 | I23: 16201 | J23: 18692 | K23: 22116 | L23: 23061 | M23: 26026
A24: Importers | B24: 392 | C24: Japan | D24: 1537 | E24: 1813 | F24: 1844 | G24: 1511 | H24: 1962 | I24: 2012 | J24: 2878 | K24: 4674 | L24: 6739 | M24: 8972
A25: Importers | B25: 344 | C25: Hong Kong, China | D25: 695 | E25: 932 | F25: 1061 | G25: 1156 | H25: 1472 | I25: 1671 | J25: 2525 | K25: 3338 | L25: 4102 | M25: 5700
A26: Importers | B26: 810 | C26: U.S.S.R. | D26: 2530 | E26: 2640 | F26: 2680 | G26: 2570 | H26: 2700 | I26: 3210 | J26: 3700 | K26: 3810 | L26: 4220 | M26: 4820
A27: Importers | B27: 756 | C27: Switzerland | D27: 1456 | E27: 1370 | F27: 1372 | G27: 1376 | H27: 1443 | I27: 1475 | J27: 2101 | K27: 2749 | L27: 2826 | M27: 2800
A28: Importers | B28: 124 | C28: Canada | D28: 715 | E28: 844 | F28: 841 | G28: 1027 | H28: 1296 | I28: 1285 | J28: 1534 | K28: 1770 | L28: 1913 | M28: 2179
A29: Importers | B29: 752 | C29: Sweden | D29: 1344 | E29: 1152 | F29: 1081 | G29: 939 | H29: 975 | I29: 1127 | J29: 1519 | K29: 2036 | L29: 2086 | M29: 2076
A30: Importers | B30: 040 | C30: Austria | D30: 941 | E30: 766 | F30: 772 | G30: 829 | H30: 871 | I30: 883 | J30: 1286 | K30: 1712 | L30: 1720 | M30: 1727
A31: Importers | B31: 578 | C31: Norway | D31: 709 | E31: 657 | F31: 656 | G31: 597 | H31: 632 | I31: 785 | J31: 1121 | K31: 1267 | L31: 1144 | M31: 1027
A32: Importers | B32: 918 | C32: European Union, members of 1987 (EC-12), 1986 and 1987 | J32: 25656 | K32: 34459
A33: Importers | B33: 918 | C33: European Union, members of 1988 (EC-12), 1987 and 1988 | K33: 34459 | L33: 37064
A34: Importers | B34: 918 | C34: European Union, members of 1989 (EC-12), 1988 and 1989 | L34: 37064 | M34: 38389
A35: Importers | B35: 918 | C35: European Union, members of 1989 (EC-12), 1980 and 1989 | D35: 20429 | M35: 38389
