Workbook

Sheet A22 textiles
A1: Table A22, 1985 edition (trade data for 1984)
A2: Top 10 exporters and importers of textiles, 1984
A3: (Billion dollars and percentage)
A5: Economy | B5: Value 1984 (US$ bn) | C5: Share 1980 (%) | D5: Share 1984 (%) | E5: Change 1980-84 (% p.a.) | F5: Change 1982 (%) | G5: Change 1983 (%) | H5: Change 1984 (%)
A6: Exporters
A7: European Union (EC-10, added up) | B7: =IF('A22 data'!$H$5="","...",'A22 data'!$H$5/1000) | C7: =IFERROR(IF('A22 data'!$D$5="","...",'A22 data'!$D$5/'A22 data'!$D$4*100),"...") | D7: =IFERROR(IF('A22 data'!$H$5="","...",'A22 data'!$H$5/'A22 data'!$H$4*100),"...") | E7: =IF(OR('A22 data'!$H$19="",'A22 data'!$D$19=""),"...",IFERROR((('A22 data'!$H$19/'A22 data'!$D$19)^(1/4)-1)*100,"...")) | F7: =IF(OR('A22 data'!$F$16="",'A22 data'!$E$16=""),"...",IFERROR(('A22 data'!$F$16/'A22 data'!$E$16-1)*100,"...")) | G7: =IF(OR('A22 data'!$G$17="",'A22 data'!$F$17=""),"...",IFERROR(('A22 data'!$G$17/'A22 data'!$F$17-1)*100,"...")) | H7: =IF(OR('A22 data'!$H$18="",'A22 data'!$G$18=""),"...",IFERROR(('A22 data'!$H$18/'A22 data'!$G$18-1)*100,"..."))
A8: Extra-EU | B8: =IF('A22 data'!$H$6="","...",'A22 data'!$H$6/1000) | C8: =IFERROR(IF('A22 data'!$D$6="","...",'A22 data'!$D$6/'A22 data'!$D$4*100),"...") | D8: =IFERROR(IF('A22 data'!$H$6="","...",'A22 data'!$H$6/'A22 data'!$H$4*100),"...") | E8: =IF(OR('A22 data'!$H$6="",'A22 data'!$D$6=""),"...",IFERROR((('A22 data'!$H$6/'A22 data'!$D$6)^(1/4)-1)*100,"...")) | F8: =IF(OR('A22 data'!$F$6="",'A22 data'!$E$6=""),"...",IFERROR(('A22 data'!$F$6/'A22 data'!$E$6-1)*100,"...")) | G8: =IF(OR('A22 data'!$G$6="",'A22 data'!$F$6=""),"...",IFERROR(('A22 data'!$G$6/'A22 data'!$F$6-1)*100,"...")) | H8: =IF(OR('A22 data'!$H$6="",'A22 data'!$G$6=""),"...",IFERROR(('A22 data'!$H$6/'A22 data'!$G$6-1)*100,"..."))
A9: Japan | B9: =IF('A22 data'!$H$7="","...",'A22 data'!$H$7/1000) | C9: =IFERROR(IF('A22 data'!$D$7="","...",'A22 data'!$D$7/'A22 data'!$D$4*100),"...") | D9: =IFERROR(IF('A22 data'!$H$7="","...",'A22 data'!$H$7/'A22 data'!$H$4*100),"...") | E9: =IF(OR('A22 data'!$H$7="",'A22 data'!$D$7=""),"...",IFERROR((('A22 data'!$H$7/'A22 data'!$D$7)^(1/4)-1)*100,"...")) | F9: =IF(OR('A22 data'!$F$7="",'A22 data'!$E$7=""),"...",IFERROR(('A22 data'!$F$7/'A22 data'!$E$7-1)*100,"...")) | G9: =IF(OR('A22 data'!$G$7="",'A22 data'!$F$7=""),"...",IFERROR(('A22 data'!$G$7/'A22 data'!$F$7-1)*100,"...")) | H9: =IF(OR('A22 data'!$H$7="",'A22 data'!$G$7=""),"...",IFERROR(('A22 data'!$H$7/'A22 data'!$G$7-1)*100,"..."))
A10: China | B10: =IF('A22 data'!$H$8="","...",'A22 data'!$H$8/1000) | C10: =IFERROR(IF('A22 data'!$D$8="","...",'A22 data'!$D$8/'A22 data'!$D$4*100),"...") | D10: =IFERROR(IF('A22 data'!$H$8="","...",'A22 data'!$H$8/'A22 data'!$H$4*100),"...") | E10: =IF(OR('A22 data'!$H$8="",'A22 data'!$D$8=""),"...",IFERROR((('A22 data'!$H$8/'A22 data'!$D$8)^(1/4)-1)*100,"...")) | F10: =IF(OR('A22 data'!$F$8="",'A22 data'!$E$8=""),"...",IFERROR(('A22 data'!$F$8/'A22 data'!$E$8-1)*100,"...")) | G10: =IF(OR('A22 data'!$G$8="",'A22 data'!$F$8=""),"...",IFERROR(('A22 data'!$G$8/'A22 data'!$F$8-1)*100,"...")) | H10: =IF(OR('A22 data'!$H$8="",'A22 data'!$G$8=""),"...",IFERROR(('A22 data'!$H$8/'A22 data'!$G$8-1)*100,"..."))
A11: Hong Kong, China | B11: =IF('A22 data'!$H$9="","...",'A22 data'!$H$9/1000) | C11: =IFERROR(IF('A22 data'!$D$9="","...",'A22 data'!$D$9/'A22 data'!$D$4*100),"...") | D11: =IFERROR(IF('A22 data'!$H$9="","...",'A22 data'!$H$9/'A22 data'!$H$4*100),"...") | E11: =IF(OR('A22 data'!$H$9="",'A22 data'!$D$9=""),"...",IFERROR((('A22 data'!$H$9/'A22 data'!$D$9)^(1/4)-1)*100,"...")) | F11: =IF(OR('A22 data'!$F$9="",'A22 data'!$E$9=""),"...",IFERROR(('A22 data'!$F$9/'A22 data'!$E$9-1)*100,"...")) | G11: =IF(OR('A22 data'!$G$9="",'A22 data'!$F$9=""),"...",IFERROR(('A22 data'!$G$9/'A22 data'!$F$9-1)*100,"...")) | H11: =IF(OR('A22 data'!$H$9="",'A22 data'!$G$9=""),"...",IFERROR(('A22 data'!$H$9/'A22 data'!$G$9-1)*100,"..."))
A12: Korea, Republic of | B12: =IF('A22 data'!$H$10="","...",'A22 data'!$H$10/1000) | C12: =IFERROR(IF('A22 data'!$D$10="","...",'A22 data'!$D$10/'A22 data'!$D$4*100),"...") | D12: =IFERROR(IF('A22 data'!$H$10="","...",'A22 data'!$H$10/'A22 data'!$H$4*100),"...") | E12: =IF(OR('A22 data'!$H$10="",'A22 data'!$D$10=""),"...",IFERROR((('A22 data'!$H$10/'A22 data'!$D$10)^(1/4)-1)*100,"...")) | F12: =IF(OR('A22 data'!$F$10="",'A22 data'!$E$10=""),"...",IFERROR(('A22 data'!$F$10/'A22 data'!$E$10-1)*100,"...")) | G12: =IF(OR('A22 data'!$G$10="",'A22 data'!$F$10=""),"...",IFERROR(('A22 data'!$G$10/'A22 data'!$F$10-1)*100,"...")) | H12: =IF(OR('A22 data'!$H$10="",'A22 data'!$G$10=""),"...",IFERROR(('A22 data'!$H$10/'A22 data'!$G$10-1)*100,"..."))
A13: United States of America | B13: =IF('A22 data'!$H$11="","...",'A22 data'!$H$11/1000) | C13: =IFERROR(IF('A22 data'!$D$11="","...",'A22 data'!$D$11/'A22 data'!$D$4*100),"...") | D13: =IFERROR(IF('A22 data'!$H$11="","...",'A22 data'!$H$11/'A22 data'!$H$4*100),"...") | E13: =IF(OR('A22 data'!$H$11="",'A22 data'!$D$11=""),"...",IFERROR((('A22 data'!$H$11/'A22 data'!$D$11)^(1/4)-1)*100,"...")) | F13: =IF(OR('A22 data'!$F$11="",'A22 data'!$E$11=""),"...",IFERROR(('A22 data'!$F$11/'A22 data'!$E$11-1)*100,"...")) | G13: =IF(OR('A22 data'!$G$11="",'A22 data'!$F$11=""),"...",IFERROR(('A22 data'!$G$11/'A22 data'!$F$11-1)*100,"...")) | H13: =IF(OR('A22 data'!$H$11="",'A22 data'!$G$11=""),"...",IFERROR(('A22 data'!$H$11/'A22 data'!$G$11-1)*100,"..."))
A14: Chinese Taipei | B14: =IF('A22 data'!$H$12="","...",'A22 data'!$H$12/1000) | C14: =IFERROR(IF('A22 data'!$D$12="","...",'A22 data'!$D$12/'A22 data'!$D$4*100),"...") | D14: =IFERROR(IF('A22 data'!$H$12="","...",'A22 data'!$H$12/'A22 data'!$H$4*100),"...") | E14: =IF(OR('A22 data'!$H$12="",'A22 data'!$D$12=""),"...",IFERROR((('A22 data'!$H$12/'A22 data'!$D$12)^(1/4)-1)*100,"...")) | F14: =IF(OR('A22 data'!$F$12="",'A22 data'!$E$12=""),"...",IFERROR(('A22 data'!$F$12/'A22 data'!$E$12-1)*100,"...")) | G14: =IF(OR('A22 data'!$G$12="",'A22 data'!$F$12=""),"...",IFERROR(('A22 data'!$G$12/'A22 data'!$F$12-1)*100,"...")) | H14: =IF(OR('A22 data'!$H$12="",'A22 data'!$G$12=""),"...",IFERROR(('A22 data'!$H$12/'A22 data'!$G$12-1)*100,"..."))
A15: Switzerland | B15: =IF('A22 data'!$H$13="","...",'A22 data'!$H$13/1000) | C15: =IFERROR(IF('A22 data'!$D$13="","...",'A22 data'!$D$13/'A22 data'!$D$4*100),"...") | D15: =IFERROR(IF('A22 data'!$H$13="","...",'A22 data'!$H$13/'A22 data'!$H$4*100),"...") | E15: =IF(OR('A22 data'!$H$13="",'A22 data'!$D$13=""),"...",IFERROR((('A22 data'!$H$13/'A22 data'!$D$13)^(1/4)-1)*100,"...")) | F15: =IF(OR('A22 data'!$F$13="",'A22 data'!$E$13=""),"...",IFERROR(('A22 data'!$F$13/'A22 data'!$E$13-1)*100,"...")) | G15: =IF(OR('A22 data'!$G$13="",'A22 data'!$F$13=""),"...",IFERROR(('A22 data'!$G$13/'A22 data'!$F$13-1)*100,"...")) | H15: =IF(OR('A22 data'!$H$13="",'A22 data'!$G$13=""),"...",IFERROR(('A22 data'!$H$13/'A22 data'!$G$13-1)*100,"..."))
A16: India | B16: =IF('A22 data'!$H$14="","...",'A22 data'!$H$14/1000) | C16: =IFERROR(IF('A22 data'!$D$14="","...",'A22 data'!$D$14/'A22 data'!$D$4*100),"...") | D16: =IFERROR(IF('A22 data'!$H$14="","...",'A22 data'!$H$14/'A22 data'!$H$4*100),"...") | E16: =IF(OR('A22 data'!$H$14="",'A22 data'!$D$14=""),"...",IFERROR((('A22 data'!$H$14/'A22 data'!$D$14)^(1/4)-1)*100,"...")) | F16: =IF(OR('A22 data'!$F$14="",'A22 data'!$E$14=""),"...",IFERROR(('A22 data'!$F$14/'A22 data'!$E$14-1)*100,"...")) | G16: =IF(OR('A22 data'!$G$14="",'A22 data'!$F$14=""),"...",IFERROR(('A22 data'!$G$14/'A22 data'!$F$14-1)*100,"...")) | H16: =IF(OR('A22 data'!$H$14="",'A22 data'!$G$14=""),"...",IFERROR(('A22 data'!$H$14/'A22 data'!$G$14-1)*100,"..."))
A17: Türkiye | B17: =IF('A22 data'!$H$15="","...",'A22 data'!$H$15/1000) | C17: =IFERROR(IF('A22 data'!$D$15="","...",'A22 data'!$D$15/'A22 data'!$D$4*100),"...") | D17: =IFERROR(IF('A22 data'!$H$15="","...",'A22 data'!$H$15/'A22 data'!$H$4*100),"...") | E17: =IF(OR('A22 data'!$H$15="",'A22 data'!$D$15=""),"...",IFERROR((('A22 data'!$H$15/'A22 data'!$D$15)^(1/4)-1)*100,"...")) | F17: =IF(OR('A22 data'!$F$15="",'A22 data'!$E$15=""),"...",IFERROR(('A22 data'!$F$15/'A22 data'!$E$15-1)*100,"...")) | G17: =IF(OR('A22 data'!$G$15="",'A22 data'!$F$15=""),"...",IFERROR(('A22 data'!$G$15/'A22 data'!$F$15-1)*100,"...")) | H17: =IF(OR('A22 data'!$H$15="",'A22 data'!$G$15=""),"...",IFERROR(('A22 data'!$H$15/'A22 data'!$G$15-1)*100,"..."))
A18: Above 10 | B18: =IFERROR(B7+B9+B10+B11+B12+B13+B14+B15+B16+B17,"...") | C18: =IFERROR(C7+C9+C10+C11+C12+C13+C14+C15+C16+C17,"...") | D18: =IFERROR(D7+D9+D10+D11+D12+D13+D14+D15+D16+D17,"...") | E18: - | F18: - | G18: - | H18: -
A19: Importers
A20: European Union (EC-10, added up) | B20: =IF('A22 data'!$H$21="","...",'A22 data'!$H$21/1000) | C20: =IFERROR(IF('A22 data'!$D$21="","...",'A22 data'!$D$21/'A22 data'!$D$20*100),"...") | D20: =IFERROR(IF('A22 data'!$H$21="","...",'A22 data'!$H$21/'A22 data'!$H$20*100),"...") | E20: =IF(OR('A22 data'!$H$35="",'A22 data'!$D$35=""),"...",IFERROR((('A22 data'!$H$35/'A22 data'!$D$35)^(1/4)-1)*100,"...")) | F20: =IF(OR('A22 data'!$F$32="",'A22 data'!$E$32=""),"...",IFERROR(('A22 data'!$F$32/'A22 data'!$E$32-1)*100,"...")) | G20: =IF(OR('A22 data'!$G$33="",'A22 data'!$F$33=""),"...",IFERROR(('A22 data'!$G$33/'A22 data'!$F$33-1)*100,"...")) | H20: =IF(OR('A22 data'!$H$34="",'A22 data'!$G$34=""),"...",IFERROR(('A22 data'!$H$34/'A22 data'!$G$34-1)*100,"..."))
A21: Extra-EU | B21: =IF('A22 data'!$H$22="","...",'A22 data'!$H$22/1000) | C21: =IFERROR(IF('A22 data'!$D$22="","...",'A22 data'!$D$22/'A22 data'!$D$20*100),"...") | D21: =IFERROR(IF('A22 data'!$H$22="","...",'A22 data'!$H$22/'A22 data'!$H$20*100),"...") | E21: =IF(OR('A22 data'!$H$22="",'A22 data'!$D$22=""),"...",IFERROR((('A22 data'!$H$22/'A22 data'!$D$22)^(1/4)-1)*100,"...")) | F21: =IF(OR('A22 data'!$F$22="",'A22 data'!$E$22=""),"...",IFERROR(('A22 data'!$F$22/'A22 data'!$E$22-1)*100,"...")) | G21: =IF(OR('A22 data'!$G$22="",'A22 data'!$F$22=""),"...",IFERROR(('A22 data'!$G$22/'A22 data'!$F$22-1)*100,"...")) | H21: =IF(OR('A22 data'!$H$22="",'A22 data'!$G$22=""),"...",IFERROR(('A22 data'!$H$22/'A22 data'!$G$22-1)*100,"..."))
A22: United States of America | B22: =IF('A22 data'!$H$23="","...",'A22 data'!$H$23/1000) | C22: =IFERROR(IF('A22 data'!$D$23="","...",'A22 data'!$D$23/'A22 data'!$D$20*100),"...") | D22: =IFERROR(IF('A22 data'!$H$23="","...",'A22 data'!$H$23/'A22 data'!$H$20*100),"...") | E22: =IF(OR('A22 data'!$H$23="",'A22 data'!$D$23=""),"...",IFERROR((('A22 data'!$H$23/'A22 data'!$D$23)^(1/4)-1)*100,"...")) | F22: =IF(OR('A22 data'!$F$23="",'A22 data'!$E$23=""),"...",IFERROR(('A22 data'!$F$23/'A22 data'!$E$23-1)*100,"...")) | G22: =IF(OR('A22 data'!$G$23="",'A22 data'!$F$23=""),"...",IFERROR(('A22 data'!$G$23/'A22 data'!$F$23-1)*100,"...")) | H22: =IF(OR('A22 data'!$H$23="",'A22 data'!$G$23=""),"...",IFERROR(('A22 data'!$H$23/'A22 data'!$G$23-1)*100,"..."))
A23: Hong Kong, China | B23: =IF('A22 data'!$H$24="","...",'A22 data'!$H$24/1000) | C23: =IFERROR(IF('A22 data'!$D$24="","...",'A22 data'!$D$24/'A22 data'!$D$20*100),"...") | D23: =IFERROR(IF('A22 data'!$H$24="","...",'A22 data'!$H$24/'A22 data'!$H$20*100),"...") | E23: =IF(OR('A22 data'!$H$24="",'A22 data'!$D$24=""),"...",IFERROR((('A22 data'!$H$24/'A22 data'!$D$24)^(1/4)-1)*100,"...")) | F23: =IF(OR('A22 data'!$F$24="",'A22 data'!$E$24=""),"...",IFERROR(('A22 data'!$F$24/'A22 data'!$E$24-1)*100,"...")) | G23: =IF(OR('A22 data'!$G$24="",'A22 data'!$F$24=""),"...",IFERROR(('A22 data'!$G$24/'A22 data'!$F$24-1)*100,"...")) | H23: =IF(OR('A22 data'!$H$24="",'A22 data'!$G$24=""),"...",IFERROR(('A22 data'!$H$24/'A22 data'!$G$24-1)*100,"..."))
A24: U.S.S.R. | B24: =IF('A22 data'!$H$25="","...",'A22 data'!$H$25/1000) | C24: =IFERROR(IF('A22 data'!$D$25="","...",'A22 data'!$D$25/'A22 data'!$D$20*100),"...") | D24: =IFERROR(IF('A22 data'!$H$25="","...",'A22 data'!$H$25/'A22 data'!$H$20*100),"...") | E24: =IF(OR('A22 data'!$H$25="",'A22 data'!$D$25=""),"...",IFERROR((('A22 data'!$H$25/'A22 data'!$D$25)^(1/4)-1)*100,"...")) | F24: =IF(OR('A22 data'!$F$25="",'A22 data'!$E$25=""),"...",IFERROR(('A22 data'!$F$25/'A22 data'!$E$25-1)*100,"...")) | G24: =IF(OR('A22 data'!$G$25="",'A22 data'!$F$25=""),"...",IFERROR(('A22 data'!$G$25/'A22 data'!$F$25-1)*100,"...")) | H24: =IF(OR('A22 data'!$H$25="",'A22 data'!$G$25=""),"...",IFERROR(('A22 data'!$H$25/'A22 data'!$G$25-1)*100,"..."))
A25: Japan | B25: =IF('A22 data'!$H$26="","...",'A22 data'!$H$26/1000) | C25: =IFERROR(IF('A22 data'!$D$26="","...",'A22 data'!$D$26/'A22 data'!$D$20*100),"...") | D25: =IFERROR(IF('A22 data'!$H$26="","...",'A22 data'!$H$26/'A22 data'!$H$20*100),"...") | E25: =IF(OR('A22 data'!$H$26="",'A22 data'!$D$26=""),"...",IFERROR((('A22 data'!$H$26/'A22 data'!$D$26)^(1/4)-1)*100,"...")) | F25: =IF(OR('A22 data'!$F$26="",'A22 data'!$E$26=""),"...",IFERROR(('A22 data'!$F$26/'A22 data'!$E$26-1)*100,"...")) | G25: =IF(OR('A22 data'!$G$26="",'A22 data'!$F$26=""),"...",IFERROR(('A22 data'!$G$26/'A22 data'!$F$26-1)*100,"...")) | H25: =IF(OR('A22 data'!$H$26="",'A22 data'!$G$26=""),"...",IFERROR(('A22 data'!$H$26/'A22 data'!$G$26-1)*100,"..."))
A26: Canada | B26: =IF('A22 data'!$H$27="","...",'A22 data'!$H$27/1000) | C26: =IFERROR(IF('A22 data'!$D$27="","...",'A22 data'!$D$27/'A22 data'!$D$20*100),"...") | D26: =IFERROR(IF('A22 data'!$H$27="","...",'A22 data'!$H$27/'A22 data'!$H$20*100),"...") | E26: =IF(OR('A22 data'!$H$27="",'A22 data'!$D$27=""),"...",IFERROR((('A22 data'!$H$27/'A22 data'!$D$27)^(1/4)-1)*100,"...")) | F26: =IF(OR('A22 data'!$F$27="",'A22 data'!$E$27=""),"...",IFERROR(('A22 data'!$F$27/'A22 data'!$E$27-1)*100,"...")) | G26: =IF(OR('A22 data'!$G$27="",'A22 data'!$F$27=""),"...",IFERROR(('A22 data'!$G$27/'A22 data'!$F$27-1)*100,"...")) | H26: =IF(OR('A22 data'!$H$27="",'A22 data'!$G$27=""),"...",IFERROR(('A22 data'!$H$27/'A22 data'!$G$27-1)*100,"..."))
A27: Saudi Arabia, Kingdom of | B27: =IF('A22 data'!$H$28="","...",'A22 data'!$H$28/1000) | C27: =IFERROR(IF('A22 data'!$D$28="","...",'A22 data'!$D$28/'A22 data'!$D$20*100),"...") | D27: =IFERROR(IF('A22 data'!$H$28="","...",'A22 data'!$H$28/'A22 data'!$H$20*100),"...") | E27: =IF(OR('A22 data'!$H$28="",'A22 data'!$D$28=""),"...",IFERROR((('A22 data'!$H$28/'A22 data'!$D$28)^(1/4)-1)*100,"...")) | F27: =IF(OR('A22 data'!$F$28="",'A22 data'!$E$28=""),"...",IFERROR(('A22 data'!$F$28/'A22 data'!$E$28-1)*100,"...")) | G27: =IF(OR('A22 data'!$G$28="",'A22 data'!$F$28=""),"...",IFERROR(('A22 data'!$G$28/'A22 data'!$F$28-1)*100,"...")) | H27: =IF(OR('A22 data'!$H$28="",'A22 data'!$G$28=""),"...",IFERROR(('A22 data'!$H$28/'A22 data'!$G$28-1)*100,"..."))
A28: China | B28: =IF('A22 data'!$H$29="","...",'A22 data'!$H$29/1000) | C28: =IFERROR(IF('A22 data'!$D$29="","...",'A22 data'!$D$29/'A22 data'!$D$20*100),"...") | D28: =IFERROR(IF('A22 data'!$H$29="","...",'A22 data'!$H$29/'A22 data'!$H$20*100),"...") | E28: =IF(OR('A22 data'!$H$29="",'A22 data'!$D$29=""),"...",IFERROR((('A22 data'!$H$29/'A22 data'!$D$29)^(1/4)-1)*100,"...")) | F28: =IF(OR('A22 data'!$F$29="",'A22 data'!$E$29=""),"...",IFERROR(('A22 data'!$F$29/'A22 data'!$E$29-1)*100,"...")) | G28: =IF(OR('A22 data'!$G$29="",'A22 data'!$F$29=""),"...",IFERROR(('A22 data'!$G$29/'A22 data'!$F$29-1)*100,"...")) | H28: =IF(OR('A22 data'!$H$29="",'A22 data'!$G$29=""),"...",IFERROR(('A22 data'!$H$29/'A22 data'!$G$29-1)*100,"..."))
A29: Australia | B29: =IF('A22 data'!$H$30="","...",'A22 data'!$H$30/1000) | C29: =IFERROR(IF('A22 data'!$D$30="","...",'A22 data'!$D$30/'A22 data'!$D$20*100),"...") | D29: =IFERROR(IF('A22 data'!$H$30="","...",'A22 data'!$H$30/'A22 data'!$H$20*100),"...") | E29: =IF(OR('A22 data'!$H$30="",'A22 data'!$D$30=""),"...",IFERROR((('A22 data'!$H$30/'A22 data'!$D$30)^(1/4)-1)*100,"...")) | F29: =IF(OR('A22 data'!$F$30="",'A22 data'!$E$30=""),"...",IFERROR(('A22 data'!$F$30/'A22 data'!$E$30-1)*100,"...")) | G29: =IF(OR('A22 data'!$G$30="",'A22 data'!$F$30=""),"...",IFERROR(('A22 data'!$G$30/'A22 data'!$F$30-1)*100,"...")) | H29: =IF(OR('A22 data'!$H$30="",'A22 data'!$G$30=""),"...",IFERROR(('A22 data'!$H$30/'A22 data'!$G$30-1)*100,"..."))
A30: Singapore | B30: =IF('A22 data'!$H$31="","...",'A22 data'!$H$31/1000) | C30: =IFERROR(IF('A22 data'!$D$31="","...",'A22 data'!$D$31/'A22 data'!$D$20*100),"...") | D30: =IFERROR(IF('A22 data'!$H$31="","...",'A22 data'!$H$31/'A22 data'!$H$20*100),"...") | E30: =IF(OR('A22 data'!$H$31="",'A22 data'!$D$31=""),"...",IFERROR((('A22 data'!$H$31/'A22 data'!$D$31)^(1/4)-1)*100,"...")) | F30: =IF(OR('A22 data'!$F$31="",'A22 data'!$E$31=""),"...",IFERROR(('A22 data'!$F$31/'A22 data'!$E$31-1)*100,"...")) | G30: =IF(OR('A22 data'!$G$31="",'A22 data'!$F$31=""),"...",IFERROR(('A22 data'!$G$31/'A22 data'!$F$31-1)*100,"...")) | H30: =IF(OR('A22 data'!$H$31="",'A22 data'!$G$31=""),"...",IFERROR(('A22 data'!$H$31/'A22 data'!$G$31-1)*100,"..."))
A31: Above 10 | B31: =IFERROR(B20+B22+B23+B24+B25+B26+B27+B28+B29+B30,"...") | C31: =IFERROR(C20+C22+C23+C24+C25+C26+C27+C28+C29+C30,"...") | D31: =IFERROR(D20+D22+D23+D24+D25+D26+D27+D28+D29+D30,"...") | E31: - | F31: - | G31: - | H31: -
A33: Notes
A34: The EU is ranked as one economy; its member states are not ranked. Extra-EU (the EU's trade with non-members) is shown beneath it and is not ranked.
A35: Before 2000 the EU figure is added up from the member states of each year (EC-9 in 1980, EC-10 in 1981-1985, EC-12 in 1986-1994, EU-15 in 1995-1999), the United Kingdom included; economies that joined later are ranked on their own. Extra-EU cannot be added up and shows "...". If a member state has no data for a year, the EU shows "...".
A36: EU changes and growth rates before 2000 compare the same member states in both years: those of the later year, added up for the earlier year too (for example, the change for 1995 is the EU-15 in 1995 against the same 15 in 1994), so they do not count an enlargement as growth. EU values and shares are for the members of each year.
A37: Where a former economy and its successor both report for the same year (for example West Germany and Germany), the former economy is ranked and the successor is not, so the same trade is not counted twice.
A38: Economies ranked in 1984: 109 exporters, 109 importers.
A39: "Above 10" is the sum of the ten ranked economies. "..." means not available.
A40: WTO publishes no world total for textiles exports and imports in 1984, so the shares for that year show "...".
A41: Shares are of world textiles exports or imports. 1980-84 is the compound annual rate of change.
A42: Figures for every year are as WTO published them on 2026-09-29; WTO revises past figures, so they can differ from the printed review.
...

Sheet A23 clothing
A1: Table A23, 1985 edition (trade data for 1984)
A2: Top 10 exporters and importers of clothing, 1984
A3: (Billion dollars and percentage)
A5: Economy | B5: Value 1984 (US$ bn) | C5: Share 1980 (%) | D5: Share 1984 (%) | E5: Change 1980-84 (% p.a.) | F5: Change 1982 (%) | G5: Change 1983 (%) | H5: Change 1984 (%)
A6: Exporters
A7: European Union (EC-10, added up) | B7: =IF('A23 data'!$H$5="","...",'A23 data'!$H$5/1000) | C7: =IFERROR(IF('A23 data'!$D$5="","...",'A23 data'!$D$5/'A23 data'!$D$4*100),"...") | D7: =IFERROR(IF('A23 data'!$H$5="","...",'A23 data'!$H$5/'A23 data'!$H$4*100),"...") | E7: =IF(OR('A23 data'!$H$19="",'A23 data'!$D$19=""),"...",IFERROR((('A23 data'!$H$19/'A23 data'!$D$19)^(1/4)-1)*100,"...")) | F7: =IF(OR('A23 data'!$F$16="",'A23 data'!$E$16=""),"...",IFERROR(('A23 data'!$F$16/'A23 data'!$E$16-1)*100,"...")) | G7: =IF(OR('A23 data'!$G$17="",'A23 data'!$F$17=""),"...",IFERROR(('A23 data'!$G$17/'A23 data'!$F$17-1)*100,"...")) | H7: =IF(OR('A23 data'!$H$18="",'A23 data'!$G$18=""),"...",IFERROR(('A23 data'!$H$18/'A23 data'!$G$18-1)*100,"..."))
A8: Extra-EU | B8: =IF('A23 data'!$H$6="","...",'A23 data'!$H$6/1000) | C8: =IFERROR(IF('A23 data'!$D$6="","...",'A23 data'!$D$6/'A23 data'!$D$4*100),"...") | D8: =IFERROR(IF('A23 data'!$H$6="","...",'A23 data'!$H$6/'A23 data'!$H$4*100),"...") | E8: =IF(OR('A23 data'!$H$6="",'A23 data'!$D$6=""),"...",IFERROR((('A23 data'!$H$6/'A23 data'!$D$6)^(1/4)-1)*100,"...")) | F8: =IF(OR('A23 data'!$F$6="",'A23 data'!$E$6=""),"...",IFERROR(('A23 data'!$F$6/'A23 data'!$E$6-1)*100,"...")) | G8: =IF(OR('A23 data'!$G$6="",'A23 data'!$F$6=""),"...",IFERROR(('A23 data'!$G$6/'A23 data'!$F$6-1)*100,"...")) | H8: =IF(OR('A23 data'!$H$6="",'A23 data'!$G$6=""),"...",IFERROR(('A23 data'!$H$6/'A23 data'!$G$6-1)*100,"..."))
A9: Hong Kong, China | B9: =IF('A23 data'!$H$7="","...",'A23 data'!$H$7/1000) | C9: =IFERROR(IF('A23 data'!$D$7="","...",'A23 data'!$D$7/'A23 data'!$D$4*100),"...") | D9: =IFERROR(IF('A23 data'!$H$7="","...",'A23 data'!$H$7/'A23 data'!$H$4*100),"...") | E9: =IF(OR('A23 data'!$H$7="",'A23 data'!$D$7=""),"...",IFERROR((('A23 data'!$H$7/'A23 data'!$D$7)^(1/4)-1)*100,"...")) | F9: =IF(OR('A23 data'!$F$7="",'A23 data'!$E$7=""),"...",IFERROR(('A23 data'!$F$7/'A23 data'!$E$7-1)*100,"...")) | G9: =IF(OR('A23 data'!$G$7="",'A23 data'!$F$7=""),"...",IFERROR(('A23 data'!$G$7/'A23 data'!$F$7-1)*100,"...")) | H9: =IF(OR('A23 data'!$H$7="",'A23 data'!$G$7=""),"...",IFERROR(('A23 data'!$H$7/'A23 data'!$G$7-1)*100,"..."))
A10: Korea, Republic of | B10: =IF('A23 data'!$H$8="","...",'A23 data'!$H$8/1000) | C10: =IFERROR(IF('A23 data'!$D$8="","...",'A23 data'!$D$8/'A23 data'!$D$4*100),"...") | D10: =IFERROR(IF('A23 data'!$H$8="","...",'A23 data'!$H$8/'A23 data'!$H$4*100),"...") | E10: =IF(OR('A23 data'!$H$8="",'A23 data'!$D$8=""),"...",IFERROR((('A23 data'!$H$8/'A23 data'!$D$8)^(1/4)-1)*100,"...")) | F10: =IF(OR('A23 data'!$F$8="",'A23 data'!$E$8=""),"...",IFERROR(('A23 data'!$F$8/'A23 data'!$E$8-1)*100,"...")) | G10: =IF(OR('A23 data'!$G$8="",'A23 data'!$F$8=""),"...",IFERROR(('A23 data'!$G$8/'A23 data'!$F$8-1)*100,"...")) | H10: =IF(OR('A23 data'!$H$8="",'A23 data'!$G$8=""),"...",IFERROR(('A23 data'!$H$8/'A23 data'!$G$8-1)*100,"..."))
A11: Chinese Taipei | B11: =IF('A23 data'!$H$9="","...",'A23 data'!$H$9/1000) | C11: =IFERROR(IF('A23 data'!$D$9="","...",'A23 data'!$D$9/'A23 data'!$D$4*100),"...") | D11: =IFERROR(IF('A23 data'!$H$9="","...",'A23 data'!$H$9/'A23 data'!$H$4*100),"...") | E11: =IF(OR('A23 data'!$H$9="",'A23 data'!$D$9=""),"...",IFERROR((('A23 data'!$H$9/'A23 data'!$D$9)^(1/4)-1)*100,"...")) | F11: =IF(OR('A23 data'!$F$9="",'A23 data'!$E$9=""),"...",IFERROR(('A23 data'!$F$9/'A23 data'!$E$9-1)*100,"...")) | G11: =IF(OR('A23 data'!$G$9="",'A23 data'!$F$9=""),"...",IFERROR(('A23 data'!$G$9/'A23 data'!$F$9-1)*100,"...")) | H11: =IF(OR('A23 data'!$H$9="",'A23 data'!$G$9=""),"...",IFERROR(('A23 data'!$H$9/'A23 data'!$G$9-1)*100,"..."))
A12: China | B12: =IF('A23 data'!$H$10="","...",'A23 data'!$H$10/1000) | C12: =IFERROR(IF('A23 data'!$D$10="","...",'A23 data'!$D$10/'A23 data'!$D$4*100),"...") | D12: =IFERROR(IF('A23 data'!$H$10="","...",'A23 data'!$H$10/'A23 data'!$H$4*100),"...") | E12: =IF(OR('A23 data'!$H$10="",'A23 data'!$D$10=""),"...",IFERROR((('A23 data'!$H$10/'A23 data'!$D$10)^(1/4)-1)*100,"...")) | F12: =IF(OR('A23 data'!$F$10="",'A23 data'!$E$10=""),"...",IFERROR(('A23 data'!$F$10/'A23 data'!$E$10-1)*100,"...")) | G12: =IF(OR('A23 data'!$G$10="",'A23 data'!$F$10=""),"...",IFERROR(('A23 data'!$G$10/'A23 data'!$F$10-1)*100,"...")) | H12: =IF(OR('A23 data'!$H$10="",'A23 data'!$G$10=""),"...",IFERROR(('A23 data'!$H$10/'A23 data'!$G$10-1)*100,"..."))
A13: Türkiye | B13: =IF('A23 data'!$H$11="","...",'A23 data'!$H$11/1000) | C13: =IFERROR(IF('A23 data'!$D$11="","...",'A23 data'!$D$11/'A23 data'!$D$4*100),"...") | D13: =IFERROR(IF('A23 data'!$H$11="","...",'A23 data'!$H$11/'A23 data'!$H$4*100),"...") | E13: =IF(OR('A23 data'!$H$11="",'A23 data'!$D$11=""),"...",IFERROR((('A23 data'!$H$11/'A23 data'!$D$11)^(1/4)-1)*100,"...")) | F13: =IF(OR('A23 data'!$F$11="",'A23 data'!$E$11=""),"...",IFERROR(('A23 data'!$F$11/'A23 data'!$E$11-1)*100,"...")) | G13: =IF(OR('A23 data'!$G$11="",'A23 data'!$F$11=""),"...",IFERROR(('A23 data'!$G$11/'A23 data'!$F$11-1)*100,"...")) | H13: =IF(OR('A23 data'!$H$11="",'A23 data'!$G$11=""),"...",IFERROR(('A23 data'!$H$11/'A23 data'!$G$11-1)*100,"..."))
A14: United States of America | B14: =IF('A23 data'!$H$12="","...",'A23 data'!$H$12/1000) | C14: =IFERROR(IF('A23 data'!$D$12="","...",'A23 data'!$D$12/'A23 data'!$D$4*100),"...") | D14: =IFERROR(IF('A23 data'!$H$12="","...",'A23 data'!$H$12/'A23 data'!$H$4*100),"...") | E14: =IF(OR('A23 data'!$H$12="",'A23 data'!$D$12=""),"...",IFERROR((('A23 data'!$H$12/'A23 data'!$D$12)^(1/4)-1)*100,"...")) | F14: =IF(OR('A23 data'!$F$12="",'A23 data'!$E$12=""),"...",IFERROR(('A23 data'!$F$12/'A23 data'!$E$12-1)*100,"...")) | G14: =IF(OR('A23 data'!$G$12="",'A23 data'!$F$12=""),"...",IFERROR(('A23 data'!$G$12/'A23 data'!$F$12-1)*100,"...")) | H14: =IF(OR('A23 data'!$H$12="",'A23 data'!$G$12=""),"...",IFERROR(('A23 data'!$H$12/'A23 data'!$G$12-1)*100,"..."))
A15: India | B15: =IF('A23 data'!$H$13="","...",'A23 data'!$H$13/1000) | C15: =IFERROR(IF('A23 data'!$D$13="","...",'A23 data'!$D$13/'A23 data'!$D$4*100),"...") | D15: =IFERROR(IF('A23 data'!$H$13="","...",'A23 data'!$H$13/'A23 data'!$H$4*100),"...") | E15: =IF(OR('A23 data'!$H$13="",'A23 data'!$D$13=""),"...",IFERROR((('A23 data'!$H$13/'A23 data'!$D$13)^(1/4)-1)*100,"...")) | F15: =IF(OR('A23 data'!$F$13="",'A23 data'!$E$13=""),"...",IFERROR(('A23 data'!$F$13/'A23 data'!$E$13-1)*100,"...")) | G15: =IF(OR('A23 data'!$G$13="",'A23 data'!$F$13=""),"...",IFERROR(('A23 data'!$G$13/'A23 data'!$F$13-1)*100,"...")) | H15: =IF(OR('A23 data'!$H$13="",'A23 data'!$G$13=""),"...",IFERROR(('A23 data'!$H$13/'A23 data'!$G$13-1)*100,"..."))
A16: Portugal | B16: =IF('A23 data'!$H$14="","...",'A23 data'!$H$14/1000) | C16: =IFERROR(IF('A23 data'!$D$14="","...",'A23 data'!$D$14/'A23 data'!$D$4*100),"...") | D16: =IFERROR(IF('A23 data'!$H$14="","...",'A23 data'!$H$14/'A23 data'!$H$4*100),"...") | E16: =IF(OR('A23 data'!$H$14="",'A23 data'!$D$14=""),"...",IFERROR((('A23 data'!$H$14/'A23 data'!$D$14)^(1/4)-1)*100,"...")) | F16: =IF(OR('A23 data'!$F$14="",'A23 data'!$E$14=""),"...",IFERROR(('A23 data'!$F$14/'A23 data'!$E$14-1)*100,"...")) | G16: =IF(OR('A23 data'!$G$14="",'A23 data'!$F$14=""),"...",IFERROR(('A23 data'!$G$14/'A23 data'!$F$14-1)*100,"...")) | H16: =IF(OR('A23 data'!$H$14="",'A23 data'!$G$14=""),"...",IFERROR(('A23 data'!$H$14/'A23 data'!$G$14-1)*100,"..."))
A17: Japan | B17: =IF('A23 data'!$H$15="","...",'A23 data'!$H$15/1000) | C17: =IFERROR(IF('A23 data'!$D$15="","...",'A23 data'!$D$15/'A23 data'!$D$4*100),"...") | D17: =IFERROR(IF('A23 data'!$H$15="","...",'A23 data'!$H$15/'A23 data'!$H$4*100),"...") | E17: =IF(OR('A23 data'!$H$15="",'A23 data'!$D$15=""),"...",IFERROR((('A23 data'!$H$15/'A23 data'!$D$15)^(1/4)-1)*100,"...")) | F17: =IF(OR('A23 data'!$F$15="",'A23 data'!$E$15=""),"...",IFERROR(('A23 data'!$F$15/'A23 data'!$E$15-1)*100,"...")) | G17: =IF(OR('A23 data'!$G$15="",'A23 data'!$F$15=""),"...",IFERROR(('A23 data'!$G$15/'A23 data'!$F$15-1)*100,"...")) | H17: =IF(OR('A23 data'!$H$15="",'A23 data'!$G$15=""),"...",IFERROR(('A23 data'!$H$15/'A23 data'!$G$15-1)*100,"..."))
A18: Above 10 | B18: =IFERROR(B7+B9+B10+B11+B12+B13+B14+B15+B16+B17,"...") | C18: =IFERROR(C7+C9+C10+C11+C12+C13+C14+C15+C16+C17,"...") | D18: =IFERROR(D7+D9+D10+D11+D12+D13+D14+D15+D16+D17,"...") | E18: - | F18: - | G18: - | H18: -
A19: Importers
A20: European Union (EC-10, added up) | B20: =IF('A23 data'!$H$21="","...",'A23 data'!$H$21/1000) | C20: =IFERROR(IF('A23 data'!$D$21="","...",'A23 data'!$D$21/'A23 data'!$D$20*100),"...") | D20: =IFERROR(IF('A23 data'!$H$21="","...",'A23 data'!$H$21/'A23 data'!$H$20*100),"...") | E20: =IF(OR('A23 data'!$H$35="",'A23 data'!$D$35=""),"...",IFERROR((('A23 data'!$H$35/'A23 data'!$D$35)^(1/4)-1)*100,"...")) | F20: =IF(OR('A23 data'!$F$32="",'A23 data'!$E$32=""),"...",IFERROR(('A23 data'!$F$32/'A23 data'!$E$32-1)*100,"...")) | G20: =IF(OR('A23 data'!$G$33="",'A23 data'!$F$33=""),"...",IFERROR(('A23 data'!$G$33/'A23 data'!$F$33-1)*100,"...")) | H20: =IF(OR('A23 data'!$H$34="",'A23 data'!$G$34=""),"...",IFERROR(('A23 data'!$H$34/'A23 data'!$G$34-1)*100,"..."))
A21: Extra-EU | B21: =IF('A23 data'!$H$22="","...",'A23 data'!$H$22/1000) | C21: =IFERROR(IF('A23 data'!$D$22="","...",'A23 data'!$D$22/'A23 data'!$D$20*100),"...") | D21: =IFERROR(IF('A23 data'!$H$22="","...",'A23 data'!$H$22/'A23 data'!$H$20*100),"...") | E21: =IF(OR('A23 data'!$H$22="",'A23 data'!$D$22=""),"...",IFERROR((('A23 data'!$H$22/'A23 data'!$D$22)^(1/4)-1)*100,"...")) | F21: =IF(OR('A23 data'!$F$22="",'A23 data'!$E$22=""),"...",IFERROR(('A23 data'!$F$22/'A23 data'!$E$22-1)*100,"...")) | G21: =IF(OR('A23 data'!$G$22="",'A23 data'!$F$22=""),"...",IFERROR(('A23 data'!$G$22/'A23 data'!$F$22-1)*100,"...")) | H21: =IF(OR('A23 data'!$H$22="",'A23 data'!$G$22=""),"...",IFERROR(('A23 data'!$H$22/'A23 data'!$G$22-1)*100,"..."))
A22: United States of America | B22: =IF('A23 data'!$H$23="","...",'A23 data'!$H$23/1000) | C22: =IFERROR(IF('A23 data'!$D$23="","...",'A23 data'!$D$23/'A23 data'!$D$20*100),"...") | D22: =IFERROR(IF('A23 data'!$H$23="","...",'A23 data'!$H$23/'A23 data'!$H$20*100),"...") | E22: =IF(OR('A23 data'!$H$23="",'A23 data'!$D$23=""),"...",IFERROR((('A23 data'!$H$23/'A23 data'!$D$23)^(1/4)-1)*100,"...")) | F22: =IF(OR('A23 data'!$F$23="",'A23 data'!$E$23=""),"...",IFERROR(('A23 data'!$F$23/'A23 data'!$E$23-1)*100,"...")) | G22: =IF(OR('A23 data'!$G$23="",'A23 data'!$F$23=""),"...",IFERROR(('A23 data'!$G$23/'A23 data'!$F$23-1)*100,"...")) | H22: =IF(OR('A23 data'!$H$23="",'A23 data'!$G$23=""),"...",IFERROR(('A23 data'!$H$23/'A23 data'!$G$23-1)*100,"..."))
A23: U.S.S.R. | B23: =IF('A23 data'!$H$24="","...",'A23 data'!$H$24/1000) | C23: =IFERROR(IF('A23 data'!$D$24="","...",'A23 data'!$D$24/'A23 data'!$D$20*100),"...") | D23: =IFERROR(IF('A23 data'!$H$24="","...",'A23 data'!$H$24/'A23 data'!$H$20*100),"...") | E23: =IF(OR('A23 data'!$H$24="",'A23 data'!$D$24=""),"...",IFERROR((('A23 data'!$H$24/'A23 data'!$D$24)^(1/4)-1)*100,"...")) | F23: =IF(OR('A23 data'!$F$24="",'A23 data'!$E$24=""),"...",IFERROR(('A23 data'!$F$24/'A23 data'!$E$24-1)*100,"...")) | G23: =IF(OR('A23 data'!$G$24="",'A23 data'!$F$24=""),"...",IFERROR(('A23 data'!$G$24/'A23 data'!$F$24-1)*100,"...")) | H23: =IF(OR('A23 data'!$H$24="",'A23 data'!$G$24=""),"...",IFERROR(('A23 data'!$H$24/'A23 data'!$G$24-1)*100,"..."))
A24: Japan | B24: =IF('A23 data'!$H$25="","...",'A23 data'!$H$25/1000) | C24: =IFERROR(IF('A23 data'!$D$25="","...",'A23 data'!$D$25/'A23 data'!$D$20*100),"...") | D24: =IFERROR(IF('A23 data'!$H$25="","...",'A23 data'!$H$25/'A23 data'!$H$20*100),"...") | E24: =IF(OR('A23 data'!$H$25="",'A23 data'!$D$25=""),"...",IFERROR((('A23 data'!$H$25/'A23 data'!$D$25)^(1/4)-1)*100,"...")) | F24: =IF(OR('A23 data'!$F$25="",'A23 data'!$E$25=""),"...",IFERROR(('A23 data'!$F$25/'A23 data'!$E$25-1)*100,"...")) | G24: =IF(OR('A23 data'!$G$25="",'A23 data'!$F$25=""),"...",IFERROR(('A23 data'!$G$25/'A23 data'!$F$25-1)*100,"...")) | H24: =IF(OR('A23 data'!$H$25="",'A23 data'!$G$25=""),"...",IFERROR(('A23 data'!$H$25/'A23 data'!$G$25-1)*100,"..."))
A25: Hong Kong, China | B25: =IF('A23 data'!$H$26="","...",'A23 data'!$H$26/1000) | C25: =IFERROR(IF('A23 data'!$D$26="","...",'A23 data'!$D$26/'A23 data'!$D$20*100),"...") | D25: =IFERROR(IF('A23 data'!$H$26="","...",'A23 data'!$H$26/'A23 data'!$H$20*100),"...") | E25: =IF(OR('A23 data'!$H$26="",'A23 data'!$D$26=""),"...",IFERROR((('A23 data'!$H$26/'A23 data'!$D$26)^(1/4)-1)*100,"...")) | F25: =IF(OR('A23 data'!$F$26="",'A23 data'!$E$26=""),"...",IFERROR(('A23 data'!$F$26/'A23 data'!$E$26-1)*100,"...")) | G25: =IF(OR('A23 data'!$G$26="",'A23 data'!$F$26=""),"...",IFERROR(('A23 data'!$G$26/'A23 data'!$F$26-1)*100,"...")) | H25: =IF(OR('A23 data'!$H$26="",'A23 data'!$G$26=""),"...",IFERROR(('A23 data'!$H$26/'A23 data'!$G$26-1)*100,"..."))
A26: Switzerland | B26: =IF('A23 data'!$H$27="","...",'A23 data'!$H$27/1000) | C26: =IFERROR(IF('A23 data'!$D$27="","...",'A23 data'!$D$27/'A23 data'!$D$20*100),"...") | D26: =IFERROR(IF('A23 data'!$H$27="","...",'A23 data'!$H$27/'A23 data'!$H$20*100),"...") | E26: =IF(OR('A23 data'!$H$27="",'A23 data'!$D$27=""),"...",IFERROR((('A23 data'!$H$27/'A23 data'!$D$27)^(1/4)-1)*100,"...")) | F26: =IF(OR('A23 data'!$F$27="",'A23 data'!$E$27=""),"...",IFERROR(('A23 data'!$F$27/'A23 data'!$E$27-1)*100,"...")) | G26: =IF(OR('A23 data'!$G$27="",'A23 data'!$F$27=""),"...",IFERROR(('A23 data'!$G$27/'A23 data'!$F$27-1)*100,"...")) | H26: =IF(OR('A23 data'!$H$27="",'A23 data'!$G$27=""),"...",IFERROR(('A23 data'!$H$27/'A23 data'!$G$27-1)*100,"..."))
A27: Canada | B27: =IF('A23 data'!$H$28="","...",'A23 data'!$H$28/1000) | C27: =IFERROR(IF('A23 data'!$D$28="","...",'A23 data'!$D$28/'A23 data'!$D$20*100),"...") | D27: =IFERROR(IF('A23 data'!$H$28="","...",'A23 data'!$H$28/'A23 data'!$H$20*100),"...") | E27: =IF(OR('A23 data'!$H$28="",'A23 data'!$D$28=""),"...",IFERROR((('A23 data'!$H$28/'A23 data'!$D$28)^(1/4)-1)*100,"...")) | F27: =IF(OR('A23 data'!$F$28="",'A23 data'!$E$28=""),"...",IFERROR(('A23 data'!$F$28/'A23 data'!$E$28-1)*100,"...")) | G27: =IF(OR('A23 data'!$G$28="",'A23 data'!$F$28=""),"...",IFERROR(('A23 data'!$G$28/'A23 data'!$F$28-1)*100,"...")) | H27: =IF(OR('A23 data'!$H$28="",'A23 data'!$G$28=""),"...",IFERROR(('A23 data'!$H$28/'A23 data'!$G$28-1)*100,"..."))
A28: Sweden | B28: =IF('A23 data'!$H$29="","...",'A23 data'!$H$29/1000) | C28: =IFERROR(IF('A23 data'!$D$29="","...",'A23 data'!$D$29/'A23 data'!$D$20*100),"...") | D28: =IFERROR(IF('A23 data'!$H$29="","...",'A23 data'!$H$29/'A23 data'!$H$20*100),"...") | E28: =IF(OR('A23 data'!$H$29="",'A23 data'!$D$29=""),"...",IFERROR((('A23 data'!$H$29/'A23 data'!$D$29)^(1/4)-1)*100,"...")) | F28: =IF(OR('A23 data'!$F$29="",'A23 data'!$E$29=""),"...",IFERROR(('A23 data'!$F$29/'A23 data'!$E$29-1)*100,"...")) | G28: =IF(OR('A23 data'!$G$29="",'A23 data'!$F$29=""),"...",IFERROR(('A23 data'!$G$29/'A23 data'!$F$29-1)*100,"...")) | H28: =IF(OR('A23 data'!$H$29="",'A23 data'!$G$29=""),"...",IFERROR(('A23 data'!$H$29/'A23 data'!$G$29-1)*100,"..."))
A29: Saudi Arabia, Kingdom of | B29: =IF('A23 data'!$H$30="","...",'A23 data'!$H$30/1000) | C29: =IFERROR(IF('A23 data'!$D$30="","...",'A23 data'!$D$30/'A23 data'!$D$20*100),"...") | D29: =IFERROR(IF('A23 data'!$H$30="","...",'A23 data'!$H$30/'A23 data'!$H$20*100),"...") | E29: =IF(OR('A23 data'!$H$30="",'A23 data'!$D$30=""),"...",IFERROR((('A23 data'!$H$30/'A23 data'!$D$30)^(1/4)-1)*100,"...")) | F29: =IF(OR('A23 data'!$F$30="",'A23 data'!$E$30=""),"...",IFERROR(('A23 data'!$F$30/'A23 data'!$E$30-1)*100,"...")) | G29: =IF(OR('A23 data'!$G$30="",'A23 data'!$F$30=""),"...",IFERROR(('A23 data'!$G$30/'A23 data'!$F$30-1)*100,"...")) | H29: =IF(OR('A23 data'!$H$30="",'A23 data'!$G$30=""),"...",IFERROR(('A23 data'!$H$30/'A23 data'!$G$30-1)*100,"..."))
A30: Austria | B30: =IF('A23 data'!$H$31="","...",'A23 data'!$H$31/1000) | C30: =IFERROR(IF('A23 data'!$D$31="","...",'A23 data'!$D$31/'A23 data'!$D$20*100),"...") | D30: =IFERROR(IF('A23 data'!$H$31="","...",'A23 data'!$H$31/'A23 data'!$H$20*100),"...") | E30: =IF(OR('A23 data'!$H$31="",'A23 data'!$D$31=""),"...",IFERROR((('A23 data'!$H$31/'A23 data'!$D$31)^(1/4)-1)*100,"...")) | F30: =IF(OR('A23 data'!$F$31="",'A23 data'!$E$31=""),"...",IFERROR(('A23 data'!$F$31/'A23 data'!$E$31-1)*100,"...")) | G30: =IF(OR('A23 data'!$G$31="",'A23 data'!$F$31=""),"...",IFERROR(('A23 data'!$G$31/'A23 data'!$F$31-1)*100,"...")) | H30: =IF(OR('A23 data'!$H$31="",'A23 data'!$G$31=""),"...",IFERROR(('A23 data'!$H$31/'A23 data'!$G$31-1)*100,"..."))
A31: Above 10 | B31: =IFERROR(B20+B22+B23+B24+B25+B26+B27+B28+B29+B30,"...") | C31: =IFERROR(C20+C22+C23+C24+C25+C26+C27+C28+C29+C30,"...") | D31: =IFERROR(D20+D22+D23+D24+D25+D26+D27+D28+D29+D30,"...") | E31: - | F31: - | G31: - | H31: -
A33: Notes
A34: The EU is ranked as one economy; its member states are not ranked. Extra-EU (the EU's trade with non-members) is shown beneath it and is not ranked.
A35: Before 2000 the EU figure is added up from the member states of each year (EC-9 in 1980, EC-10 in 1981-1985, EC-12 in 1986-1994, EU-15 in 1995-1999), the United Kingdom included; economies that joined later are ranked on their own. Extra-EU cannot be added up and shows "...". If a member state has no data for a year, the EU shows "...".
A36: EU changes and growth rates before 2000 compare the same member states in both years: those of the later year, added up for the earlier year too (for example, the change for 1995 is the EU-15 in 1995 against the same 15 in 1994), so they do not count an enlargement as growth. EU values and shares are for the members of each year.
A37: Where a former economy and its successor both report for the same year (for example West Germany and Germany), the former economy is ranked and the successor is not, so the same trade is not counted twice.
A38: Economies ranked in 1984: 97 exporters, 125 importers.
A39: "Above 10" is the sum of the ten ranked economies. "..." means not available.
A40: WTO publishes no world total for clothing exports and imports in 1984, so the shares for that year show "...".
A41: Shares are of world clothing exports or imports. 1980-84 is the compound annual rate of change.
A42: Figures for every year are as WTO published them on 2026-09-29; WTO revises past figures, so they can differ from the printed review.
...

Sheet A22 data
A1: Raw data for table A22 (textiles), 1985 edition (trade data for 1984), US$ million. Source: WTO Timeseries via WTO Timeseries API v1 (api.wto.org).
A2: EU: WTO's EU-27 series from 2000; before 2000 added up from the member states of each year. Extra-EU from 2000 only. Rows "members of <year>" add up the same member states in two years, for the EU's changes and growth before 2000.
A3: Flow | B3: Code | C3: Economy | D3: 1980 | E3: 1981 | F3: 1982 | G3: 1983 | H3: 1984
A4: Exporters | B4: 000 | C4: World | D4: 54990
A5: Exporters | B5: 918 | C5: European Union (EC-10, added up) | D5: 23864 | E5: 21127 | F5: 19943 | G5: 19758 | H5: 20333
A6: Exporters | B6: EUT | C6: Extra-EU
A7: Exporters | B7: 392 | C7: Japan | D7: 5123 | E7: 5869 | F7: 5102 | G7: 5345 | H7: 5358
A8: Exporters | B8: 156 | C8: China | D8: 2540 | E8: 3390 | F8: 2735 | G8: 3270 | H8: 3825
A9: Exporters | B9: 344 | C9: Hong Kong, China | D9: 1771 | E9: 2183 | F9: 1888 | G9: 2033 | H9: 2726
A10: Exporters | B10: 410 | C10: Korea, Republic of | D10: 2209 | E10: 2460 | F10: 2251 | G10: 2423 | H10: 2615
A11: Exporters | B11: 840 | C11: United States of America | D11: 3757 | E11: 3742 | F11: 2890 | G11: 2500 | H11: 2535
A12: Exporters | B12: 158 | C12: Chinese Taipei | D12: 1771 | E12: 2022 | F12: 1748 | G12: 1803 | H12: 2169
A13: Exporters | B13: 756 | C13: Switzerland | D13: 1534 | E13: 1393 | F13: 1376 | G13: 1374 | H13: 1369
A14: Exporters | B14: 356 | C14: India | D14: 1306 | E14: 1168 | F14: 1064 | G14: 889 | H14: 1175
A15: Exporters | B15: 792 | C15: Türkiye | D15: 343 | E15: 569 | F15: 767 | G15: 853 | H15: 1006
A16: Exporters | B16: 918 | C16: European Union, members of 1982 (EC-10), 1981 and 1982 | E16: 21127 | F16: 19943
A17: Exporters | B17: 918 | C17: European Union, members of 1983 (EC-10), 1982 and 1983 | F17: 19943 | G17: 19758
A18: Exporters | B18: 918 | C18: European Union, members of 1984 (EC-10), 1983 and 1984 | G18: 19758 | H18: 20333
A19: Exporters | B19: 918 | C19: European Union, members of 1984 (EC-10), 1980 and 1984 | D19: 24346 | H19: 20333
A20: Importers | B20: 000 | C20: World | D20: 56975
A21: Importers | B21: 918 | C21: European Union (EC-10, added up) | D21: 22886 | E21: 19199 | F21: 18414 | G21: 18191 | H21: 18605
A22: Importers | B22: EUT | C22: Extra-EU
A23: Importers | B23: 840 | C23: United States of America | D23: 2542 | E23: 3072 | F23: 2852 | G23: 3276 | H23: 4617
A24: Importers | B24: 344 | C24: Hong Kong, China | D24: 2967 | E24: 3428 | F24: 2970 | G24: 3278 | H24: 4178
A25: Importers | B25: 810 | C25: U.S.S.R. | D25: 2110 | E25: 1980 | F25: 2000 | G25: 1470 | H25: 1970
A26: Importers | B26: 392 | C26: Japan | D26: 1722 | E26: 1639 | F26: 1612 | G26: 1496 | H26: 1934
A27: Importers | B27: 124 | C27: Canada | D27: 1306 | E27: 1413 | F27: 1138 | G27: 1406 | H27: 1570
A28: Importers | B28: 682 | C28: Saudi Arabia, Kingdom of | D28: 1337 | E28: 1433 | F28: 1593 | G28: 1753 | H28: 1566
A29: Importers | B29: 156 | C29: China | D29: 1100 | E29: 1670 | F29: 1170 | G29: 911 | H29: 1370
A30: Importers | B30: 036 | C30: Australia | D30: 1117 | E30: 1163 | F30: 1118 | G30: 987 | H30: 1219
A31: Importers | B31: 702 | C31: Singapore | D31: 853 | E31: 896 | F31: 896 | G31: 971 | H31: 948
A32: Importers | B32: 918 | C32: European Union, members of 1982 (EC-10), 1981 and 1982 | E32: 19199 | F32: 18414
A33: Importers | B33: 918 | C33: European Union, members of 1983 (EC-10), 1982 and 1983 | F33: 18414 | G33: 18191
A34: Importers | B34: 918 | C34: European Union, members of 1984 (EC-10), 1983 and 1984 | G34: 18191 | H34: 18605
A35: Importers | B35: 918 | C35: European Union, members of 1984 (EC-10), 1980 and 1984 | D35: 23061 | H35: 18605

Sheet A23 data
A1: Raw data for table A23 (clothing), 1985 edition (trade data for 1984), US$ million. Source: WTO Timeseries via WTO Timeseries API v1 (api.wto.org).
A2: EU: WTO's EU-27 series from 2000; before 2000 added up from the member states of each year. Extra-EU from 2000 only. Rows "members of <year>" add up the same member states in two years, for the EU's changes and growth before 2000.
A3: Flow | B3: Code | C3: Economy | D3: 1980 | E3: 1981 | F3: 1982 | G3: 1983 | H3: 1984
A4: Exporters | B4: 000 | C4: World | D4: 40590
A5: Exporters | B5: 918 | C5: European Union (EC-10, added up) | D5: 14026 | E5: 12883 | F5: 12592 | G5: 12575 | H5: 13092
A6: Exporters | B6: EUT | C6: Extra-EU
A7: Exporters | B7: 344 | C7: Hong Kong, China | D7: 4976 | E7: 5424 | F7: 5241 | G7: 5308 | H7: 6765
A8: Exporters | B8: 410 | C8: Korea, Republic of | D8: 2949 | E8: 3868 | F8: 3774 | G8: 3707 | H8: 4501
A9: Exporters | B9: 158 | C9: Chinese Taipei | D9: 2430 | E9: 2851 | F9: 2895 | G9: 2987 | H9: 3764
A10: Exporters | B10: 156 | C10: China | D10: 1625 | E10: 1930 | F10: 2140 | G10: 2320 | H10: 2755
A11: Exporters | B11: 792 | C11: Türkiye | D11: 131 | E11: 314 | F11: 398 | G11: 648 | H11: 1267
A12: Exporters | B12: 840 | C12: United States of America | D12: 1263 | E12: 1305 | F12: 1040 | G12: 928 | H12: 900
A13: Exporters | B13: 356 | C13: India | D13: 673 | E13: 755 | F13: 625 | G13: 694 | H13: 831
A14: Exporters | B14: 620 | C14: Portugal | D14: 631 | E14: 566 | F14: 635 | G14: 685 | H14: 810
A15: Exporters | B15: 392 | C15: Japan | D15: 488 | E15: 562 | F15: 532 | G15: 641 | H15: 758
A16: Exporters | B16: 918 | C16: European Union, members of 1982 (EC-10), 1981 and 1982 | E16: 12883 | F16: 12592
A17: Exporters | B17: 918 | C17: European Union, members of 1983 (EC-10), 1982 and 1983 | F17: 12592 | G17: 12575
A18: Exporters | B18: 918 | C18: European Union, members of 1984 (EC-10), 1983 and 1984 | G18: 12575 | H18: 13092
A19: Exporters | B19: 918 | C19: European Union, members of 1984 (EC-10), 1980 and 1984 | D19: 14424 | H19: 13092
A20: Importers | B20: 000 | C20: World | D20: 42271
A21: Importers | B21: 918 | C21: European Union (EC-10, added up) | D21: 20232 | E21: 17938 | F21: 16975 | G21: 16317 | H21: 16790
A22: Importers | B22: EUT | C22: Extra-EU
A23: Importers | B23: 840 | C23: United States of America | D23: 6943 | E23: 8118 | F23: 8791 | G23: 10418 | H23: 14598
A24: Importers | B24: 810 | C24: U.S.S.R. | D24: 2530 | E24: 2640 | F24: 2680 | G24: 2570 | H24: 2700
A25: Importers | B25: 392 | C25: Japan | D25: 1537 | E25: 1813 | F25: 1844 | G25: 1511 | H25: 1962
A26: Importers | B26: 344 | C26: Hong Kong, China | D26: 695 | E26: 932 | F26: 1061 | G26: 1156 | H26: 1472
A27: Importers | B27: 756 | C27: Switzerland | D27: 1456 | E27: 1370 | F27: 1372 | G27: 1376 | H27: 1443
A28: Importers | B28: 124 | C28: Canada | D28: 715 | E28: 844 | F28: 841 | G28: 1027 | H28: 1296
A29: Importers | B29: 752 | C29: Sweden | D29: 1344 | E29: 1152 | F29: 1081 | G29: 939 | H29: 975
A30: Importers | B30: 682 | C30: Saudi Arabia, Kingdom of | D30: 674 | E30: 762 | F30: 854 | G30: 996 | H30: 949
A31: Importers | B31: 040 | C31: Austria | D31: 941 | E31: 766 | F31: 772 | G31: 829 | H31: 871
A32: Importers | B32: 918 | C32: European Union, members of 1982 (EC-10), 1981 and 1982 | E32: 17938 | F32: 16975
A33: Importers | B33: 918 | C33: European Union, members of 1983 (EC-10), 1982 and 1983 | F33: 16975 | G33: 16317
A34: Importers | B34: 918 | C34: European Union, members of 1984 (EC-10), 1983 and 1984 | G34: 16317 | H34: 16790
A35: Importers | B35: 918 | C35: European Union, members of 1984 (EC-10), 1980 and 1984 | D35: 20263 | H35: 16790
